{"text_format":"1","workbook":"xlsx","n_sheets":21,"sheets":["Obsah","B1.1","B1.2","B1.3","B1.4","B1.5","B1.6","B1.7","B1.8","B1.9","B1.10","B1.11","B1.12","B1.13","B1.14","GB1","GB2","GB3","GB4","GB5","GB6"],"not_rendered":{"charts":7,"images":5,"macros":1,"external_links":0,"defined_names":95,"comments":0,"pivot_tables":0},"unopened":[],"bounds":{"document_bytes":16777216,"sheet_cells":100000,"rows_first":2000,"rows_last":500,"rows_between":2000,"halvings":0,"cell_chars":16384,"cell_head_chars":4096},"cells_cut":0,"cells_raw":0,"read":"whole","date_system":"1900"}

{"sheet":"Obsah","index":0,"n_rows":47,"n_cols":5,"rows_kept":47,"cut":false,"hidden":false,"merged":[]}
[]
[]
[null,null,"B1 Vývoj českého školství jako celku"]
[null,null,"Zdroje dat jsou uvedeny v zápatí jednotlivých tabulek"]
[]
[null,null,null,null,"Obsah"]
[]
[null,null,"Tabulka 1",null,{"$f":"B1.1!H4&\" \"&B1.1!D5","v":"Školství celkem – počty škol  ve školním/akademickém roce 2004/05 až 2013/14 – podle druhu školy"}]
[]
[null,null,"Tabulka 2",null,{"$f":"B1.2!H4&\" \"&B1.2!D5","v":"Školství celkem – počty dětí/žáků/studentů  ve školním/akademickém roce 2004/05 až 2013/14 – podle druhu školy "}]
[]
[null,null,"Tabulka 3",null,{"$f":"B1.3!H4&\" \"&B1.3!D5","v":"Školství celkem – počty cizinců ve školním/akademickém roce 2004/05 až 2013/14 – podle druhu školy "}]
[]
[null,null,"Tabulka 4",null,{"$f":"B1.4!H4&\" \"&B1.4!D5","v":"Školství celkem – přepočtené počty učitelů/akademických pracovníků/nekvalifikovaných ve školním/akademickém roce 2004/05 až 2013/14 – podle druhu školy"}]
[]
[null,null,"Tabulka 5",null,{"$f":"B1.5!H4&\" \"&B1.5!D5","v":"Školství celkem – veřejné výdaje na školství v běžných cenách v letech 2004 až 2013"}]
[]
[null,null,"Tabulka 6",null,{"$f":"B1.6!H4&\" \"&B1.6!D5","v":"Školství celkem – veřejné výdaje na školství ve stálých cenách roku 2005 v letech 2004 až 2013"}]
[]
[null,null,"Tabulka 7",null,{"$f":"B1.7!H4&\" \"&B1.7!D5","v":"Školství celkem – veřejné výdaje na školství v běžných cenách  v letech 2004 až 2013 – podle jednotlivých kapitol státního rozpočtu"}]
[]
[null,null,"Tabulka 8",null,{"$f":"B1.8!H4&\" \"&B1.8!D5","v":"Školství celkem – veřejné výdaje v běžných cenách  v letech 2004 až 2013 – podle druhu/typu školy/zařízení"}]
[]
[null,null,"Tabulka 9",null,{"$f":"B1.9!H4&\" \"&B1.9!D5","v":"Školství celkem – veřejné výdaje ve stálých cenách roku 2005 v letech 2004 až 2013 – podle druhu/typu školy/zařízení"}]
[]
[null,null,"Tabulka 10",null,{"$f":"B1.10!H4&\" \"&B1.10!D5","v":"Školství celkem – jednotkové výdaje na žáka/studenta v běžných cenách v letech 2004 až 2013 – podle druhu/typu školy"}]
[]
[null,null,"Tabulka 11",null,{"$f":"B1.11!H4&\" \"&B1.11!D5","v":"Školství celkem – jednotkové výdaje na žáka/studenta ve stálých cenách roku 2005 v letech 2004 až 2013 – podle druhu/typu školy"}]
[]
[null,null,"Tabulka 12",null,{"$f":"B1.12!H4&\" \"&B1.12!D5","v":"Školství celkem, neveřejné školy a školská zařízení – výše dotací  z rozpočtu kapitoly 333-MŠMT v letech 2004 až 2013 – podle zřizovatele"}]
[]
[null,null,"Tabulka 13",null,{"$f":"B1.13!H4&\" \"&B1.13!D5","v":"Školství celkem – přepočtené počty zaměstnanců  v letech 2004 až 2013"}]
[]
[null,null,"Tabulka 14",null,{"$f":"B1.14!$H$4&\" \"&B1.14!$D$5","v":"Školství celkem – průměrné měsíční mzdy  v letech 2004 až 2013"}]
[null,null,null,"Obrazová příloha"]
[]
[null,null,"Graf 1",null,{"$f":"'GB1'!$H$4&\" \"&'GB1'!$D$5","v":"Školství celkem – počet škol ve školním roce 2004/05 až 2013/14 – podle druhu školy "}]
[]
[null,null,"Graf 2",null,{"$f":"'GB2'!$G$4&\" \"&'GB2'!$D$5","v":"Školství celkem – struktura dětí/žáků/studentů ve školním roce 2004/05 až 2013/14 – podle druhu školy "}]
[]
[null,null,"Graf 3",null,{"$f":"'GB3'!$G$4&\" \"&'GB3'!$D$5","v":"Školství celkem – struktura veřejných výdajů (v %) v letech 2004 až 2013 "}]
[]
[null,null,"Graf 4",null,{"$f":"'GB4'!$G$4&\" \"&'GB4'!$D$5","v":"Školství celkem – jednotkové výdaje na dítě, žáka, studenta v tis. Kč v letech 2004 až 2013 – podle úrovně vzdělávání "}]
[]
[null,null,"Graf 5",null,{"$f":"'GB5'!$H$4&\" \"&'GB5'!$D$5","v":"Školství celkem – průměrné nominální měsíční mzdy v letech 2004 až 2013 "}]
[]
[null,null,"Graf 6",null,{"$f":"'GB6'!$H$4&\" \"&'GB6'!$D$5","v":"Školství celkem – průměrné reálné měsíční mzdy v letech 2004 až 2013 "}]

{"sheet":"B1.1","index":1,"n_rows":24,"n_cols":21,"rows_kept":24,"cut":false,"hidden":false,"merged":[[23,4,23,19],[6,10,9,10],[12,4,18,4],[6,13,9,13],[6,14,9,14],[6,19,9,19],[6,3,10,8],[6,9,9,9],[14,5,15,5],[22,4,22,19],[6,11,9,11],[6,12,9,12],[21,4,21,19],[6,15,9,15],[6,16,9,16],[6,17,9,17],[6,18,9,18]]}
[]
[]
[]
[null,null,null,"Tab. B1.1:",null,null,null,"Školství celkem – počty škol "]
[null,null,null,"ve školním/akademickém roce 2004/05 až 2013/14 – podle druhu školy"]
[null,null,null,null,null,null,null,null,null,null,null,null,null,null,null,null,null,null,null,null,""]
[null,null,null,"Druh školy",null,null,null,null,null,"2003/04","2004/05","2005/06","2006/07","2007/08","2008/09","2009/10","2010/11","2011/12","2012/13","2013/14"]
[]
[]
[]
[null,null,null,null,null,null,null,null,null,"1)","1)"]
[null,null,null,null,"Celkem regionální školství2)",null,null,null,null,". ",". ",8681,8591,8541,8493,8472,8474,8490,8426,8442]
[null,null,null,null,"v tom"," mateřské školy",null,null,null,5067,4994,4834,4815,4808,4809,4826,4877,4931,5011,5085]
[null,null,null,null,null," základní školy",null,null,null,4838,4765,4474,4197,4155,4133,4125,4120,4111,4095,4095]
[null,null,null,null,null,"z toho","1. stupeň3)",null,null,". ",". ",4435,4155,4129,4105,4095,4093,4089,4074,4074]
[null,null,null,null,null,null,"2. stupeň3)",null,null,". ",". ",3052,2796,2775,2760,2755,2748,2738,2718,2705]
[null,null,null,null,null," střední školy",null,null,null,2006,1966,2004,1482,1447,1438,1433,1423,1393,1347,1331]
[null,null,null,null,null," konzervatoře",null,null,null,17,17,17,18,19,18,17,18,18,18,18]
[null,null,null,null,null," vyšší odborné školy",null,null,null,169,174,176,174,177,184,184,182,180,178,174]
[null,null,null,null,"Veřejné a soukromé vysoké školy",null,null,null,null,52,60,64,63,68,71,71,70,71,70,69]
[null,null,null,"Komentáře:",null,null,null,null,null,null,null,null,null,null,null,null,null,null,null,"Zdroj: databáze MŠMT",""]
[null,null,null,"1)","Do školního roku 2004/05 jsou MŠ a ZŠ započteny podle počtu jednotlivých pracovišť, od školního roku 2005/06 je uveden počet škol bez ohledu na počet těchto pracovišť. U středních škol, konzervatoří a VOŠ došlo k této změně vykazování o rok později."]
[null,null,null,"2)","Počet právních subjektů vykonávajících činnost školy."]
[null,null,null,"3)","Ve školním roce 2004/05 údaje za jednotlivé stupně ZŠ neuvádíme, neboť systém ročníků na základních školách speciálních (do školního roku 2004/05 v pomocných školách) byl jiný a jednoznačně nelze školy, třídy a žáky k tomuto stupni přiřadit."]

{"sheet":"B1.2","index":2,"n_rows":36,"n_cols":21,"rows_kept":36,"cut":false,"hidden":false,"merged":[[34,4,34,19],[6,15,9,15],[6,13,9,13],[6,14,9,14],[15,5,16,5],[33,4,33,19],[6,16,9,16],[6,17,9,17],[6,18,9,18],[35,4,35,19],[24,4,30,4],[6,19,9,19],[6,9,9,9],[6,11,9,11],[6,12,9,12],[6,10,9,10],[13,4,19,4],[6,3,10,8],[26,5,27,5]]}
[]
[]
[]
[null,null,null,"Tab. B1.2:",null,null,null,"Školství celkem – počty dětí/žáků/studentů "]
[null,null,null,"ve školním/akademickém roce 2004/05 až 2013/14 – podle druhu školy "]
[null,null,null,null,null,null,null,null,null,null,null,null,null,null,null,null,null,null,null,null,""]
[null,null,null,"Druh školy",null,null,null,null,null,"2003/04","2004/05","2005/06","2006/07","2007/08","2008/09","2009/10","2010/11","2011/12","2012/13","2013/14"]
[]
[]
[]
[]
[null,null,null,null,"Školství celkem ",null,null,null,null,{"$f":"J13+J21","v":2131498},{"$f":"K13+K21","v":2115427},2098122,2085877,2081642,2081575,2085917,2080368,2063374,{"$f":"S13+S21","v":2046726},2040340]
[null,null,null,null,"Celkem regionální školství1)",null,null,null,null,1887775,1850642,1808650,1769701,1737704,1713523,1696911,1684376,1671275,{"$f":"S14+S15+S18+S19+S20","v":1665679},{"$f":"T14+T15+T18+T19+T20","v":1672036}]
[null,null,null,null,"v tom"," mateřské školy",null,null,null,284166,284218,282183,285419,291194,301620,314008,328612,342521,354340,363568]
[null,null,null,null,null," základní školy",null,null,null,992770,953655,916575,876513,844863,816015,794459,789486,794642,807950,827654]
[null,null,null,null,null,"z toho","1. stupeň2)",null,null,". ",". ",473269,462820,458046,458198,460754,465380,474327,488106,505983]
[null,null,null,null,null,null,"2. stupeň2)",null,null,". ",". ",443306,413693,386817,357817,333705,324106,320315,319844,321671]
[null,null,null,null,null," střední školy",null,null,null,576615,579505,577605,576585,569267,564326,556260,532918,501220,470754,448792]
[null,null,null,null,null," konzervatoře",null,null,null,3543,3505,3495,3534,3606,3535,3435,3560,3557,3655,3690]
[null,null,null,null,null," vyšší odborné školy",null,null,null,30681,29759,28792,27650,28774,28027,28749,29800,29335,28980,28332]
[null,null,null,null,"Veřejné a soukromé vysoké školy2)",null,null,null,null,243723,264785,289472,316176,343938,368052,389006,395992,392099,381047,368304]
[null,null,null,"Z toho dívky/ženy"]
[null,null,null,null,"Školství celkem ",null,null,null,null,{"$f":"J24+J32","v":1045060},{"$f":"K24+K32","v":1042809},1037199,1035558,1038530,1043677,1048372,1046883,1038768,{"$f":"S24+S32","v":1031180},1026192]
[null,null,null,null,"Celkem regionální školství1)",null,null,null,null,924356,908094,886522,867709,852673,841083,831991,825353,819122,{"$f":"S25+S26+S29+S30+S31","v":816918},{"$f":"T25+T26+T29+T30+T31","v":819363}]
[null,null,null,null,"v tom"," mateřské školy",null,null,null,135892,136002,134727,136604,139808,144502,150613,157799,164387,170705,175049]
[null,null,null,null,null," základní školy",null,null,null,481252,461978,442206,422041,406776,392745,382748,381028,384212,391115,400894]
[null,null,null,null,null,"z toho","1. stupeň",null,null,". ",". ",229244,224264,221913,222245,223589,225831,230709,237601,246310]
[null,null,null,null,null,null,"2. stupeň",null,null,". ",". ",212962,197777,184863,170500,159159,155197,153503,153514,154584]
[null,null,null,null,null," střední školy",null,null,null,284453,287383,287263,287185,283399,281527,275829,262889,247402,232209,220830]
[null,null,null,null,null," konzervatoře",null,null,null,2080,2063,2061,2091,2161,2141,2099,2176,2171,2247,2285]
[null,null,null,null,null," vyšší odborné školy",null,null,null,20679,20668,20265,19788,20529,20168,20702,21461,20950,20642,20305]
[null,null,null,null,"Veřejné a soukromé vysoké školy2)",null,null,null,null,120704,134715,150677,167849,185857,202594,216381,221530,219646,214262,206829]
[null,null,null,"Komentáře:",null,null,null,null,null,null,null,null,null,null,null,null,null,null,null,"Zdroj: databáze MŠMT",""]
[null,null,null,"1)","Údaje za všechny druhy škol v regionálním školství jsou za počty studií k 30. 9. daného roku."]
[null,null,null,"2)","Ve školním roce 2004/05 údaje za jednotlivé stupně ZŠ neuvádíme, neboť systém ročníků na základních školách speciálních (do školního roku 2004/05 v pomocných školách) byl jiný a jednoznačně nelze školy, třídy a žáky k tomuto stupni přiřadit."]
[null,null,null,"3)","Údaje za VŠ jsou ve fyzických osobách k 31. 12. daného roku."]

{"sheet":"B1.3","index":3,"n_rows":31,"n_cols":46,"rows_kept":31,"cut":false,"hidden":false,"merged":[[30,4,30,19],[22,4,26,4],[6,19,9,19],[6,9,9,9],[6,11,9,11],[6,12,9,12],[6,10,9,10],[13,4,17,4],[6,3,10,8],[6,15,9,15],[6,13,9,13],[6,14,9,14],[29,4,29,19],[6,16,9,16],[6,17,9,17],[6,18,9,18]]}
[]
[]
[]
[null,null,null,"Tab. B1.3:",null,null,null,"Školství celkem – počty cizinců"]
[null,null,null,"ve školním/akademickém roce 2004/05 až 2013/14 – podle druhu školy "]
[null,null,null,null,null,null,null,null,null,null,null,null,null,null,null,null,null,null,null,null,""]
[null,null,null,"Druh školy",null,null,null,null,null,"2003/04","2004/05","2005/06","2006/07","2007/08","2008/09","2009/10","2010/11","2011/12","2012/13","2013/14"]
[]
[]
[]
[]
[null,null,null,null,"Školství celkem ",null,null,null,null,{"$f":"J13+J19","v":33348},{"$f":"K13+K19","v":37124},41736,45223,49839,54831,60635,64893,67307,{"$f":"S13+S19","v":69287},72131]
[null,null,null,null,"Celkem regionální školství1)",null,null,null,null,20268,{"$f":"SUM(K14:K18)","v":20042},{"$f":"SUM(L14:L18)","v":20838},21346,22786,24690,26169,27352,28525,29688,{"$f":"SUM(T14:T18)","v":31295}]
[null,null,null,null,"v tom"," mateřské školy",null,null,null,3252,3244,3213,2811,3078,3535,3963,4223,4714,5434,6307]
[null,null,null,null,null," základní školy",null,null,null,12973,12113,12279,12504,12963,13583,13839,14109,14344,14551,15109]
[null,null,null,null,null," střední školy",null,null,null,3584,4250,4940,5615,6314,7134,7900,8458,8852,9024,9147]
[null,null,null,null,null," konzervatoře",null,null,null,74,82,93,112,110,131,118,136,151,169,185]
[null,null,null,null,null," vyšší odborné školy",null,null,null,385,353,313,304,321,307,349,426,464,510,547]
[null,null,null,null,"Veřejné a soukromé vysoké školy2)",null,null,null,null,13080,17082,20898,23877,27053,30141,34466,37541,38782,39599,40836]
[null,null,null,"Z toho dívky/ženy"]
[null,null,null,null,"Školství celkem ",null,null,null,null,{"$f":"J22+J28","v":16332},18307,20687,22545,24994,27637,30806,33270,34442,{"$f":"S22+S28","v":35563},37114]
[null,null,null,null,"Celkem regionální školství1)",null,null,null,null,9749,{"$f":"SUM(K23:K27)","v":9665},{"$f":"SUM(L23:L27)","v":10043},10291,11068,12015,12710,13437,13931,14591,{"$f":"SUM(T23:T27)","v":15380}]
[null,null,null,null,"v tom"," mateřské školy",null,null,null,1538,1500,1521,1326,1469,1700,1894,2053,2235,2598,3011,null,null,null,null,null,null,null,null,null,null,null,null,null,null,null,null,null,null,null,null,null,null,null,null,null," "]
[null,null,null,null,null," základní školy",null,null,null,6155,5798,5839,5916,6175,6477,6590,6822,6886,7051,7305]
[null,null,null,null,null," střední školy",null,null,null,1767,2103,2432,2779,3147,3566,3929,4207,4426,4497,4566]
[null,null,null,null,null," konzervatoře",null,null,null,46,42,48,58,53,66,61,77,87,99,111]
[null,null,null,null,null," vyšší odborné školy",null,null,null,243,222,203,212,224,206,236,278,297,346,387]
[null,null,null,null,"Veřejné a soukromé vysoké školy2)",null,null,null,null,6583,8642,10644,12254,13926,15622,18096,19833,20511,20972,21734]
[null,null,null,"Komentáře:",null,null,null,null,null,null,null,null,null,null,null,null,null,null,null,"Zdroj: databáze MŠMT",""]
[null,null,null,"1)","Údaje za všechny druhy škol v regionálním školství jsou za počty studií k 30. 9. daného roku."]
[null,null,null,"2)","Údaje za VŠ jsou ve fyzických osobách k 31. 12. daného roku."]

{"sheet":"B1.4","index":4,"n_rows":32,"n_cols":21,"rows_kept":32,"cut":false,"hidden":false,"merged":[[31,4,31,19],[6,13,9,13],[6,14,9,14],[6,19,9,19],[14,5,15,5],[6,16,9,16],[6,10,9,10],[6,18,9,18],[6,17,9,17],[6,15,9,15],[12,4,18,4],[6,11,9,11],[6,12,9,12],[22,4,28,4],[24,5,25,5],[6,9,9,9],[6,3,10,8]]}
[]
[]
[]
[null,null,null,"Tab. B1.4:",null,null,null,"Školství celkem – přepočtené počty učitelů/akademických pracovníků/nekvalifikovaných"]
[null,null,null,"ve školním/akademickém roce 2004/05 až 2013/14 – podle druhu školy"]
[null,null,null,null,null,null,null,null,null,null,null,null,null,null,null,null,null,null,null,null,""]
[null,null,null,"Druh školy",null,null,null,null,null,"2003/04","2004/05","2005/06","2006/07","2007/08","2008/09","2009/10","2010/11","2011/12","2012/13","2013/14"]
[]
[]
[]
[null,null,null,null,null,null,null,null,null,"1)","1)"]
[null,null,null,null,"Celkem regionální školství",null,null,null,null,". ",". ",{"$f":"L13+L14+L17+L18+L19","v":135936.5},{"$f":"M13+M14+M17+M18+M19","v":135353.39999999991},133783.09999999998,132610.69999999995,132294.5,132015.69999999992,131482.6,130199.50000000001,130006.6]
[null,null,null,null,"v tom"," mateřské školy",null,null,null,". ",". ",22484.6,22367.699999999903,22744.299999999919,23567.799999999937,24584.3,25736.799999999919,26780.6,27739.200000000001,28583]
[null,null,null,null,null," základní školy",null,null,null,". ",". ",63157.599999999999,62657.599999999999,61069.200000000055,59492.3,58417.3,58023.000000000007,57814.8,57668.9,{"$f":"T15+T16","v":58269.1}]
[null,null,null,null,null,"v tom","1. stupeň",null,null,". ",". ",27586,27727.1,27520,27529.200000000001,27634.9,27796.000000000011,28114.6,28374.9,29025.1]
[null,null,null,null,null,null,"2. stupeň",null,null,". ",". ",35571.599999999999,34930.5,33453.199999999997,31963.1,30782.40000000006,30226.999999999996,29700.2,29294,29244]
[null,null,null,null,null," střední školy",null,null,null,". ",". ",47352.1,47452,47124.3,46734.9,46488.800000000003,45384.899999999994,43875.8,41788.800000000003,40214.1]
[null,null,null,null,null," konzervatoře",null,null,null,". ",". ",1019.6,1083.9000000000001,1046.3,1000.5,997.9,1030,1120.7,1126.5999999999999,1157.9000000000001]
[null,null,null,null,null," vyšší odborné školy",null,null,null,". ",". ",1922.6,1792.2,1799,1815.2,1806.2,1841,1890.7,1876,1782.5]
[null,null,null,null,"Veřejné vysoké školy",null,null,null,null,14221,14623,15015.9,15524.186,16525.900000000001,16976.598000000002,17271.642999999989,16990.582000000006,16418.91,15449.309000000008,15026.07]
[null,null,null,"z toho nekvalifikovaní"]
[null,null,null,null,"Celkem regionální školství",null,null,null,null,". ",". ",{"$f":"L23+L24+L27+L28+L29","v":18494.400000000001},{"$f":"M23+M24+M27+M28+M29","v":18291.699999999997},18106.7,17345.2,16883.399999999998,16148.400000000001,18023.199999999997,14933.7,13386.7]
[null,null,null,null,"v tom"," mateřské školy",null,null,null,". ",". ",1429.4,1545.9,1558.1,1864.3,2183.5,2633.9,3134.3,2898.8,2862.5]
[null,null,null,null,null," základní školy",null,null,null,". ",". ",{"$f":"L25+L26","v":9817.9000000000015},{"$f":"M25+M26","v":9564.5999999999985},{"$f":"N25+N26","v":9590.2999999999993},{"$f":"O25+O26","v":8943.9},{"$f":"P25+P26","v":8272.4},7650,8157.5,6834.4,{"$f":"T25+T26","v":6319.7}]
[null,null,null,null,null,"v tom","1. stupeň",null,null,". ",". ",4824.8,4538.2,4441.1000000000004,4193.3999999999996,3910.1,3676.4,3983.5,3344.5,3199.6]
[null,null,null,null,null,null,"2. stupeň",null,null,". ",". ",4993.1000000000004,5026.3999999999996,5149.2,4750.5,4362.3,3973.6,4174,3489.9,3120.1]
[null,null,null,null,null," střední školy",null,null,null,". ",". ",7126.5,7056,6849.8,6428.3,6324.4,5758.6,6580.3,5093.7,4131.2]
[null,null,null,null,null," konzervatoře",null,null,null,". ",". ",20.8,14.1,8.6999999999999993,10.3,7.1,11.2,26.1,8.5,11.3]
[null,null,null,null,null," vyšší odborné školy",null,null,null,". ",". ",99.8,111.1,99.8,98.4,96,94.7,125,98.3,62]
[null,null,null,null,"Veřejné vysoké školy",null,null,null,null,". ",". ",". ",". ",". ",". ",". ",". ",". ",". ",". ",""]
[null,null,null,"Komentáře:",null,null,null,null,null,null,null,null,null,null,null,null,null,null,null,"Zdroj: databáze MŠMT"]
[null,null,null,"1)","Ve školním roce 2004/05 nejsou údaje o učitelích dostupné v potřebném členění. Od roku 2005/06 jsou údaje za MŠ a ZŠ včetně škol při zdravotnických zařízeních."]

{"sheet":"B1.5","index":5,"n_rows":21,"n_cols":21,"rows_kept":21,"cut":false,"hidden":false,"merged":[[6,9,9,9],[6,19,9,19],[16,4,16,7],[6,17,9,17],[6,18,9,18],[20,4,20,19],[6,11,9,11],[6,12,9,12],[6,13,9,13],[6,14,9,14],[6,3,10,8],[19,4,19,19],[6,15,9,15],[6,16,9,16],[6,10,9,10]]}
[]
[]
[]
[null,null,null,"Tab. B1.5:",null,null,null,"Školství celkem – veřejné výdaje na školství v běžných cenách"]
[null,null,null,"v letech 2004 až 2013"]
[null,null,null,"Včetně výdajů Ministerstva obrany.",null,null,null,null,null,null,null,null,null,null,null,null,null,null,null,"v mld. Kč",""]
[null,null,null,null,null,null,null,null,null,2003,2004,2005,2006,2007,2008,2009,2010,2011,2012,2013]
[]
[]
[]
[null,null,null,null,null,null,null,null,null,"1)","1)","1)","1)","1)","1),2)"]
[null,null,null,null,"Hrubý domácí produkt v běžných cenách",null,null,null,null,2688.107,2929.172,3116.056,3352.5990000000002,3662.5729999999999,3848.4110000000001,3758.9789999999998,3790.88,3823.4009999999998,3845.9259999999999,3883.78]
[null,null,null,null,"Výdaje na školství celkem",null,null,null,null,115.85659442999999,123.04163344999998,130.31916268999996,142.83409172,152.98776881999996,151.00300029000005,163.94301017999999,162.96505886,173.72196890426002,171.36986975439001,172.80517425329003]
[null,null,null,null,"Výdaje na školství v % HDP",null,null,null,null,{"$f":"J13/J12","v":4.3099695968203643E-2},{"$f":"K13/K12","v":4.2005602077993365E-2},4.182182948252533E-2,4.2603989239393077E-2,4.1770571895768348E-2,3.9237753007669927E-2,4.3613707387032491E-2,4.2988714720592576E-2,4.5436502450111833E-2,4.4558805799796986E-2,4.4494068730280813E-2]
[null,null,null,null,"Výdaje státního rozpočtu",null,null,null,null,808.71799999999996,862.89167486999997,922.79801823000003,1020.64022353,1092.2745768699999,1083.9436448500001,1167.0090544300001,1156.7934837299999,1155.52620473,1152.38667740197,1173.127823]
[null,null,null,"Index spotřebitelských cen a meziroční inflace"]
[null,null,null,null,"Index spotřebitelských cen\n(rok 2005 = 100)",null,null,null,null,95.5,98.1,100,102.5,105.4,112.1,113.3,114.9,117.1,121,122.7]
[null,null,null,null,"Meziroční inflace",null,null,null,null,1E-3,2.8000000000000001E-2,1.9E-2,2.5000000000000001E-2,2.8000000000000001E-2,6.3E-2,0.01,1.4999999999999999E-2,1.9E-2,3.3000000000000002E-2,1.4E-2]
[null,null,null,"Komentáře:",null,null,null,null,null,null,null,null,null,null,null,null,null,null,null,"Zdroj: Státní závěrečný účet ČR; ZÚ - kapitola 333-MŠMT; 700-Obce a DSO, KÚ; ZÚ ostatních resortů; ČSÚ"]
[null,null,null,"1)","Z důvodu konsolidace nejsou zahrnuty z daných tříd následující položky: 5321, 5323,5329, 5344, 5345, 5349, 5366, 5641, 5642, 5649, 6341, 6342, 6349, 6441, 6442, 6449."]
[null,null,null,"2)","Meziroční snížení výdajů v roce 2008 je dáno aplikací zákona č. 26/2008 Sb. a z něj vyplývajícím nepřeváděním nevyčerpaných prostředků OSS do rezervních fondů, a tudíž jejich nezahrnutím do čerpání."]

{"sheet":"B1.6","index":6,"n_rows":16,"n_cols":21,"rows_kept":16,"cut":false,"hidden":false,"merged":[[6,15,9,15],[6,19,9,19],[6,16,9,16],[6,18,9,18],[15,4,15,19],[6,11,9,11],[6,12,9,12],[6,13,9,13],[6,14,9,14],[6,9,9,9],[6,3,10,8],[14,4,14,19],[6,17,9,17],[6,10,9,10]]}
[]
[]
[]
[null,null,null,"Tab. B1.6:",null,null,null,"Školství celkem – veřejné výdaje na školství ve stálých cenách roku 2005"]
[null,null,null,"v letech 2004 až 2013"]
[null,null,null,"Včetně výdajů Ministerstva obrany.",null,null,null,null,null,null,null,null,null,null,null,null,null,null,null,"v mld. Kč",""]
[null,null,null,null,null,null,null,null,null,2003,2004,2005,2006,2007,2008,2009,2010,2011,2012,2013]
[]
[]
[]
[null,null,null,null,null,null,null,null,null,"1)","1)","1)","1)","1)","1),2)"]
[null,null,null,null,"Výdaje státního rozpočtu ",null,null,null,null,{"$f":"B1.5!J15/B1.5!J17*100","v":846.82513089005238},{"$f":"B1.5!K15/B1.5!K17*100","v":879.60415379204892},{"$f":"B1.5!L15/B1.5!L17*100","v":922.79801822999991},{"$f":"B1.5!M15/B1.5!M17*100","v":995.7465595414634},{"$f":"B1.5!N15/B1.5!N17*100","v":1036.3136402941175},{"$f":"B1.5!O15/B1.5!O17*100","v":966.94348336306871},{"$f":"B1.5!P15/B1.5!P17*100","v":1030.0168176787292},{"$f":"B1.5!Q15/B1.5!Q17*100","v":1006.7828404960835},{"$f":"B1.5!R15/B1.5!R17*100","v":986.78582812126388},{"$f":"B1.5!S15/B1.5!S17*100","v":952.38568380328093},{"$f":"B1.5!T15/B1.5!T17*100","v":956.09439527302357}]
[null,null,null,null,"Výdaje na školství celkem",null,null,null,null,{"$f":"B1.5!J13/B1.5!J17*100","v":121.31580568586386},{"$f":"B1.5!K13/B1.5!K17*100","v":125.42470280326197},{"$f":"B1.5!L13/B1.5!L17*100","v":130.31916268999996},{"$f":"B1.5!M13/B1.5!M17*100","v":139.35033338536587},{"$f":"B1.5!N13/B1.5!N17*100","v":145.14968578747622},{"$f":"B1.5!O13/B1.5!O17*100","v":134.70383611953619},{"$f":"B1.5!P13/B1.5!P17*100","v":144.69815549867607},{"$f":"B1.5!Q13/B1.5!Q17*100","v":141.83207907745864},{"$f":"B1.5!R13/B1.5!R17*100","v":148.35351742464562},{"$f":"B1.5!S13/B1.5!S17*100","v":141.62799153255372},{"$f":"B1.5!T13/B1.5!T17*100","v":140.83551283886717}]
[null,null,null,"Komentáře:",null,null,null,null,null,null,null,null,null,null,null,null,null,null,null,"Zdroj: Státní závěrečný účet ČR; ZÚ - kapitola 333-MŠMT; 700-Obce a DSO, KÚ; ZÚ ostatních resortů; ČSÚ"]
[null,null,null,"1)","Z důvodu konsolidace nejsou zahrnuty z daných tříd následující položky: 5321, 5323,5329, 5344, 5345, 5349, 5366, 5641, 5642, 5649, 6341, 6342, 6349, 6441, 6442, 6449."]
[null,null,null,"2)","Meziroční snížení výdajů v roce 2008 je dáno aplikací zákona č. 26/2008 Sb. a z něj vyplývajícím nepřeváděním nevyčerpaných prostředků OSS do rezervních fondů, a tudíž jejich nezahrnutím do čerpání."]

{"sheet":"B1.7","index":7,"n_rows":20,"n_cols":21,"rows_kept":20,"cut":false,"hidden":false,"merged":[[11,4,15,4],[18,4,18,19],[6,16,9,16],[6,11,9,11],[6,17,9,17],[6,18,9,18],[19,4,19,19],[6,12,9,12],[6,13,9,13],[6,14,9,14],[6,19,9,19],[6,3,10,8],[6,9,9,9],[17,4,17,19],[6,15,9,15],[6,10,9,10]]}
[]
[]
[]
[null,null,null,"Tab. B1.7:",null,null,null,"Školství celkem – veřejné výdaje na školství v běžných cenách "]
[null,null,null,"v letech 2004 až 2013 – podle jednotlivých kapitol státního rozpočtu"]
[null,null,null,"Včetně výdajů Ministerstva obrany.",null,null,null,null,null,null,null,null,null,null,null,null,null,null,null,"v mld. Kč",""]
[null,null,null,null,null,null,null,null,null,2003,2004,2005,2006,2007,2008,2009,2010,2011,2012,2013]
[]
[]
[]
[null,null,null,null,null,null,null,null,null,null,null,null,null,null,"2)"]
[null,null,null,null,"z rozpočtu"," MŠMT (kapitola 333)",null,null,null,90.550358919999994,95.598063760000002,102.5772496,110.88192273,123.19915426,119.38269835000001,127.64959669999999,124.26620801,138.95913313704,138.18448067902,138.44283642383999]
[null,null,null,null,null," obcí a DSO (kapitola 700)",null,null,null,56.462545279999993,59.343527319999993,26.262040000000002,30.321037579999988,28.948321350000001,31.88567351,35.957294779999998,36.792089259999997,37.108727170000002,34.242490360000005,35.224372701930001]
[null,null,null,null,null," krajských úřadů (kapitola 700)",null,null,null,30.189487159999995,32.017293670000001,68.418966780000005,72.733135290000007,75.256390839999995,77.537114070000044,82.646670060000005,81.009500209999999,81.571840350000002,83.060042839999994,83.050814856179997]
[null,null,null,null,null," transfery z MŠMT na KÚ a magistráty1)",null,null,null,-62.954618860000004,-65.61084507999999,-68.704081900000006,-72.687656160000003,-75.818876750000001,-79.00575911,-83.450057549999997,-80.157123420000005,-84.870904782780002,-85.112748434630006,-84.993061221790001]
[null,null,null,null,null," Ministerstva obrany (kapitola 307)3)",null,null,null,1.6008726800000002,1.69042778,1.7619882099999999,1.5825042800000002,1.4027791200000002,1.2032734700000001,1.1395061900000001,1.0902569200000001,0.95317303000000009,0.99560431000000005,1.08021149313]
[null,null,null,"Komentáře:",null,null,null,null,null,null,null,null,null,null,null,null,null,null,null,"Zdroj: Státní závěrečný účet ČR; ZÚ – kapitola 333-MŠMT; 700-Obce a DSO, KÚ; ZÚ ostatních resortů; ČSÚ",""]
[null,null,null,"1)","Výdaje na regionální školství, které byly převedeny transferem z rozpočtu kapitoly 333-MŠMT do rozpočtů KÚ a magistrátů, byly vykázány jak v rozpočtu MŠMT, tak v rozpočtu KÚ a magistrátů."]
[null,null,null,"2)","Meziroční snížení výdajů v roce 2008 je dáno aplikací zákona č. 26/2008 Sb. a z něj vyplývajícím nepřeváděním nevyčerpaných prostředků OSS do rezervních fondů, a tudíž jejich nezahrnutím do čerpání."]
[null,null,null,"3)","Z výdajů kapitoly je již odečten transfer obcím a krajským úřadům."]

{"sheet":"B1.8","index":8,"n_rows":33,"n_cols":20,"rows_kept":33,"cut":false,"hidden":false,"merged":[[6,18,9,18],[6,11,9,11],[6,10,9,10],[6,3,10,8],[6,15,9,15],[6,12,9,12],[6,14,9,14],[6,13,9,13],[6,19,9,19],[6,16,9,16],[32,4,32,19],[18,4,20,4],[25,4,26,4],[29,4,29,19],[30,4,30,19],[31,4,31,19],[6,17,9,17],[6,9,9,9]]}
[]
[]
[]
[null,null,null,"Tab. B1.8:",null,null,null,"Školství celkem – veřejné výdaje v běžných cenách "]
[null,null,null,"v letech 2004 až 2013 – podle druhu/typu školy/zařízení"]
[null,null,null,"Včetně výdajů Ministerstva obrany.",null,null,null,null,null,null,null,null,null,null,null,null,null,null,null,"v tis. Kč"]
[null,null,null,"Druh/typ školy/zařízení",null,null,null,null,null,2003,2004,2005,2006,2007,2008,2009,2010,2011,2012,2013]
[]
[]
[]
[null,null,null,null,null,null,null,null,null,"1)","1)","1)","1)","1)","1),4)"]
[null,null,null,null,"Výdaje na školství celkem",null,null,null,null,115856594.42999998,123041633.45000002,130319162.68999997,142834091.67999998,{"$f":"N13+N15+N17+N18+N22+N23+N24+N25+N28","v":152987768.82000002},{"$f":"O13+O15+O17+O18+O22+O23+O24+O25+O28","v":151002990.28999996},{"$f":"P13+P15+P17+P18+P22+P23+P24+P25+P28","v":163943010.18000004},162965058.45000002,173721968.90426001,{"$f":"S13+S15+S17+S18+S22+S23+S24+S25+S28","v":171369869.75438994},172805174.25329018]
[null,null,null,null,"Předškolní vzdělávání",null,null,null,null,9764375.1499999985,10290055.279999999,11034349.75,11974973.939999998,{"$f":"12677779.43-1.02","v":12677778.41},{"$f":"14094522.02-36.78","v":14094485.24},15983396.369999999,16283334.950000003,16279366.760000002,16933537.219999999,17846304.997439999]
[null,null,null,null,null,"z toho mateřské školy2)",null,null,null,9396746.4799999986,9911525.2299999986,10617936.950000001,11575064.41,{"$f":"12315412.06-1.02","v":12315411.040000001},{"$f":"13720131.72-36.78","v":13720094.940000001},15620518.33,15899430.730000002,15927107.190000001,16565923.960000001,17722819.151099999]
[null,null,null,null,"Základní vzdělávání",null,null,null,null,42717454.270000003,44870661.25,43975300.419999987,48148901.270000003,{"$f":"47866835.34-431.49","v":47866403.850000001},{"$f":"49544505.3-1497.75","v":49543007.549999997},54104041.250000007,52340323.990000002,54543444.071999997,52983370.470189996,54562370.718200006]
[null,null,null,null,null," z toho ZŠ, včetně školních družin a klubů2)",null,null,null,39042825.980000004,40856021.5,39818749.29999999,43896391.900000006,{"$f":"43519149.44-431.49","v":43518717.949999996},{"$f":"45145651.79-1497.75","v":45144154.039999999},49409358.07,47794252.900000006,49807522.004000001,48479438.38019,50299911.559360005]
[null,null,null,null,"Základní umělecké školy",null,null,null,null,2479893.5099999998,2784099.86,3037719.11,3146091.69,3351332.88,3544350.19,3803588.84,3854152,3813943.66,3961828.07,4009080.739899999]
[null,null,null,null,"Střední vzdělávání, konzervatoře, VOŠ",null,null,null,null,26536727.459999997,27977689.629999999,29350786.43,31495535.579999998,32395028.810000002,33691678.210000001,35585852.079999998,34486494.609999999,33965622.612130001,33339103.040439993,32118289.18189]
[null,null,null,null,"z toho"," gymnázia, včetně sportovních škol2)",null,null,null,5319711.1900000004,5732578.8799999999,6115290.1499999994,6764190.870000002,7134367.2299999995,7552198.3099999987,7789675.5099999988,7512373.4500000002,7556382.9297100008,7539864.8119399976,7601572.5318100015]
[null,null,null,null,null," střední odborné školy, konzervatoře, VOŠ2)",null,null,null,9858050.5899999999,10410309.739999998,11065998.390000002,12102644.16,12448549.129999999,13037756.289999999,14439441.810000001,14177464.479999997,14041649.209599998,13815291.808889998,13535294.875390001]
[null,null,null,null,null," střední odborná učiliště, učiliště, SPV2)",null,null,null,10065773.76,10450543.100000001,10762925.719999999,11155023.609999999,11500741.039999997,11906128.210000003,12188267.900000002,11630046.470000003,11204133.857379999,10796654.365209999,9813856.4075100012]
[null,null,null,null,"Stravování žáků MŠ, ZŠ, SŠ",null,null,null,null,2064213.5,2068146.91,3419642.22,3409338.06,3446532.36,3616107.27,3818991.29,3699090.36,3275541.53,3080050.11,3122269.5440100003]
[null,null,null,null,"Ubytovací zařízení3) ",null,null,null,null,3276243.83,3828699.6,4055161.19,4202069.8499999996,4074589.27,4159850.97,4571945.1900000004,4325751.41,4186564.8668300002,3144385.7943100003,3858645.2248999993]
[null,null,null,null,"Vysoké školy (včetně kolejí a menz a VaV na VŠ)",null,null,null,null,20506297.73,22845451.669999998,26442456.139999997,29009170.82,34603898,31244213.240000002,33710308.080000006,32308880.27,34224959.127390005,34258639.936090007,34229370.450390004]
[null,null,null,null,"Státní správa ",null,null,null,null,642520.16,704200.09,662073.87,709202.77,806524.9,826054.82,750392.86,762392.18,812887.41188000003,784411.75331000006,725931.95880000002]
[null,null,null,null,"z toho"," MŠMT",null,null,null,292954.28999999998,395291.55,328208.63,365480.53,402691.72,460872.21,397530.13,386368.25,387764.79973000009,349951.80209000007,348224.15765000012]
[null,null,null,null,null," Ostatní státní správa",null,null,null,338882.7,289751.31,316763.76,343722.28,403833.18,365182.6,352862.73,376023.93,425122.61214999994,434459.95121999999,377707.8011499999]
[null,null,null,null,"Ostatní výdaje",null,null,null,null,7868868.8199999742,7672629.1600000262,8341673.5599999959,10738842.699999999,13765680.340000002,10283242.799999993,11614494.219999999,14904638.68,22619638.86403,22884543.360049978,22332911.437760122]
[null,null,null,"Komentáře:",null,null,null,null,null,null,null,null,null,null,null,null,null,null,null,"Zdroj: Státní závěrečný účet ČR; ZÚ – kapitola 333-MŠMT; 700-Obce a DSO, KÚ; ZÚ ostatních resortů; ČSÚ"]
[null,null,null,"1)","Z důvodu konsolidace nejsou zahrnuty z daných tříd následující položky: 5321, 5323,5329, 5344, 5345, 5349, 5366, 5641, 5642, 5649, 6341, 6342, 6349, 6441, 6442, 6449."]
[null,null,null,"2)","Bez škol pro děti/žáky/studenty se SVP."]
[null,null,null,"3)","Včetně zařízení pro výkon ústavní a ochranné výchovy."]
[null,null,null,"4)","Meziroční snížení výdajů v roce 2008 je dáno aplikací zákona č. 26/2008 Sb. a z něj vyplývajícím nepřeváděním nevyčerpaných prostředků OSS do rezervních fondů, a tudíž jejich nezahrnutím do čerpání."]

{"sheet":"B1.9","index":9,"n_rows":33,"n_cols":20,"rows_kept":33,"cut":false,"hidden":false,"merged":[[32,4,32,19],[31,4,31,19],[18,4,20,4],[6,13,9,13],[6,14,9,14],[6,19,9,19],[6,3,10,8],[6,11,9,11],[6,12,9,12],[6,9,9,9],[6,16,9,16],[25,4,26,4],[29,4,29,19],[30,4,30,19],[6,10,9,10],[6,15,9,15],[6,17,9,17],[6,18,9,18]]}
[]
[]
[]
[null,null,null,"Tab. B1.9:",null,null,null,"Školství celkem – veřejné výdaje ve stálých cenách roku 2005"]
[null,null,null,"v letech 2004 až 2013 – podle druhu/typu školy/zařízení"]
[null,null,null,"Včetně výdajů Ministerstva obrany.",null,null,null,null,null,null,null,null,null,null,null,null,null,null,null,"v tis. Kč"]
[null,null,null,"Druh/typ školy/zařízení",null,null,null,null,null,2003,2004,2005,2006,2007,2008,2009,2010,2011,2012,2013]
[]
[]
[]
[null,null,null,null,null,null,null,null,null,"1)","1)","1)","1)","1)","1),4)"]
[null,null,null,null,"Výdaje na školství celkem",null,null,null,null,{"$f":"B1.8!J12/B1.5!J$17*100","v":121315805.68586385},{"$f":"B1.8!K12/B1.5!K$17*100","v":125424702.803262},{"$f":"B1.8!L12/B1.5!L$17*100","v":130319162.68999995},{"$f":"B1.8!M12/B1.5!M$17*100","v":139350333.34634143},{"$f":"B1.8!N12/B1.5!N$17*100","v":145149685.7874763},{"$f":"B1.8!O12/B1.5!O$17*100","v":134703827.19892949},{"$f":"B1.8!P12/B1.5!P$17*100","v":144698155.49867612},{"$f":"B1.8!Q12/B1.5!Q$17*100","v":141832078.72062662},{"$f":"B1.8!R12/B1.5!R$17*100","v":148353517.42464563},{"$f":"B1.8!S12/B1.5!S$17*100","v":141627991.53255367},{"$f":"B1.8!T12/B1.5!T$17*100","v":140835512.83886731}]
[null,null,null,null,"Předškolní vzdělávání",null,null,null,null,{"$f":"B1.8!J13/B1.5!J$17*100","v":10224476.596858637},{"$f":"B1.8!K13/B1.5!K$17*100","v":10489352.986748215},{"$f":"B1.8!L13/B1.5!L$17*100","v":11034349.75},{"$f":"B1.8!M13/B1.5!M$17*100","v":11682901.404878046},{"$f":"B1.8!N13/B1.5!N$17*100","v":12028252.760910816},{"$f":"B1.8!O13/B1.5!O$17*100","v":12573135.807314897},{"$f":"B1.8!P13/B1.5!P$17*100","v":14107145.957634598},{"$f":"B1.8!Q13/B1.5!Q$17*100","v":14171744.95213229},{"$f":"B1.8!R13/B1.5!R$17*100","v":13902106.541417595},{"$f":"B1.8!S13/B1.5!S$17*100","v":13994658.85950413},{"$f":"B1.8!T13/B1.5!T$17*100","v":14544665.84958435}]
[null,null,null,null,null,"z toho mateřské školy2)",null,null,null,{"$f":"B1.8!J14/B1.5!J$17*100","v":9839525.1099476423},{"$f":"B1.8!K14/B1.5!K$17*100","v":10103491.569826707},{"$f":"B1.8!L14/B1.5!L$17*100","v":10617936.950000001},{"$f":"B1.8!M14/B1.5!M$17*100","v":11292745.765853658},{"$f":"B1.8!N14/B1.5!N$17*100","v":11684450.702087287},{"$f":"B1.8!O14/B1.5!O$17*100","v":12239156.949152544},{"$f":"B1.8!P14/B1.5!P$17*100","v":13786865.251544572},{"$f":"B1.8!Q14/B1.5!Q$17*100","v":13837624.656222804},{"$f":"B1.8!R14/B1.5!R$17*100","v":13601287.09649872},{"$f":"B1.8!S14/B1.5!S$17*100","v":13690846.247933887},{"$f":"B1.8!T14/B1.5!T$17*100","v":14444025.388019558}]
[null,null,null,null,"Základní vzdělávání",null,null,null,null,{"$f":"B1.8!J15/B1.5!J$17*100","v":44730318.607329845},{"$f":"B1.8!K15/B1.5!K$17*100","v":45739715.851172276},{"$f":"B1.8!L15/B1.5!L$17*100","v":43975300.419999987},{"$f":"B1.8!M15/B1.5!M$17*100","v":46974537.824390247},{"$f":"B1.8!N15/B1.5!N$17*100","v":45414045.398481973},{"$f":"B1.8!O15/B1.5!O$17*100","v":44195368.019625336},{"$f":"B1.8!P15/B1.5!P$17*100","v":47752904.898499563},{"$f":"B1.8!Q15/B1.5!Q$17*100","v":45552936.457789384},{"$f":"B1.8!R15/B1.5!R$17*100","v":46578517.567890689},{"$f":"B1.8!S15/B1.5!S$17*100","v":43787909.479495868},{"$f":"B1.8!T15/B1.5!T$17*100","v":44468109.794784032}]
[null,null,null,null,null," z toho ZŠ, včetně školních družin a klubů2)",null,null,null,{"$f":"B1.8!J16/B1.5!J$17*100","v":40882540.29319372},{"$f":"B1.8!K16/B1.5!K$17*100","v":41647320.59123344},{"$f":"B1.8!L16/B1.5!L$17*100","v":39818749.29999999},{"$f":"B1.8!M16/B1.5!M$17*100","v":42825748.195121959},{"$f":"B1.8!N16/B1.5!N$17*100","v":41289106.21442125},{"$f":"B1.8!O16/B1.5!O$17*100","v":40271323.853702053},{"$f":"B1.8!P16/B1.5!P$17*100","v":43609318.684907325},{"$f":"B1.8!Q16/B1.5!Q$17*100","v":41596390.687554397},{"$f":"B1.8!R16/B1.5!R$17*100","v":42534177.629376605},{"$f":"B1.8!S16/B1.5!S$17*100","v":40065651.553876035},{"$f":"B1.8!T16/B1.5!T$17*100","v":40994222.949763656}]
[null,null,null,null,"Základní umělecké školy",null,null,null,null,{"$f":"B1.8!J17/B1.5!J$17*100","v":2596747.1308900518},{"$f":"B1.8!K17/B1.5!K$17*100","v":2838022.2833843017},{"$f":"B1.8!L17/B1.5!L$17*100","v":3037719.11},{"$f":"B1.8!M17/B1.5!M$17*100","v":3069357.7463414632},{"$f":"B1.8!N17/B1.5!N$17*100","v":3179632.7134724855},{"$f":"B1.8!O17/B1.5!O$17*100","v":3161775.3702051742},{"$f":"B1.8!P17/B1.5!P$17*100","v":3357095.1809355691},{"$f":"B1.8!Q17/B1.5!Q$17*100","v":3354353.3507397734},{"$f":"B1.8!R17/B1.5!R$17*100","v":3256997.1477369769},{"$f":"B1.8!S17/B1.5!S$17*100","v":3274238.074380165},{"$f":"B1.8!T17/B1.5!T$17*100","v":3267384.4660961688}]
[null,null,null,null,"Střední vzdělávání",null,null,null,null,{"$f":"B1.8!J18/B1.5!J$17*100","v":27787149.172774866},{"$f":"B1.8!K18/B1.5!K$17*100","v":28519561.294597354},{"$f":"B1.8!L18/B1.5!L$17*100","v":29350786.43},{"$f":"B1.8!M18/B1.5!M$17*100","v":30727351.785365853},{"$f":"B1.8!N18/B1.5!N$17*100","v":30735321.451612905},{"$f":"B1.8!O18/B1.5!O$17*100","v":30055020.704727922},{"$f":"B1.8!P18/B1.5!P$17*100","v":31408519.046778463},{"$f":"B1.8!Q18/B1.5!Q$17*100","v":30014355.622280244},{"$f":"B1.8!R18/B1.5!R$17*100","v":29005655.518471397},{"$f":"B1.8!S18/B1.5!S$17*100","v":27552977.719371893},{"$f":"B1.8!T18/B1.5!T$17*100","v":26176274.801866341}]
[null,null,null,null,"z toho"," gymnázia, včetně sportovních škol2)",null,null,null,{"$f":"B1.8!J19/B1.5!J$17*100","v":5570378.2094240841},{"$f":"B1.8!K19/B1.5!K$17*100","v":5843607.4209989803},{"$f":"B1.8!L19/B1.5!L$17*100","v":6115290.1499999994},{"$f":"B1.8!M19/B1.5!M$17*100","v":6599210.6048780512},{"$f":"B1.8!N19/B1.5!N$17*100","v":6768849.3643263746},{"$f":"B1.8!O19/B1.5!O$17*100","v":6737019.009812667},{"$f":"B1.8!P19/B1.5!P$17*100","v":6875265.2338923207},{"$f":"B1.8!Q19/B1.5!Q$17*100","v":6538184.0295909485},{"$f":"B1.8!R19/B1.5!R$17*100","v":6452931.6222971827},{"$f":"B1.8!S19/B1.5!S$17*100","v":6231293.2330082618},{"$f":"B1.8!T19/B1.5!T$17*100","v":6195250.6371719651}]
[null,null,null,null,null," střední odborné školy, konzervatoře a VOŠ2)",null,null,null,{"$f":"B1.8!J20/B1.5!J$17*100","v":10322566.062827226},{"$f":"B1.8!K20/B1.5!K$17*100","v":10611936.534148827},{"$f":"B1.8!L20/B1.5!L$17*100","v":11065998.390000002},{"$f":"B1.8!M20/B1.5!M$17*100","v":11807457.71707317},{"$f":"B1.8!N20/B1.5!N$17*100","v":11810767.675521821},{"$f":"B1.8!O20/B1.5!O$17*100","v":11630469.482604817},{"$f":"B1.8!P20/B1.5!P$17*100","v":12744432.312444838},{"$f":"B1.8!Q20/B1.5!Q$17*100","v":12338959.512619665},{"$f":"B1.8!R20/B1.5!R$17*100","v":11991160.725533731},{"$f":"B1.8!S20/B1.5!S$17*100","v":11417596.536272727},{"$f":"B1.8!T20/B1.5!T$17*100","v":11031210.167392014}]
[null,null,null,null,null," střední odborná učiliště, učiliště, SPV2)",null,null,null,{"$f":"B1.8!J21/B1.5!J$17*100","v":10540077.235602094},{"$f":"B1.8!K21/B1.5!K$17*100","v":10652949.133537209},{"$f":"B1.8!L21/B1.5!L$17*100","v":10762925.719999999},{"$f":"B1.8!M21/B1.5!M$17*100","v":10882949.863414634},{"$f":"B1.8!N21/B1.5!N$17*100","v":10911519.013282729},{"$f":"B1.8!O21/B1.5!O$17*100","v":10620988.59054416},{"$f":"B1.8!P21/B1.5!P$17*100","v":10757518.005295677},{"$f":"B1.8!Q21/B1.5!Q$17*100","v":10121885.526544824},{"$f":"B1.8!R21/B1.5!R$17*100","v":9568005.0020324495},{"$f":"B1.8!S21/B1.5!S$17*100","v":8922854.8472809903},{"$f":"B1.8!T21/B1.5!T$17*100","v":7998252.9808557462}]
[null,null,null,null,"Stravování žáků MŠ, ZŠ, SŠ",null,null,null,null,{"$f":"B1.8!J22/B1.5!J$17*100","v":2161480.104712042},{"$f":"B1.8!K22/B1.5!K$17*100","v":2108202.7624872578},{"$f":"B1.8!L22/B1.5!L$17*100","v":3419642.22},{"$f":"B1.8!M22/B1.5!M$17*100","v":3326183.4731707321},{"$f":"B1.8!N22/B1.5!N$17*100","v":3269954.8007590128},{"$f":"B1.8!O22/B1.5!O$17*100","v":3225787.0383586087},{"$f":"B1.8!P22/B1.5!P$17*100","v":3370689.5763459839},{"$f":"B1.8!Q22/B1.5!Q$17*100","v":3219399.791122715},{"$f":"B1.8!R22/B1.5!R$17*100","v":2797217.3612297182},{"$f":"B1.8!S22/B1.5!S$17*100","v":2545495.9586776858},{"$f":"B1.8!T22/B1.5!T$17*100","v":2544636.9551833742}]
[null,null,null,null,"Ubytovací zařízení3) ",null,null,null,null,{"$f":"B1.8!J23/B1.5!J$17*100","v":3430621.811518325},{"$f":"B1.8!K23/B1.5!K$17*100","v":3902853.82262997},{"$f":"B1.8!L23/B1.5!L$17*100","v":4055161.1899999995},{"$f":"B1.8!M23/B1.5!M$17*100","v":4099580.3414634145},{"$f":"B1.8!N23/B1.5!N$17*100","v":3865834.2220113855},{"$f":"B1.8!O23/B1.5!O$17*100","v":3710839.4023193577},{"$f":"B1.8!P23/B1.5!P$17*100","v":4035256.1253309804},{"$f":"B1.8!Q23/B1.5!Q$17*100","v":3764796.7014795477},{"$f":"B1.8!R23/B1.5!R$17*100","v":3575204.8393082842},{"$f":"B1.8!S23/B1.5!S$17*100","v":2598665.9457107438},{"$f":"B1.8!T23/B1.5!T$17*100","v":3144780.1343928273}]
[null,null,null,null,"Vysoké školy (včetně kolejí a menz a VaV na VŠ)",null,null,null,null,{"$f":"B1.8!J24/B1.5!J$17*100","v":21472563.068062827},{"$f":"B1.8!K24/B1.5!K$17*100","v":23287922.191641182},{"$f":"B1.8!L24/B1.5!L$17*100","v":26442456.139999993},{"$f":"B1.8!M24/B1.5!M$17*100","v":28301630.068292685},{"$f":"B1.8!N24/B1.5!N$17*100","v":32831022.770398483},{"$f":"B1.8!O24/B1.5!O$17*100","v":27871733.487957187},{"$f":"B1.8!P24/B1.5!P$17*100","v":29753140.406001773},{"$f":"B1.8!Q24/B1.5!Q$17*100","v":28119129.912967794},{"$f":"B1.8!R24/B1.5!R$17*100","v":29227121.372664392},{"$f":"B1.8!S24/B1.5!S$17*100","v":28312925.567016535},{"$f":"B1.8!T24/B1.5!T$17*100","v":27896797.433080688}]
[null,null,null,null,"Státní správa ",null,null,null,null,{"$f":"B1.8!J25/B1.5!J$17*100","v":672795.97905759164},{"$f":"B1.8!K25/B1.5!K$17*100","v":717839.03160040767},{"$f":"B1.8!L25/B1.5!L$17*100","v":662073.87},{"$f":"B1.8!M25/B1.5!M$17*100","v":691905.14146341465},{"$f":"B1.8!N25/B1.5!N$17*100","v":765203.88994307397},{"$f":"B1.8!O25/B1.5!O$17*100","v":736891.00802854588},{"$f":"B1.8!P25/B1.5!P$17*100","v":662306.1429832303},{"$f":"B1.8!Q25/B1.5!Q$17*100","v":663526.70147954742},{"$f":"B1.8!R25/B1.5!R$17*100","v":694182.24754910346},{"$f":"B1.8!S25/B1.5!S$17*100","v":648274.1762892562},{"$f":"B1.8!T25/B1.5!T$17*100","v":591631.58826405869}]
[null,null,null,null,"z toho"," MŠMT",null,null,null,{"$f":"B1.8!J26/B1.5!J$17*100","v":306758.41884816752},{"$f":"B1.8!K26/B1.5!K$17*100","v":402947.55351681955},{"$f":"B1.8!L26/B1.5!L$17*100","v":328208.63},{"$f":"B1.8!M26/B1.5!M$17*100","v":356566.37073170737},{"$f":"B1.8!N26/B1.5!N$17*100","v":382060.4554079696},{"$f":"B1.8!O26/B1.5!O$17*100","v":411125.9678858163},{"$f":"B1.8!P26/B1.5!P$17*100","v":350865.07502206531},{"$f":"B1.8!Q26/B1.5!Q$17*100","v":336264.79547432548},{"$f":"B1.8!R26/B1.5!R$17*100","v":331139.88021349284},{"$f":"B1.8!S26/B1.5!S$17*100","v":289216.36536363646},{"$f":"B1.8!T26/B1.5!T$17*100","v":283801.26947840274}]
[null,null,null,null,null," Česká školní inspekce",null,null,null,{"$f":"B1.8!J27/B1.5!J$17*100","v":354850.99476439791},{"$f":"B1.8!K27/B1.5!K$17*100","v":295363.21100917435},{"$f":"B1.8!L27/B1.5!L$17*100","v":316763.76},{"$f":"B1.8!M27/B1.5!M$17*100","v":335338.80975609762},{"$f":"B1.8!N27/B1.5!N$17*100","v":383143.43453510432},{"$f":"B1.8!O27/B1.5!O$17*100","v":325765.03122212313},{"$f":"B1.8!P27/B1.5!P$17*100","v":311441.06796116504},{"$f":"B1.8!Q27/B1.5!Q$17*100","v":327261.90600522188},{"$f":"B1.8!R27/B1.5!R$17*100","v":363042.36733561056},{"$f":"B1.8!S27/B1.5!S$17*100","v":359057.81092561985},{"$f":"B1.8!T27/B1.5!T$17*100","v":307830.31878565601}]
[null,null,null,null,"Ostatní výdaje",null,null,null,null,{"$f":"B1.8!J28/B1.5!J$17*100","v":8239653.2146596583},{"$f":"B1.8!K28/B1.5!K$17*100","v":7821232.5790010467},{"$f":"B1.8!L28/B1.5!L$17*100","v":8341673.5599999959},{"$f":"B1.8!M28/B1.5!M$17*100","v":10476919.707317073},{"$f":"B1.8!N28/B1.5!N$17*100","v":13060417.779886149},{"$f":"B1.8!O28/B1.5!O$17*100","v":9173276.3603924997},{"$f":"B1.8!P28/B1.5!P$17*100","v":10251098.164165931},{"$f":"B1.8!Q28/B1.5!Q$17*100","v":12971835.230635334},{"$f":"B1.8!R28/B1.5!R$17*100","v":19316514.828377455},{"$f":"B1.8!S28/B1.5!S$17*100","v":18912845.752107419},{"$f":"B1.8!T28/B1.5!T$17*100","v":18201231.815615423}]
[null,null,null,"Komentáře:",null,null,null,null,null,null,null,null,null,null,null,null,null,null,null,"Zdroj: Státní závěrečný účet ČR; ZÚ – kapitola 333-MŠMT; 700-Obce a DSO, KÚ; ZÚ ostatních resortů; ČSÚ"]
[null,null,null,"1)","Z důvodu konsolidace nejsou zahrnuty z daných tříd následující položky: 5321, 5323,5329, 5344, 5345, 5349, 5366, 5641, 5642, 5649, 6341, 6342, 6349, 6441, 6442, 6449."]
[null,null,null,"2)","Bez škol pro děti/žáky/studenty se SVP."]
[null,null,null,"3)","Včetně zařízení pro výkon ústavní a ochranné výchovy."]
[null,null,null,"4)","Meziroční snížení výdajů v roce 2008 je dáno aplikací zákona č. 26/2008 Sb. a z něj vyplývajícím nepřeváděním nevyčerpaných prostředků OSS do rezervních fondů, a tudíž jejich nezahrnutím do čerpání."]

{"sheet":"B1.10","index":10,"n_rows":28,"n_cols":21,"rows_kept":28,"cut":false,"hidden":false,"merged":[[6,18,9,18],[6,19,9,19],[6,3,10,8],[27,4,27,19],[16,4,19,4],[22,4,22,19],[23,4,23,19],[24,4,24,19],[26,4,26,19],[25,4,25,19],[6,15,9,15],[6,16,9,16],[6,17,9,17],[6,13,9,13],[6,14,9,14],[6,9,9,9],[6,10,9,10],[6,11,9,11],[6,12,9,12]]}
[]
[]
[]
[null,null,null,"Tab. B1.10:",null,null,null,"Školství celkem – jednotkové výdaje na žáka/studenta v běžných cenách"]
[null,null,null,"v letech 2004 až 2013 – podle druhu/typu školy"]
[null,null,null,null,null,null,null,null,null,null,null,null,null,null,null,null,null,null,null,null,""]
[null,null,null,"Druh/typ školy",null,null,null,null,null,2003,2004,2005,2006,2007,2008,2009,2010,2011,2012,2013]
[]
[]
[]
[]
[null,null,null,null,"Předškolní vzdělávání",null,null,null,null,32597.428828365875,33621.193291497351,35730.907887854934,38924.164348098049,40491.763828218878,41978.733172905515,44122.810316569383,42476.673550929489,41708.766560199416,43103.504693911564,42398.219471246426]
[null,null,null,null,null,"z toho mateřské školy1)",null,null,null,32057.833308876419,33014.296605103686,35183.398955692341,38271.588665920455,39946.132699359172,41518.598071027584,43651.19973253725,42017.245294274209,41270.780979471325,42697.635047107062,42660.958297303936]
[null,null,null,null,"Základní vzdělávání, vč. škol. družin a klubů",null,null,null,null,37533.988397701032,40570.937756453488,42236.690680472253,46962.204614962204,50370.710492801496,52572.377975940188,57642.830962434899,57292.525785602797,60342.56451586241,60593.961290174295,59950.169265883902]
[null,null,null,null,null," z toho ZŠ, včetně školních družin a klubů1)",null,null,null,35555.835442289987,38377.208515022336,40635.012249397718,44373.893013712077,46299.764477727993,49739.994987042606,54598.906165339329,54277.828000778791,57213.501101098816,57519.373709126048,57005.112721022051]
[null,null,null,null,"Střední vzdělávání a konzervatoře",null,null,null,null,43686.288508050202,44972.255819400321,47291.916139521782,50514.830175093841,53018.371269968149,54812.844364482502,57271.47679763307,57010.131864046161,59340.486164316069,63209.688060478504,64193.955733938194]
[null,null,null,null,"z toho"," gymnázia, včetně sportovních škol1)",null,null,null,35515.477973488916,37524.628204068715,39927.186322012276,43114.405690961044,45484.376913282111,47765.737593879305,49668.045689806975,49280.104606320587,51390.72561910862,54212.077658464514,55647.151586491666]
[null,null,null,null,null," střední odborné školy, včetně VOŠ1),2)",null,null,null,40073.410086160155,40981.256472749032,43015.676921543556,47724.162545110987,48372.152611622798,49484.379267963239,52415.521989304725,52683.900371037002,55522.373163631622,59367.72708212187,63092.291450112156]
[null,null,null,null,null," konzervatoře1)",null,null,null,". ",". ",". ",". ",154800.46625155665,160971.84258664161,178499.0990362826,180496.16338804658,179795.4820165094,182301.97822635964,185190.12724774171]
[null,null,null,null,null," střední odborná učiliště, učiliště, SPV1)",null,null,null,52216.225837300008,53375.475030675108,57072.366133108677,58888.140425711033,61375.551753084888,63050.506066883703,65486.069370147336,64608.153271408555,66603.73712808748,69416.600569080052,67972.976564236043]
[null,null,null,null,"Vysoké školy včetně kolejí a menz",null,null,null,null,79169.84129644779,82770.005216064455,89025.958305953405,93537.881795323454,95596.679169417635,93763.486315610193,99018.639197308905,94453.773866161966,97395.932586053023,99501.522184918562,104763.02829190405]
[null,null,null,"Komentáře:",null,null,null,null,null,null,null,null,null,null,null,null,null,null,null,"Zdroj: ZÚ – kapitola 333-MŠMT; 700-Obce a DSO, KÚ; databáze MŠMT",""]
[null,null,null,null,"Metodika použitá pro výpočty výdajů na žáka/studenta:"]
[null,null,null,null,"•  počet žáků/studentů ve školním roce = počet dětí/žáků/studentů denní formy vzdělávání + 1/3 počtu dětí/žáků/studentů ostatních forem vzdělávání, od roku 2006 1/4 počtu dětí/žáků/studentů ostatních forem vzdělávání,"]
[null,null,null,null,"•  přepočtený počet dětí/studentů v kalendářním roce = 2/3 počtu dětí/studentů ve školním roce, který v daném kalendářním roce končí + 1/3 počtu dětí/studentů ve školním roce, který v daném kalendářním roce začíná,"]
[null,null,null,null,"•  celkové výdaje na školství = běžné (neinvestiční) výdaje z rozpočtů MŠMT, Obce a DSO, KÚ (nejsou započteny výdaje z rozpočtů MO, MV a MSp, které nejsou v ucelené vývojové řadě k dispozici)."]
[null,null,null,"1)","Bez škol pro děti/žáky/studenty se SVP."]
[null,null,null,"2)","Do roku 2006 včetně konzervatoří."]

{"sheet":"B1.11","index":11,"n_rows":31,"n_cols":21,"rows_kept":31,"cut":false,"hidden":false,"merged":[[6,18,9,18],[6,11,9,11],[6,12,9,12],[6,10,9,10],[6,17,9,17],[6,15,9,15],[6,13,9,13],[6,14,9,14],[6,16,9,16],[6,19,9,19],[16,4,19,4],[6,3,10,8],[30,4,30,19],[25,4,25,19],[26,4,26,19],[27,4,27,19],[28,4,28,19],[29,4,29,19],[6,9,9,9]]}
[]
[]
[]
[null,null,null,"Tab. B1.11:",null,null,null,"Školství celkem – jednotkové výdaje na žáka/studenta ve stálých cenách"]
[null,null,null,"roku 2005 v letech 2004 až 2013 – podle druhu/typu školy"]
[null,null,null,null,null,null,null,null,null,null,null,null,null,null,null,null,null,null,null,null,""]
[null,null,null,"Druh/typ školy",null,null,null,null,null,2003,2004,2005,2006,2007,2008,2009,2010,2011,2012,2013]
[]
[]
[]
[]
[null,null,null,null,"Předškolní vzdělávání",null,null,null,null,{"$f":"B1.10!J12/B1.11!J$23*100","v":34133.433328131803},{"$f":"B1.10!K12/B1.11!K$23*100","v":34272.368288988131},{"$f":"B1.10!L12/B1.11!L$23*100","v":35730.907887854934},{"$f":"B1.10!M12/B1.11!M$23*100","v":37974.794485949315},{"$f":"B1.10!N12/B1.11!N$23*100","v":38417.233233604245},{"$f":"B1.10!O12/B1.11!O$23*100","v":37447.576425428648},{"$f":"B1.10!P12/B1.11!P$23*100","v":38943.345380908548},{"$f":"B1.10!Q12/B1.11!Q$23*100","v":36968.384291496506},{"$f":"B1.10!R12/B1.11!R$23*100","v":35618.075627838953},{"$f":"B1.10!S12/B1.11!S$23*100","v":35622.731151993023},{"$f":"B1.10!T12/B1.11!T$23*100","v":34554.376097185348}]
[null,null,null,null,null,"z toho mateřské školy1)",null,null,null,{"$f":"B1.10!J13/B1.11!J$23*100","v":33568.411841755413},{"$f":"B1.10!K13/B1.11!K$23*100","v":33653.717232521594},{"$f":"B1.10!L13/B1.11!L$23*100","v":35183.398955692341},{"$f":"B1.10!M13/B1.11!M$23*100","v":37338.135283824835},{"$f":"B1.10!N13/B1.11!N$23*100","v":37899.556640758223},{"$f":"B1.10!O13/B1.11!O$23*100","v":37037.108002700792},{"$f":"B1.10!P13/B1.11!P$23*100","v":38527.09596870013},{"$f":"B1.10!Q13/B1.11!Q$23*100","v":36568.533763511063},{"$f":"B1.10!R13/B1.11!R$23*100","v":35244.048658814114},{"$f":"B1.10!S13/B1.11!S$23*100","v":35287.301691824017},{"$f":"B1.10!T13/B1.11!T$23*100","v":34768.507169766861}]
[null,null,null,null,"Základní vzdělávání, vč. škol. družin a klubů",null,null,null,null,{"$f":"B1.10!J14/B1.11!J$23*100","v":39302.60565204297},{"$f":"B1.10!K14/B1.11!K$23*100","v":41356.715348066755},{"$f":"B1.10!L14/B1.11!L$23*100","v":42236.690680472253},{"$f":"B1.10!M14/B1.11!M$23*100","v":45816.784990207023},{"$f":"B1.10!N14/B1.11!N$23*100","v":47790.047905883766},{"$f":"B1.10!O14/B1.11!O$23*100","v":46897.750201552357},{"$f":"B1.10!P14/B1.11!P$23*100","v":50876.285050692764},{"$f":"B1.10!Q14/B1.11!Q$23*100","v":49862.946723762223},{"$f":"B1.10!R14/B1.11!R$23*100","v":51530.798049412821},{"$f":"B1.10!S14/B1.11!S$23*100","v":50077.653958821727},{"$f":"B1.10!T14/B1.11!T$23*100","v":48859.143655977103}]
[null,null,null,null,null," z toho ZŠ, včetně školních družin a klubů1)",null,null,null,{"$f":"B1.10!J15/B1.11!J$23*100","v":37231.241300827212},{"$f":"B1.10!K15/B1.11!K$23*100","v":39120.49797657731},{"$f":"B1.10!L15/B1.11!L$23*100","v":40635.012249397718},{"$f":"B1.10!M15/B1.11!M$23*100","v":43291.602940206903},{"$f":"B1.10!N15/B1.11!N$23*100","v":43927.67028247437},{"$f":"B1.10!O15/B1.11!O$23*100","v":44371.092762749875},{"$f":"B1.10!P15/B1.11!P$23*100","v":48189.678874968522},{"$f":"B1.10!Q15/B1.11!Q$23*100","v":47239.188860555951},{"$f":"B1.10!R15/B1.11!R$23*100","v":48858.66874560104},{"$f":"B1.10!S15/B1.11!S$23*100","v":47536.672486881034},{"$f":"B1.10!T15/B1.11!T$23*100","v":46458.934572960105}]
[null,null,null,null,"Střední vzdělávání a konzervatoře",null,null,null,null,{"$f":"B1.10!J16/B1.11!J$23*100","v":45744.804720471417},{"$f":"B1.10!K16/B1.11!K$23*100","v":45843.278103364246},{"$f":"B1.10!L16/B1.11!L$23*100","v":47291.916139521782},{"$f":"B1.10!M16/B1.11!M$23*100","v":49282.761146433018},{"$f":"B1.10!N16/B1.11!N$23*100","v":50302.060028432774},{"$f":"B1.10!O16/B1.11!O$23*100","v":48896.382127103039},{"$f":"B1.10!P16/B1.11!P$23*100","v":50548.523210620537},{"$f":"B1.10!Q16/B1.11!Q$23*100","v":49617.17307575819},{"$f":"B1.10!R16/B1.11!R$23*100","v":50675.052232550021},{"$f":"B1.10!S16/B1.11!S$23*100","v":52239.411620230167},{"$f":"B1.10!T16/B1.11!T$23*100","v":52317.812334097958}]
[null,null,null,null,"z toho"," gymnázia, včetně sportovních škol1)",null,null,null,{"$f":"B1.10!J17/B1.11!J$23*100","v":37188.982171192583},{"$f":"B1.10!K17/B1.11!K$23*100","v":38251.404897113884},{"$f":"B1.10!L17/B1.11!L$23*100","v":39927.186322012276},{"$f":"B1.10!M17/B1.11!M$23*100","v":42062.834820449796},{"$f":"B1.10!N17/B1.11!N$23*100","v":43154.057792487773},{"$f":"B1.10!O17/B1.11!O$23*100","v":42609.935409348182},{"$f":"B1.10!P17/B1.11!P$23*100","v":43837.639620306247},{"$f":"B1.10!Q17/B1.11!Q$23*100","v":42889.560144752468},{"$f":"B1.10!R17/B1.11!R$23*100","v":43886.187548342125},{"$f":"B1.10!S17/B1.11!S$23*100","v":44803.369965673155},{"$f":"B1.10!T17/B1.11!T$23*100","v":45352.201781981799}]
[null,null,null,null,null," střední odborné školy, včetně VOŠ1),2)",null,null,null,{"$f":"B1.10!J18/B1.11!J$23*100","v":41961.685954094399},{"$f":"B1.10!K18/B1.11!K$23*100","v":41774.981113913389},{"$f":"B1.10!L18/B1.11!L$23*100","v":43015.676921543556},{"$f":"B1.10!M18/B1.11!M$23*100","v":46560.158580596086},{"$f":"B1.10!N18/B1.11!N$23*100","v":45893.882933228459},{"$f":"B1.10!O18/B1.11!O$23*100","v":44143.06803564963},{"$f":"B1.10!P18/B1.11!P$23*100","v":46262.596636632596},{"$f":"B1.10!Q18/B1.11!Q$23*100","v":45851.958547464747},{"$f":"B1.10!R18/B1.11!R$23*100","v":47414.494588925387},{"$f":"B1.10!S18/B1.11!S$23*100","v":49064.237257951958},{"$f":"B1.10!T18/B1.11!T$23*100","v":51419.960432039246}]
[null,null,null,null,null," konzervatoře1)",null,null,null,".",".",".",".",".",{"$f":"B1.10!O19/B1.11!O$23*100","v":143596.64815935917},{"$f":"B1.10!P19/B1.11!P$23*100","v":157545.5419561188},{"$f":"B1.10!Q19/B1.11!Q$23*100","v":157089.78536818674},{"$f":"B1.10!R19/B1.11!R$23*100","v":153540.12127797556},{"$f":"B1.10!S19/B1.11!S$23*100","v":150662.79192261127},{"$f":"B1.10!T19/B1.11!T$23*100","v":150929.19906091416}]
[null,null,null,null,null," střední odborná učiliště, učiliště, SPV1)",null,null,null,{"$f":"B1.10!J20/B1.11!J$23*100","v":54676.67626942409},{"$f":"B1.10!K20/B1.11!K$23*100","v":54409.250795795218},{"$f":"B1.10!L20/B1.11!L$23*100","v":57072.366133108677},{"$f":"B1.10!M20/B1.11!M$23*100","v":57451.84431776686},{"$f":"B1.10!N20/B1.11!N$23*100","v":58231.073769530245},{"$f":"B1.10!O20/B1.11!O$23*100","v":56244.876063232565},{"$f":"B1.10!P20/B1.11!P$23*100","v":57798.825569415123},{"$f":"B1.10!Q20/B1.11!Q$23*100","v":56229.898408536596},{"$f":"B1.10!R20/B1.11!R$23*100","v":56877.657667026026},{"$f":"B1.10!S20/B1.11!S$23*100","v":57369.091379405007},{"$f":"B1.10!T20/B1.11!T$23*100","v":55397.698911357817}]
[null,null,null,null,"Vysoké školy včetně kolejí a menz",null,null,null,null,{"$f":"B1.10!J21/B1.11!J$23*100","v":82900.357378479355},{"$f":"B1.10!K21/B1.11!K$23*100","v":84373.094002104452},{"$f":"B1.10!L21/B1.11!L$23*100","v":89025.958305953405},{"$f":"B1.10!M21/B1.11!M$23*100","v":91256.470044218004},{"$f":"B1.10!N21/B1.11!N$23*100","v":90698.936593375358},{"$f":"B1.10!O21/B1.11!O$23*100","v":83642.717498314189},{"$f":"B1.10!P21/B1.11!P$23*100","v":87395.091965850763},{"$f":"B1.10!Q21/B1.11!Q$23*100","v":82205.199187260194},{"$f":"B1.10!R21/B1.11!R$23*100","v":83173.298536339047},{"$f":"B1.10!S21/B1.11!S$23*100","v":82232.662962742615},{"$f":"B1.10!T21/B1.11!T$23*100","v":85381.441150696046}]
[null,null,null,"Index spotřebitelských cen a meziroční inflace"]
[null,null,null,null,"Index spotřebitelských cen (rok 2005 = 100)",null,null,null,null,95.5,98.1,100,102.5,105.4,112.1,113.3,114.9,117.1,121,122.7]
[null,null,null,null,"Meziroční inflace",null,null,null,null,1E-3,2.8000000000000001E-2,1.9E-2,2.5000000000000001E-2,2.8000000000000001E-2,6.3E-2,0.01,1.4999999999999999E-2,1.9E-2,3.3000000000000002E-2,1.4E-2]
[null,null,null,"Komentáře:",null,null,null,null,null,null,null,null,null,null,null,null,null,null,null,"Zdroj: ZÚ – kapitola 333-MŠMT; 700-Obce a DSO, KÚ; databáze MŠMT",""]
[null,null,null,null,"Metodika použitá pro výpočty výdajů na žáka/studenta:"]
[null,null,null,null,"•  počet žáků/studentů ve školním roce = počet dětí/žáků/studentů denní formy vzdělávání + 1/3 počtu dětí/žáků/studentů ostatních forem vzdělávání, od roku 2006 1/4 počtu dětí/žáků/studentů ostatních forem vzdělávání,"]
[null,null,null,null,"•  přepočtený počet dětí/studentů v kalendářním roce = 2/3 počtu dětí/studentů ve školním roce, který v daném kalendářním roce končí + 1/3 počtu dětí/studentů ve školním roce, který v daném kalendářním roce začíná,"]
[null,null,null,null,"•  celkové výdaje na školství = běžné (neinvestiční) výdaje z rozpočtů MŠMT, Obce a DSO, KÚ (nejsou započteny výdaje z rozpočtů MO, MV a MSp, které nejsou v ucelené vývojové řadě k dispozici)."]
[null,null,null,"1)","Bez škol pro děti/žáky/studenty se SVP."]
[null,null,null,"2)","Do roku 2006 včetně konzervatoří."]

{"sheet":"B1.12","index":12,"n_rows":15,"n_cols":21,"rows_kept":15,"cut":false,"hidden":false,"merged":[[12,4,13,4],[6,3,10,8],[6,9,9,9],[6,11,9,11],[6,10,9,10],[6,12,9,12],[6,13,9,13],[6,14,9,14],[6,19,9,19],[6,15,9,15],[6,16,9,16],[6,17,9,17],[6,18,9,18]]}
[]
[]
[]
[null,null,null,"Tab. B1.12:",null,null,null,"Školství celkem, neveřejné školy a školská zařízení – výše dotací "]
[null,null,null,"z rozpočtu kapitoly 333-MŠMT v letech 2004 až 2013 – podle zřizovatele"]
[null,null,null,null,null,null,null,null,null,null,null,null,null,null,null,null,null,null,null,"v tis. Kč",""]
[null,null,null,"Zřizovatel",null,null,null,null,null,2003,2004,2005,2006,2007,2008,2009,2010,2011,2012,2013]
[]
[]
[]
[]
[null,null,null,null,"Neveřejné celkem",null,null,null,null,3341562.91,3580016.6469999999,3849801.8176199999,4243343.9459499996,4528406.7220000001,4889100.714505,5026755.7833000002,{"$f":"Q13+Q14","v":5100180.07675},{"$f":"R13+R14","v":5088128.125},{"$f":"S13+S14","v":5117480.2225799998},{"$f":"T13+T14","v":5193374.17}]
[null,null,null,null,"v tom"," soukromé",null,null,null,2723177.65,2912555.8790000002,3123623.9879999999,3461196.8389499993,3672308.7029999997,3941870,3999147.4580000001,4081244,4008208,3984927,4004119.17]
[null,null,null,null,null," církevní",null,null,null,618385.26,667460.76799999992,726177.82961999997,782147.10699999996,856098.01899999997,947230.71450499992,1027608.3253,1018936.07675,1079920.125,1132553.2225799998,1189255]
[null,null,null,null,null,null,null,null,null,null,null,null,null,null,null,null,null,null,null,"Zdroj: Centrální registr dotací MF",""]

{"sheet":"B1.13","index":13,"n_rows":24,"n_cols":21,"rows_kept":24,"cut":false,"hidden":false,"merged":[[6,10,9,10],[6,17,9,17],[6,16,9,16],[6,12,9,12],[6,15,9,15],[6,13,9,13],[6,3,10,8],[21,4,21,19],[16,4,17,4],[20,4,20,19],[13,4,14,4],[6,14,9,14],[6,19,9,19],[6,9,9,9],[6,18,9,18],[6,11,9,11]]}
[]
[]
[]
[null,null,null,"Tab. B1.13:",null,null,null,"Školství celkem – přepočtené počty zaměstnanců "]
[null,null,null,"v letech 2004 až 2013"]
[null,null,null,null,null,null,null,null,null,null,null,null,null,null,null,null,null,null,null,null,""]
[null,null,null,null,null,null,null,null,null,2003,2004,2005,2006,2007,2008,2009,2010,2011,2012,2013]
[]
[]
[]
[]
[null,null,null,"Všichni zřizovatelé (bez jiných resortů)"]
[null,null,null,null,"Školy celkem",null,null,null,null,276992.80200000003,274522.58100000001,272617,271763.24699999997,271496.95400000014,270439.55800000334,270377.90599999961,271230.41700000031,269703.20399999956,268433.18999999831,269912.45699999778]
[null,null,null,null,"v tom"," regionální školství",null,null,null,244248.25399999999,241290.158,238113.30000000054,236084.97399999999,234899.47900000014,233315.31700000333,232614.73,233147.79100000029,231528.71599999955,229787.50299999831,229649.45899999782]
[null,null,null,null,null," vysoké školy1)",null,null,null,32744.547999999999,33232.423000000003,34503.595999999998,35678.273000000001,36597.474999999999,37124.241000000009,37763.175999999992,38082.626000000018,38174.487999999998,38645.686999999976,40262.997999999963]
[null,null,null,null,"Ostatní přímo řízené organizace PO2)",null,null,null,null,1057.539,1064.248,916.56899999999996,918.65800000000002,917.91800000000001,840.51900000000001,976.34500000000003,1116.5039999999999,1029.5630000000001,851.76400000000001,800.07599999999991]
[null,null,null,null,"v tom"," OPŘO odměňující dle § 109 odst. 3 ZP4)",null,null,null,1057.539,1064.248,916.56899999999996,918.65800000000002,884.846,807.79399999999987,944.99,1088.5539999999999,1004.671,832.17399999999998,785.40700000000004]
[null,null,null,null,null," OPŘO odměňující dle § 109 odst. 2 ZP3)",null,null,null,"x ","x ","x ","x ",33.072000000000003,32.725000000000001,31.355,27.95,24.891999999999999,19.59,14.669]
[null,null,null,null,"Ostatní organizační složky státu (VSC, CZVV)4)",null,null,null,null,98,96,94,138.49,141.58000000000001,161.863,111.254,92,92,91.44,91.974999999999994]
[null,null,null,"Komentáře:",null,null,null,null,null,null,null,null,null,null,null,null,null,null,null,"Zdroj: databáze MŠMT"]
[null,null,null,"1)","Veřejné vysoké školy včetně kolejí, menz, vysokoškolských zemědělských a lesních statků, včetně zaměstnanců výzkumu a vývoje."]
[null,null,null,"2)","Ostatní přímo řízené organizace včetně pedagogických center (VSC od 1. 3. 2003 změnilo formu hospodaření z OPŘO PO na organizační složku státu, CZVV od 1. 1. 2006)."]
[null,null,null,"3)","VKC a CSVŠ od 1. 1. 2007 odměňují podle zákona č. 262/06 Sb., § 109 odst. 2."]
[null,null,null,"4)","CZVV změnilo od 1. 4. 2009 formu hospodaření z ostatní OSS na OPŘO PO, data jsou kumulativní."]

{"sheet":"B1.14","index":14,"n_rows":41,"n_cols":21,"rows_kept":41,"cut":false,"hidden":false,"merged":[[6,10,9,10],[36,4,36,19],[37,4,37,19],[29,4,30,4],[26,4,27,4],[6,15,9,15],[6,16,9,16],[6,17,9,17],[6,18,9,18],[40,4,40,19],[6,19,9,19],[16,4,17,4],[19,4,20,4],[6,12,9,12],[6,13,9,13],[6,14,9,14],[6,3,10,8],[6,9,9,9],[6,11,9,11]]}
[]
[]
[]
[null,null,null,"Tab. B1.14:",null,null,null,"Školství celkem – průměrné měsíční mzdy "]
[null,null,null,"v letech 2004 až 2013"]
[null,null,null,"Data za jednotlivé roky jsou přepočtena ve srovnatelné metodice – nemusí souhlasit s dřívějšími publikacemi. ",null,null,null,null,null,null,null,null,null,null,null,null,null,null,null,null,""]
[null,null,null,null,null,null,null,null,null,2003,2004,2005,2006,2007,2008,2009,2010,2011,2011,2012]
[]
[]
[]
[null,null,null,null,null,null,null,null,null,null,null,null,null,null,"5)","5)","5)","5)","5)","5)"]
[null,null,null,"Všichni zřizovatelé (bez jiných resortů)"]
[null,null,null,"Nominální mzda (v běžných cenách)"]
[null,null,null,null,"Celkem ČR5)",null,null,null,null,17446,18583,19584,20844,22384,22691,23488,23797,24436,25101,25128]
[null,null,null,null,"Nepodnikatelská sféra5)",null,null,null,null,17692,18715,19876,20975,22387,23337,24432,24265,24469,25018,25251]
[null,null,null,null,"Školy celkem",null,null,null,null,16211.682000000001,17368.008000000002,18668.766222582086,19864,21107.957801741402,21893.957641421079,23272.004655155957,22904.522191734908,23577.792782110893,24248.108190657742,24628.197494913704]
[null,null,null,null,"v tom"," regionální školství",null,null,null,15707.912,16698.907999999999,17712.680593650057,18787,19841.654276295743,20519.082443767049,21890.625309569397,21457.948217274818,22059.45330520779,22600.393453874563,22736.160423889331]
[null,null,null,null,null," vysoké školy1)",null,null,null,19969.411,22226.131000000001,25266.823543551811,26991,29235.678044273092,30534.658001492859,31781.066061992948,31760.674250772525,32786.539459721527,34045.430593587327,35419.874999124579]
[null,null,null,null,"Ostatní přímo řízené organizace PO2)",null,null,null,null,17516.080000000002,18144.003000000001,19608.188799752115,20960,21968.478756635486,23528.113681348474,26621.531750218073,27058.296178667224,27945.579985553733,28669.569661705984,29100.919891776954]
[null,null,null,null,"v tom"," OPŘO odměňující dle § 109 odst. 3 ZP",null,null,null,17516.080000000002,18144.003000000001,19608.188799752115,20960,21839.692161121824,23353.329768067935,26560.0984313767,26994.270533815197,27889.555303842415,28614.727308631773,29043.746745318029]
[null,null,null,null,null," OPŘO odměňující dle § 109 odst. 2 ZP3)",null,null,null,"x ","x ","x ","x ",25414.182188356717,27842.533740769031,28473.034603731459,29551.86940966011,30206.803390647601,30999.247064828993,32162.082168745881]
[null,null,null,null,"Ostatní organizační složky státu (VSC, CZVV)4)",null,null,null,null,16560.78,18605.035,19459.656028368794,22117,23609.621768611385,24405.512686654762,26855.576728327367,26448.321557971012,26649.378623188404,27082.294400699913,28993.385883845247]
[null,null,null,"Reálná mzda (ve stálých cenách roku 2005)"]
[null,null,null,null,"Celkem ČR",null,null,null,null,{"$f":"J14/J$34*100","v":18268.062827225131},18942.915392456678,19584,20335.609756097561,21237.191650853889,{"$f":"O14/O$34*100","v":20241.748438893846},20730.80317740512,20711.053089643166,{"$f":"R14/R$34*100","v":20867.634500426986},20744.628099173555,20479.21760391198]
[null,null,null,null,"Nepodnikatelská sféra",null,null,null,null,18525.65445026178,19077.471967380225,19876,20463.414634146342,21240.037950664133,20818.019625334524,21563.989408649606,21118.363794604003,20895.815542271564,20676.03305785124,20579.462102689486]
[null,null,null,null,"Školy celkem",null,null,null,null,16975.5832460733,17704.39143730887,18668.766222582086,19379.512195121952,20026.525428597153,19530.738306352436,20540.162978954952,19934.31000150993,20134.750454407254,20039.758835254332,20071.880598951673]
[null,null,null,null,"v tom"," regionální školství",null,null,null,16448.075392670158,17022.33231396534,17712.680593650057,18328.780487804877,18825.098933866928,18304.266229943845,19320.940255577581,18675.324819212197,18838.132626138166,18678.011118904597,18529.878096079323]
[null,null,null,null,null," vysoké školy1)",null,null,null,20910.378010471202,22656.60652395515,25266.823543551811,26332.682926829268,27737.834956615836,27238.767173499429,28050.367221529523,27642.014143405158,27998.75274100899,28136.719498832503,28867.053789017587]
[null,null,null,null,"Ostatní přímo řízené organizace PO2)",null,null,null,null,18341.445026178015,18495.415902140674,19608.188799752115,20448.780487804877,20842.958972139928,20988.50462207714,23496.497573008008,23549.430964897496,23864.713907390036,23693.859224550401,23717.131126142587]
[null,null,null,null,"v tom"," OPŘO odměňující dle § 109 odst. 3 ZP",null,null,null,18341.445026178015,18495.415902140674,19608.188799752115,20448.780487804877,20720.770551348978,20832.586769016893,23442.275755848808,23493.708036392687,23816.870455885924,23648.534965811381,23670.535244757968]
[null,null,null,null,null," OPŘO odměňující dle § 109 odst. 2 ZP3)",null,null,null,"x ","x ","x ","x ",{"$f":"N21/N$34*100","v":24112.127313431418},24837.229028339905,25130.65719658558,25719.642654186344,25795.733040689669,25619.212450271898,26211.965907698355]
[null,null,null,null,"Ostatní organizační složky státu (VSC, CZVV)4)",null,null,null,null,{"$f":"J22/J$34*100","v":17341.130890052355},{"$f":"K22/K$34*100","v":18965.377166156984},{"$f":"L22/L$34*100","v":19459.656028368794},{"$f":"M22/M$34*100","v":21577.560975609758},{"$f":"N22/N$34*100","v":22400.020653331485},21771.197757943588,23703.068603995911,23018.556621384694,22757.795579153208,22382.061488181749,23629.491347877138]
[null,null,null,"Index spotřebitelských cen a meziroční inflace"]
[null,null,null,null,"Index spotřebitelských cen (rok 2005 = 100)",null,null,null,null,95.5,98.1,100,102.5,105.4,112.1,113.3,114.9,117.1,121,122.7]
[null,null,null,null,"Meziroční inflace",null,null,null,null,1E-3,2.8000000000000001E-2,1.9E-2,2.5000000000000001E-2,2.8000000000000001E-2,6.3E-2,0.01,1.4999999999999999E-2,1.9E-2,3.3000000000000002E-2,1.4E-2]
[null,null,null,"Komentáře:",null,null,null,null,null,null,null,null,null,null,null,null,null,null,null,"Zdroj: databáze MŠMT, ČSÚ"," "]
[null,null,null,"1)","Veřejné vysoké školy včetně kolejí, menz, vysokoškolských zemědělských a lesních statků, včetně zaměstnanců výzkumu a vývoje."]
[null,null,null,"2)","Ostatní přímo řízené organizace včetně pedagogických center (VSC od 1. 3. 2003 změnilo formu hospodaření z OPŘO PO na organizační složku státu, CZVV od 1. 1. 2006)."]
[null,null,null,"3)","VKC a CSVŠ od 1. 1. 2007 odměňují podle zákona č. 262/06 Sb., § 109 odst. 2."]
[null,null,null,"4)","CZVV změnilo od 1. 4. 2009 formu hospodaření z ostatní OSS na OPŘO PO, data jsou kumulativní."]
[null,null,null,"5)","Od 1. 1. 2009 ČSÚ přešel na novou metodiku výpočtu průměrných mezd, kde přednost dostaly údaje za přepočtené počty zaměstnanců a také za nezjišťované podnikatelské subjekty s méně než 20 zaměstnanci (ČR úhrnem). Data před rokem 2008 (bez podlimitních ekonomických subjektů) jsou nesrovnatelná s daty podle nové metodiky v roce 2008 a roce 2009."]

{"sheet":"GB1","index":15,"n_rows":41,"n_cols":22,"rows_kept":41,"cut":false,"hidden":false,"merged":[[40,4,40,20]]}
[]
[]
[]
[null,null,null,"Obr. B1",null,null,null,"Školství celkem – počet škol ve školním roce 2004/05 až 2013/14 – podle druhu školy"]
[]
[null,null,null,null,null,null,null,null,null,null,null,null,null,null,null,null,null,null,null,null,null,""]
[]
[]
[]
[null,null,null,null,null,null,null,null,null,null,"2003/04","2004/05","2005/06","2006/07","2007/08","2008/09","2009/10","2010/11","2011/12","2012/13","2013/14"]
[null,null,null,null,null,null,null,null,null,"MŠ",5067,4994,4834,4815,4808,4809,4826,4880,4931,5011,5085]
[null,null,null,null,null,null,null,null,null,"ZŠ",4838,4765,4474,4197,4155,4133,4125,4123,4111,4095,4095]
[null,null,null,null,null,null,null,null,null,"SŠ",2006,1966,2004,1482,1447,1438,1433,1423,1393,1347,1331]
[null,null,null,null,null,null,null,null,null,"Konzervatoře",17,17,17,18,19,18,17,18,18,18,18]
[null,null,null,null,null,null,null,null,null,"VOŠ",169,174,176,174,177,184,184,182,180,178,174]
[null,null,null,null,null,null,null,null,null,"VŠ veřejné a soukromé",52,60,64,63,68,71,71,70,71,70,69]
[]
[]
[]
[]
[]
[]
[]
[]
[]
[]
[]
[]
[]
[]
[]
[]
[]
[]
[]
[]
[]
[]
[null,null,null,"Komentáře:",null,null,null,null,null,null,null,null,null,null,null,null,null,null,null,null,"Zdroj: databáze MŠMT"," "]
[null,null,null,null,"Ve školním roce 2004/05 MŠ a ZŠ včetně škol při zdravotnických zařízeních."]
[null,null,null,null,"Do školního roku 2004/05 jsou MŠ a ZŠ započteny podle počtu jednotlivých pracovišť, od školního roku 2005/06 je uveden počet škol bez ohledu na počet těchto pracovišť. U středních škol, konzervatoří a VOŠ došlo k této změně vykazování o rok později."]

{"sheet":"GB2","index":16,"n_rows":42,"n_cols":21,"rows_kept":42,"cut":false,"hidden":false,"merged":[]}
[]
[]
[]
[null,null,null,"Obr. B2",null,null,"Školství celkem – struktura dětí/žáků/studentů ve školním roce 2004/05 až 2013/14 – podle druhu školy"]
[]
[]
[]
[]
[]
[null,null,null,null,null,null,null,null,null,"2003/04","2004/05","2005/06","2006/07","2007/08","2008/09","2009/10","2010/11","2011/12","2012/13","2013/14",""]
[null,null,null,null,null,null,null,null,"MŠ",284166,284218,282183,285419,291194,301620,314008,328612,342521,354340,363568]
[null,null,null,null,null,null,null,null,"ZŠ",992770,953655,916575,876513,844863,816015,794459,789486,794642,807950,827654]
[null,null,null,null,null,null,null,null,"SŠ",576615,579505,577605,576585,569267,564326,556260,532918,501220,470754,448792]
[null,null,null,null,null,null,null,null,"Konzervatoře",3543,3505,3495,3534,3606,3535,3435,3560,3557,3655,3690]
[null,null,null,null,null,null,null,null,"VOŠ",30681,29759,28792,27650,28774,28027,28749,29800,29335,28980,28332]
[null,null,null,null,null,null,null,null,"VŠ",243723,264785,289472,316176,343938,368052,389006,395992,392099,381047,368304]
[]
[]
[]
[]
[]
[]
[]
[]
[]
[]
[]
[]
[]
[]
[]
[]
[]
[]
[]
[]
[]
[]
[]
[null,null,null,"Komentáře:",null,null,null,null,null,null,null,null,null,null,null,null,null,null,null,"Zdroj: databáze MŠMT"]
[null,null,null,null,"Ve školním roce 2004/05 MŠ a ZŠ včetně škol při zdravotnických zařízeních."]
[null,null,null,null,"U VŠ počet studií."]

{"sheet":"GB3","index":17,"n_rows":36,"n_cols":21,"rows_kept":36,"cut":false,"hidden":false,"merged":[]}
[]
[]
[]
[null,null,null,"Obr. B3",null,null,"Školství celkem – struktura veřejných výdajů (v %) v letech 2004 až 2013"]
[]
[null,null,null,null,null,null,null,null,null,null,null,null,null,null,null,null,null,null,null,null,""]
[]
[]
[]
[null,null,null,null,null,null,null,null,null,2003,2004,2005,2006,2007,2008,2009,2010,2011,2012,2013]
[null,null,null,null,null,null,null,null,"Předškolní vzdělávání",8.4279839210184879E-2,8.3630678425457766E-2,8.4671736084187724E-2,8.383834558788858E-2,8.2867693846884721E-2,9.3338408480149293E-2,9.749361288688764E-2,9.9919179638106051E-2,9.3708030756345206E-2,9.8812803232385116E-2,0.10327413559550987]
[null,null,null,null,null,null,null,null,"Základní vzdělávání včetně školních družin a klubů",0.36870973534277063,0.36467868632639644,0.33744308597659856,0.33709670222058019,0.31287926077874367,0.32809947489360275,0.3300173712230664,0.32117513096256001,0.31398199254653419,0.30917553095025757,0.31574500563406105]
[null,null,null,null,null,null,null,null,"Střední vzdělávání včetně VOŠ a konzervatoří",0.22904805367840644,0.22738392563171875,0.22522233740726938,0.22050432925048027,0.21174854353717765,0.22311701089858776,0.21706233184890761,0.21161895033211028,0.19551352522987708,0.19454471832313425,0.18586416362054317]
[null,null,null,null,null,null,null,null,"Vysoké školy",0.17699724241756312,0.18567253237322817,0.20290535631279849,0.20309696710916211,0.2261867104729102,0.20690911929456185,0.20562211248279524,0.19825648870560081,0.19700632272392943,0.19991052094040826,0.19808070330242605]
[null,null,null,null,null,null,null,null,"Ostatní výdaje",0.14096512935107489,0.13863417724319896,0.14975748421914589,0.1554636558318889,0.1663177913642839,0.14853598643309851,0.14980457155834323,0.16903025036162281,0.1997901287433142,0.19755642655381497,0.19703599184745985]
[]
[]
[]
[]
[]
[]
[]
[]
[]
[]
[]
[]
[]
[]
[]
[]
[]
[]
[]
[]
[null,null,null,null,null,null,null,null,null,null,null,null,null,null,null,null,null,null,null,"Zdroj: Státní závěrečný účet ČR; ZÚ - kapitola 333-MŠMT; 700-Obce a DSO, KÚ; ZÚ ostatních resortů; ČSÚ"," "]

{"sheet":"GB4","index":18,"n_rows":37,"n_cols":21,"rows_kept":37,"cut":false,"hidden":false,"merged":[]}
[]
[]
[]
[null,null,null,"Obr. B4",null,null,"Školství celkem – jednotkové výdaje na dítě, žáka, studenta v tis. Kč v letech 2004 až 2013 – podle úrovně vzdělávání"]
[]
[null,null,null,null,null,null,null,null,null,null,null,null,null,null,null,null,null,null,null,null,""]
[]
[]
[]
[null,null,null,null,null,null,null,null,null,2003,2004,2005,2006,2007,2008,2009,2010,2011,2012,2013]
[null,null,null,null,null,null,null,null,"Předškolní vzdělávání",32.597428828365878,33.621193291497349,35.730907887854933,38.924164348098046,40.49176745459328,41.9787331729055,44.122810316569399,42.476673550929497,41.700014584991003,43.103504693911603,42.398219471246399]
[null,null,null,null,null,null,null,null,"Základní vzdělávání",37.53398839770103,40.570937756453489,42.23669068047225,46.962204614962204,50.366149591737546,52.572377975940199,57.6428309624349,57.292525785602798,60.346487378740903,60.593961290174299,59.9501692658839]
[null,null,null,null,null,null,null,null,"Střední vzdělávání včetně VOŠ\n a konzervatoří",43.686288508050204,44.972255819400324,47.291916139521781,50.514830175093842,53.018371269968149,54.812844364482501,57.271476797633099,57.010131864046201,59.340486164315998,63.209688060478499,64.193955733938196]
[]
[]
[]
[]
[]
[]
[]
[]
[]
[]
[]
[]
[]
[]
[]
[]
[]
[]
[]
[]
[]
[]
[null,null,null,null,null,null,null,null,null,null,null,null,null,null,null,null,null,null,null,null," "]
[null,null,null,null,null,null,null,null,null,null,null,null,null,null,null,null,null,null,null,"Zdroj: Státní závěrečný účet ČR; ZÚ - kapitola 333-MŠMT; 700-Obce a DSO, KÚ; ZÚ ostatních resortů; ČSÚ"]

{"sheet":"GB5","index":19,"n_rows":36,"n_cols":22,"rows_kept":36,"cut":false,"hidden":false,"merged":[]}
[]
[]
[]
[null,null,null,"Obr. B5",null,null,null,"Školství celkem – průměrné nominální měsíční mzdy v letech 2004 až 2013"]
[]
[]
[]
[]
[]
[null,null,null,null,null,null,null,null,null,null,2003,2004,2005,2006,2007,2008,2009,2010,2011,2012,2013,""]
[null,null,null,null,null,null,null,null,null,"RgŠ – všichni zřizovatelé ",15707.912,16698.907999999999,17712.680593650057,18787,19841.654276295743,20519.082443767049,21890.625309569397,21457.948217274818,22059.45330520779,22600.393453874563,22736.160423889331]
[null,null,null,null,null,null,null,null,null,"Veřejné VŠ",19969.411,22226.131000000001,25266.823543551811,26991,29235.678044273092,30534.658001492859,31781.066061992948,31760.674250772525,32786.539459721527,34045.430593587327,35419.874999124579]
[null,null,null,null,null,null,null,null,null,"CELKEM Česká republika",17446,18583,19584,20844,22384,22691,23488,23797,24436,25101,25128]
[null,null,null,null,null,null,null,null,null,"Nepodnikatelská sféra",17692,18715,19876,20975,22387,23337,24432,24265,24469,25018,25251]
[]
[]
[]
[]
[]
[]
[]
[]
[]
[]
[]
[]
[]
[]
[]
[]
[]
[]
[]
[]
[]
[null,null,null,null,null,null,null,null,null,null,null,null,null,null,null,null,null,null,null,null,"Zdroj: databáze MŠMT, ČSÚ"," "]

{"sheet":"GB6","index":20,"n_rows":32,"n_cols":22,"rows_kept":32,"cut":false,"hidden":false,"merged":[]}
[]
[]
[]
[null,null,null,"Obr. B6",null,null,null,"Školství celkem – průměrné reálné měsíční mzdy v letech 2004 až 2013"]
[]
[null,null,null,null,null,null,null,null,null,null,null,null,null,null,null,null,null,null,null,null,null,""]
[]
[]
[]
[null,null,null,null,null,null,null,null,null,null,2003,2004,2005,2006,2007,2008,2009,2010,2011,2012,2013]
[null,null,null,null,null,null,null,null,null,"RgŠ – všichni zřizovatelé ",{"$f":"'GB5'!K11/'GB6'!K$16*100","v":16448.075392670158},{"$f":"'GB5'!L11/'GB6'!L$16*100","v":17022.33231396534},{"$f":"'GB5'!M11/'GB6'!M$16*100","v":17712.680593650057},{"$f":"'GB5'!N11/'GB6'!N$16*100","v":18328.780487804877},{"$f":"'GB5'!O11/'GB6'!O$16*100","v":18825.098933866928},{"$f":"'GB5'!P11/'GB6'!P$16*100","v":18304.266229943845},{"$f":"'GB5'!Q11/'GB6'!Q$16*100","v":19320.940255577581},{"$f":"'GB5'!R11/'GB6'!R$16*100","v":18675.324819212197},{"$f":"'GB5'!S11/'GB6'!S$16*100","v":18838.132626138166},{"$f":"'GB5'!T11/'GB6'!T$16*100","v":18678.011118904597},{"$f":"'GB5'!U11/'GB6'!U$16*100","v":18529.878096079323}]
[null,null,null,null,null,null,null,null,null,"Veřejné VŠ",{"$f":"'GB5'!K12/'GB6'!K$16*100","v":20910.378010471202},{"$f":"'GB5'!L12/'GB6'!L$16*100","v":22656.60652395515},{"$f":"'GB5'!M12/'GB6'!M$16*100","v":25266.823543551811},{"$f":"'GB5'!N12/'GB6'!N$16*100","v":26332.682926829268},{"$f":"'GB5'!O12/'GB6'!O$16*100","v":27737.834956615836},{"$f":"'GB5'!P12/'GB6'!P$16*100","v":27238.767173499429},{"$f":"'GB5'!Q12/'GB6'!Q$16*100","v":28050.367221529523},{"$f":"'GB5'!R12/'GB6'!R$16*100","v":27642.014143405158},{"$f":"'GB5'!S12/'GB6'!S$16*100","v":27998.75274100899},{"$f":"'GB5'!T12/'GB6'!T$16*100","v":28136.719498832503},{"$f":"'GB5'!U12/'GB6'!U$16*100","v":28867.053789017587}]
[null,null,null,null,null,null,null,null,null,"CELKEM Česká republika",{"$f":"'GB5'!K13/'GB6'!K$16*100","v":18268.062827225131},{"$f":"'GB5'!L13/'GB6'!L$16*100","v":18942.915392456678},{"$f":"'GB5'!M13/'GB6'!M$16*100","v":19584},{"$f":"'GB5'!N13/'GB6'!N$16*100","v":20335.609756097561},{"$f":"'GB5'!O13/'GB6'!O$16*100","v":21237.191650853889},{"$f":"'GB5'!P13/'GB6'!P$16*100","v":20241.748438893846},{"$f":"'GB5'!Q13/'GB6'!Q$16*100","v":20730.80317740512},{"$f":"'GB5'!R13/'GB6'!R$16*100","v":20711.053089643166},{"$f":"'GB5'!S13/'GB6'!S$16*100","v":20867.634500426986},{"$f":"'GB5'!T13/'GB6'!T$16*100","v":20744.628099173555},{"$f":"'GB5'!U13/'GB6'!U$16*100","v":20479.21760391198}]
[null,null,null,null,null,null,null,null,null,"Nepodnikatelská sféra",{"$f":"'GB5'!K14/'GB6'!K$16*100","v":18525.65445026178},{"$f":"'GB5'!L14/'GB6'!L$16*100","v":19077.471967380225},{"$f":"'GB5'!M14/'GB6'!M$16*100","v":19876},{"$f":"'GB5'!N14/'GB6'!N$16*100","v":20463.414634146342},{"$f":"'GB5'!O14/'GB6'!O$16*100","v":21240.037950664133},{"$f":"'GB5'!P14/'GB6'!P$16*100","v":20818.019625334524},{"$f":"'GB5'!Q14/'GB6'!Q$16*100","v":21563.989408649606},{"$f":"'GB5'!R14/'GB6'!R$16*100","v":21118.363794604003},{"$f":"'GB5'!S14/'GB6'!S$16*100","v":20895.815542271564},{"$f":"'GB5'!T14/'GB6'!T$16*100","v":20676.03305785124},{"$f":"'GB5'!U14/'GB6'!U$16*100","v":20579.462102689486}]
[]
[null,null,null,null,null,null,null,null,null,null,95.5,98.1,100,102.5,105.4,112.1,113.3,114.9,117.1,121,122.7]
[]
[]
[]
[]
[]
[]
[]
[]
[]
[]
[]
[]
[]
[null,null,null,"Komentáře:"]
[null,null,null,null,"Průměrná reálná měsíční mzda ve stálých cenách roku 2005."]
[null,null,null,null,null,null,null,null,null,null,null,null,null,null,null,null,null,null,null,null,"Zdroj: databáze MŠMT, ČSÚ"," "]