{"text_format":"1","workbook":"xlsx","n_sheets":21,"sheets":["Obsah","B1.1","B1.2","B1.3","B1.4","B1.5","B1.7","B1.6","B1.8","B1.9","B1.10","B1.11","B1.12","B1.13","B1.14","GB1","GB2","GB3","GB4","GB5","GB6"],"not_rendered":{"charts":6,"images":0,"macros":1,"external_links":0,"defined_names":95,"comments":0,"pivot_tables":0},"unopened":[],"bounds":{"document_bytes":16777216,"sheet_cells":100000,"rows_first":2000,"rows_last":500,"rows_between":2000,"halvings":0,"cell_chars":16384,"cell_head_chars":4096},"cells_cut":0,"cells_raw":0,"read":"whole","date_system":"1900"}

{"sheet":"Obsah","index":0,"n_rows":47,"n_cols":5,"rows_kept":47,"cut":false,"hidden":false,"merged":[]}
[]
[]
[null,null,null,null,"B1 Vývoj českého školství jako celku"]
[null,null,"Zdroje dat jsou uvedeny v zápatí jednotlivých tabulek"]
[]
[null,null,null,null,"Obsah"]
[]
[null,null,"Tabulka 1",null,{"$f":"'B1.1'!H4&\" \"&'B1.1'!D5","v":"Školství celkem – počty škol  ve školním/akademickém roce 2009/10 až 2019/20 – podle druhu školy"}]
[]
[null,null,"Tabulka 2",null,{"$f":"'B1.2'!H4&\" \"&'B1.2'!D5","v":"Školství celkem – počty dětí/žáků/studentů  ve školním/akademickém roce 2009/10 až 2019/20 – podle druhu školy"}]
[]
[null,null,"Tabulka 3",null,{"$f":"'B1.3'!H4&\" \"&'B1.3'!D5","v":"Školství celkem – počty cizinců ve školním/akademickém roce 2009/10 až 2019/20 – podle druhu školy"}]
[]
[null,null,"Tabulka 4",null,{"$f":"'B1.4'!H4&\" \"&'B1.4'!D5","v":"Školství celkem – přepočtené počty učitelů/akademických pracovníků/nekvalifikovaných ve školním/akademickém roce 2009/10 až 2019/20 – podle druhu školy"}]
[]
[null,null,"Tabulka 5",null,{"$f":"'B1.5'!H4&\" \"&'B1.5'!D5","v":"Školství celkem – veřejné výdaje na školství v běžných cenách v letech 2009 až 2019"}]
[]
[null,null,"Tabulka 6",null,{"$f":"'B1.6'!H4&\" \"&'B1.6'!D5","v":"Školství celkem – veřejné výdaje na školství ve stálých cenách roku 2015 v letech 2009 až 2019"}]
[]
[null,null,"Tabulka 7",null,{"$f":"'B1.7'!H4&\" \"&'B1.7'!D5","v":"Školství celkem – veřejné výdaje na školství v běžných cenách  v letech 2009 až 2019 – podle jednotlivých kapitol státního rozpočtu"}]
[]
[null,null,"Tabulka 8",null,{"$f":"'B1.8'!H4&\" \"&'B1.8'!D5","v":"Školství celkem – veřejné výdaje v běžných cenách  v letech 2009 až 2019 – podle druhu/typu školy/zařízení"}]
[]
[null,null,"Tabulka 9",null,{"$f":"'B1.9'!H4&\" \"&'B1.9'!D5","v":"Školství celkem – veřejné výdaje ve stálých cenách roku 2015 v letech 2009 až 2019 – podle druhu/typu školy/zařízení"}]
[]
[null,null,"Tabulka 10",null,{"$f":"'B1.10'!H4&\" \"&'B1.10'!D5","v":"Školství celkem – jednotkové výdaje na žáka/studenta v běžných cenách v letech 2009 až 2019 – podle druhu/typu školy/zařízení"}]
[]
[null,null,"Tabulka 11",null,{"$f":"'B1.11'!H4&\" \"&'B1.11'!D5","v":"Školství celkem – jednotkové výdaje na žáka/studenta ve stálých cenách roku 2015 v letech 2009 až 2019 – podle druhu/typu školy/zařízení"}]
[]
[null,null,"Tabulka 12",null,{"$f":"'B1.12'!H4&\" \"&'B1.12'!D5","v":"Školství celkem, neveřejné školy a školská zařízení – výše dotací  z rozpočtu kapitoly 333-MŠMT v letech 2009 až 2019 – podle zřizovatele"}]
[]
[null,null,"Tabulka 13",null,{"$f":"'B1.13'!H4&\" \"&'B1.13'!D5","v":"Školství celkem – přepočtené počty zaměstnanců  v letech 2009 až 2019"}]
[]
[null,null,"Tabulka 14",null,{"$f":"'B1.14'!$H$4&\" \"&'B1.14'!$D$5","v":"Školství celkem – průměrné měsíční mzdy  v letech 2009 až 2019"}]
[null,null,null,"Obrazová příloha"]
[]
[null,null,"Graf 1",null,{"$f":"'GB1'!$H$4&\" \"&'GB1'!$D$5","v":"Školství celkem – počet škol ve školním roce 2009/10 až 2019/20 – podle druhu školy "}]
[]
[null,null,"Graf 2",null,{"$f":"'GB2'!$G$4&\" \"&'GB2'!$D$5","v":"Školství celkem – struktura dětí/žáků/studentů ve školním roce 2009/10 až 2019/20 – podle druhu školy "}]
[]
[null,null,"Graf 3",null,{"$f":"'GB3'!$G$4&\" \"&'GB3'!$D$5","v":"Školství celkem – struktura veřejných výdajů (v %) v letech 2009 až 2019 "}]
[]
[null,null,"Graf 4",null,{"$f":"'GB4'!$G$4&\" \"&'GB4'!$D$5","v":"Školství celkem – jednotkové výdaje na dítě, žáka, studenta v tis. Kč v letech 2009 až 2019 – podle úrovně vzdělávání "}]
[]
[null,null,"Graf 5",null,{"$f":"'GB5'!$H$4&\" \"&'GB5'!$D$5","v":"Školství celkem – průměrné nominální měsíční mzdy v letech 2009 až 2019 "}]
[]
[null,null,"Graf 6",null,{"$f":"'GB6'!$H$4&\" \"&'GB6'!$D$5","v":"Školství celkem – průměrné reálné měsíční mzdy v letech 2009 až 2019 "}]

{"sheet":"B1.1","index":1,"n_rows":23,"n_cols":27,"rows_kept":23,"cut":false,"hidden":false,"merged":[[6,18,9,18],[6,21,9,21],[14,5,15,5],[6,16,9,16],[6,11,9,11],[6,12,9,12],[22,4,22,25],[6,23,9,23],[21,4,21,25],[6,19,9,19],[6,20,9,20],[6,10,9,10],[12,4,18,4],[6,13,9,13],[6,14,9,14],[6,25,9,25],[6,3,10,8],[6,9,9,9],[6,15,9,15],[6,22,9,22],[6,24,9,24],[6,17,9,17]]}
[]
[]
[]
[null,null,null,"Tab. B1.1:",null,null,null,"Školství celkem – počty škol "]
[null,null,null,"ve školním/akademickém roce 2009/10 až 2019/20 – podle druhu školy"]
[null,null,null,null,null,null,null,null,null,null,null,null,null,null,null,null,null,null,null,null,null,null,null,null,null,null,""]
[null,null,null,"Druh školy",null,null,null,null,null,"2003/04","2004/05","2005/06","2006/07","2007/08","2008/09","2009/10","2010/11","2011/12","2012/13","2013/14","2014/15","2015/16","2016/17","2017/18","2018/19","2019/20"]
[]
[]
[]
[]
[null,null,null,null,"Celkem regionální školství1)",null,null,null,null,". ",". ",8681,8591,8541,8493,8472,8474,8490,8426,8442,8475,8500,8496,8557,8558,8566]
[null,null,null,null,"v tom"," mateřské školy",null,null,null,5067,4994,4834,4815,4808,4809,4826,4880,4931,5011,5085,5158,5209,5209,5269,5287,5304]
[null,null,null,null,null," základní školy",null,null,null,4838,4765,4474,4197,4155,4133,4125,4123,4111,4095,4095,4106,4115,4140,4155,4172,4192]
[null,null,null,null,null,"z toho","1. stupeň",null,null,". ",". ",4435,4155,4129,4108,4098,4096,4089,4074,4074,4085,4098,4125,4139,4156,4176]
[null,null,null,null,null,null,"2. stupeň",null,null,". ",". ",3052,2796,2775,2760,2755,2748,2738,2718,2705,2707,2710,2719,2729,2746,2778]
[null,null,null,null,null," střední školy",null,null,null,2006,1966,2004,1482,1447,1438,1433,1423,1393,1347,1331,1310,1304,1307,1308,1290,1284]
[null,null,null,null,null," konzervatoře",null,null,null,17,17,17,18,19,18,17,18,18,18,18,18,18,18,18,18,18]
[null,null,null,null,null," vyšší odborné školy",null,null,null,169,174,176,174,177,184,184,182,180,178,174,174,171,168,166,166,160]
[null,null,null,null,"Veřejné a soukromé vysoké školy2)",null,null,null,null,52,60,64,63,68,71,71,70,71,70,69,69,67,63,62,62,58]
[null,null,null,"Komentáře:",null,null,null,null,null,null,null,null,null,null,null,null,null,null,null,null,null,null,null,null,null,"Zdroj: databáze MŠMT",""]
[null,null,null,"1)","Počet právních subjektů vykonávajících činnost školy."]
[null,null,null,"2)","Počet institucí, na kterých se realizuje daný typ vzdělávání a k 31. 12. daného roku byla vykázána data."]

{"sheet":"B1.2","index":2,"n_rows":35,"n_cols":27,"rows_kept":35,"cut":false,"hidden":false,"merged":[[34,4,34,25],[24,4,30,4],[6,25,9,25],[6,9,9,9],[6,11,9,11],[6,12,9,12],[6,16,9,16],[6,21,9,21],[13,4,19,4],[6,18,9,18],[6,10,9,10],[33,4,33,25],[6,3,10,8],[6,13,9,13],[6,17,9,17],[26,5,27,5],[6,24,9,24],[15,5,16,5],[6,20,9,20],[6,23,9,23],[6,15,9,15],[6,22,9,22],[6,14,9,14],[6,19,9,19]]}
[]
[]
[]
[null,null,null,"Tab. B1.2:",null,null,null,"Školství celkem – počty dětí/žáků/studentů "]
[null,null,null,"ve školním/akademickém roce 2009/10 až 2019/20 – podle druhu školy"]
[null,null,null,null,null,null,null,null,null,null,null,null,null,null,null,null,null,null,null,null,null,null,null,null,null,null,""]
[null,null,null,"Druh školy",null,null,null,null,null,"2003/04","2004/05","2005/06","2006/07","2007/08","2008/09","2009/10","2010/11","2011/12","2012/13","2013/14","2014/15","2015/16","2016/17","2017/18","2018/19","2019/20"]
[]
[]
[]
[]
[null,null,null,null,"Školství celkem ",null,null,null,null,{"$f":"J13+J21","v":2131498},{"$f":"K13+K21","v":2115418},2098114,2085877,2081646,2081573,2085901,2080355,2063314,2046570,2039783,2034891,2029766,2030655,2033117,2037846,2052398]
[null,null,null,null,"Celkem regionální školství1)",null,null,null,null,1887775,1850642,1808650,1769701,1737704,1713523,1696911,1684376,1671275,1665679,1672036,1687998,1703238,1719487,1734063,1747747,1763483]
[null,null,null,null,"v tom"," mateřské školy",null,null,null,284166,284218,282183,285419,291194,301620,314008,328612,342521,354340,363568,367603,367361,362653,362756,363776,364909]
[null,null,null,null,null," základní školy",null,null,null,992770,953655,916575,876513,844863,816015,794459,789486,794642,807950,827654,854137,880251,906188,926108,940928,952946]
[null,null,null,null,null,"z toho","1. stupeň",null,null,". ",". ",473269,462820,458046,458198,460754,465380,474327,488106,505983,529604,551428,568966,575699,573442,563346]
[null,null,null,null,null,null,"2. stupeň",null,null,". ",". ",443306,413693,386817,357817,333705,324106,320315,319844,321671,324533,328823,337222,350409,367486,389600]
[null,null,null,null,null," střední školy",null,null,null,576615,579505,577605,576585,569267,564326,556260,532918,501220,470754,448792,435542,427107,424849,421535,420814,423838]
[null,null,null,null,null," konzervatoře",null,null,null,3543,3505,3495,3534,3606,3535,3435,3560,3557,3655,3690,3752,3733,3795,3781,3813,3836]
[null,null,null,null,null," vyšší odborné školy",null,null,null,30681,29759,28792,27650,28774,28027,28749,29800,29335,28980,28332,26964,24786,22002,19883,18416,17954]
[null,null,null,null,"Veřejné a soukromé vysoké školy2)",null,null,null,null,243723,264776,289464,316176,343942,368050,388990,395979,392039,380891,367747,346893,326528,311168,299054,290099,288915]
[null,null,null,"Z toho dívky/ženy"]
[null,null,null,null,"Školství celkem ",null,null,null,null,{"$f":"J24+J32","v":1045060},{"$f":"K24+K32","v":1042803},1037194,1035560,1038534,1043683,1048367,1046879,1038728,1031077,1025861,1022277,1017382,1016480,1016747,1017859,1025273]
[null,null,null,null,"Celkem regionální školství1)",null,null,null,null,924356,908094,886522,867709,852673,841083,831991,825353,819122,816918,819363,827646,835070,842251,848938,855724,864078]
[null,null,null,null,"v tom"," mateřské školy",null,null,null,135892,136002,134727,136604,139808,144502,150613,157799,164387,170705,175049,176574,176418,174058,174333,174772,175540]
[null,null,null,null,null," základní školy",null,null,null,481252,461978,442206,422041,406776,392745,382748,381028,384212,391115,400894,414331,427435,440240,449654,456757,462903]
[null,null,null,null,null,"z toho","1. stupeň",null,null,". ",". ",229244,224264,221913,222245,223589,225831,230709,237601,246310,258230,269136,277730,281087,279721,274520]
[null,null,null,null,null,null,"2. stupeň",null,null,". ",". ",212962,197777,184863,170500,159159,155197,153503,153514,154584,156101,158299,162510,168567,177036,188383]
[null,null,null,null,null," střední školy",null,null,null,284453,287383,287263,287185,283399,281527,275829,262889,247402,232209,220830,214988,210875,209632,208057,208308,209807]
[null,null,null,null,null," konzervatoře",null,null,null,2080,2063,2061,2091,2161,2141,2099,2176,2171,2247,2285,2303,2324,2387,2430,2444,2441]
[null,null,null,null,null," vyšší odborné školy",null,null,null,20679,20668,20265,19788,20529,20168,20702,21461,20950,20642,20305,19450,18018,15934,14464,13443,13387]
[null,null,null,null,"Veřejné a soukromé vysoké školy2)",null,null,null,null,120704,134709,150672,167851,185861,202600,216376,221526,219606,214159,206498,194631,182312,174229,167809,162135,161195]
[null,null,null,"Komentáře:",null,null,null,null,null,null,null,null,null,null,null,null,null,null,null,null,null,null,null,null,null,"Zdroj: databáze MŠMT",""]
[null,null,null,"1)","Údaje za všechny druhy škol v regionálním školství jsou za počty studií k 30. 9. daného roku (u VOŠ od roku 2016/17 k 31. 10.)."]
[null,null,null,"2)","Údaje za VŠ jsou ve fyzických osobách k 31. 12. daného roku."]

{"sheet":"B1.3","index":3,"n_rows":31,"n_cols":52,"rows_kept":31,"cut":false,"hidden":false,"merged":[[30,4,30,25],[22,4,26,4],[6,25,9,25],[6,9,9,9],[6,11,9,11],[6,12,9,12],[6,10,9,10],[13,4,17,4],[6,3,10,8],[6,15,9,15],[6,13,9,13],[6,14,9,14],[29,4,29,25],[6,16,9,16],[6,17,9,17],[6,18,9,18],[6,24,9,24],[6,19,9,19],[6,20,9,20],[6,21,9,21],[6,22,9,22],[6,23,9,23]]}
[]
[]
[]
[null,null,null,"Tab. B1.3:",null,null,null,"Školství celkem – počty cizinců"]
[null,null,null,"ve školním/akademickém roce 2009/10 až 2019/20 – podle druhu školy"]
[null,null,null,null,null,null,null,null,null,null,null,null,null,null,null,null,null,null,null,null,null,null,null,null,null,null,""]
[null,null,null,"Druh školy",null,null,null,null,null,"2003/04","2004/05","2005/06","2006/07","2007/08","2008/09","2009/10","2010/11","2011/12","2012/13","2013/14","2014/15","2015/16","2016/17","2017/18","2018/19","2019/20"]
[]
[]
[]
[]
[null,null,null,null,"Školství celkem ",null,null,null,null,{"$f":"J13+J19","v":33348},{"$f":"K13+K19","v":37113},41722,45213,49831,54816,60605,64857,67242,69129,71640,74234,78210,83116,86342,90434,95357]
[null,null,null,null,"Celkem regionální školství1)",null,null,null,null,20268,{"$f":"SUM(K14:K18)","v":20042},{"$f":"SUM(L14:L18)","v":20838},21346,22786,24690,26169,27352,28525,29688,31295,33297,36145,39619,42511,45588,48916]
[null,null,null,null,"v tom"," mateřské školy",null,null,null,3252,3244,3213,2811,3078,3535,3963,4223,4714,5434,6307,7214,8302,9494,10469,11343,11942]
[null,null,null,null,null," základní školy",null,null,null,12973,12113,12279,12504,12963,13583,13839,14109,14344,14551,15109,16477,18281,20237,21992,24026,26527]
[null,null,null,null,null," střední školy",null,null,null,3584,4250,4940,5615,6314,7134,7900,8458,8852,9024,9147,8837,8763,9063,9195,9305,9496]
[null,null,null,null,null," konzervatoře",null,null,null,74,82,93,112,110,131,118,136,151,169,185,217,212,214,208,209,219]
[null,null,null,null,null," vyšší odborné školy",null,null,null,385,353,313,304,321,307,349,426,464,510,547,552,587,611,647,705,732]
[null,null,null,null,"Veřejné a soukromé vysoké školy2)",null,null,null,null,13080,17071,20884,23867,27045,30126,34436,37505,38717,39441,40345,40937,42065,43497,43831,44846,46441]
[null,null,null,"Z toho dívky/ženy"]
[null,null,null,null,"Školství celkem ",null,null,null,null,{"$f":"J22+J28","v":16332},18300,20678,22540,24989,27633,30793,33253,34411,35485,36866,38215,40049,42517,44033,45914,48509]
[null,null,null,null,"Celkem regionální školství1)",null,null,null,null,9749,{"$f":"SUM(K23:K27)","v":9665},{"$f":"SUM(L23:L27)","v":10043},10291,11068,12015,12710,13437,13931,14591,15380,16404,17761,19309,20736,22270,23890]
[null,null,null,null,"v tom"," mateřské školy",null,null,null,1538,1500,1521,1326,1469,1700,1894,2053,2235,2598,3011,3494,4000,4542,4984,5402,5712,null,null,null,null,null,null,null,null,null,null,null,null,null,null,null,null,null,null,null,null,null,null,null,null,null," "]
[null,null,null,null,null," základní školy",null,null,null,6155,5798,5839,5916,6175,6477,6590,6822,6886,7051,7305,7981,8882,9773,10600,11595,12831]
[null,null,null,null,null," střední školy",null,null,null,1767,2103,2432,2779,3147,3566,3929,4207,4426,4497,4566,4415,4338,4447,4560,4648,4693]
[null,null,null,null,null," konzervatoře",null,null,null,46,42,48,58,53,66,61,77,87,99,111,125,130,133,139,140,141]
[null,null,null,null,null," vyšší odborné školy",null,null,null,243,222,203,212,224,206,236,278,297,346,387,389,411,414,453,485,513]
[null,null,null,null,"Veřejné a soukromé vysoké školy2)",null,null,null,null,6583,8635,10635,12249,13921,15618,18083,19816,20480,20894,21486,21811,22288,23208,23297,23644,24619]
[null,null,null,"Komentáře:",null,null,null,null,null,null,null,null,null,null,null,null,null,null,null,null,null,null,null,null,null,"Zdroj: databáze MŠMT",""]
[null,null,null,"1)","Údaje za všechny druhy škol v regionálním školství jsou za počty studií k 30. 9. daného roku (u VOŠ od roku 2016/17 k 31. 10.)."]
[null,null,null,"2)","Údaje za VŠ jsou ve fyzických osobách k 31. 12. daného roku."]

{"sheet":"B1.4","index":4,"n_rows":32,"n_cols":27,"rows_kept":32,"cut":false,"hidden":false,"merged":[[6,12,9,12],[6,19,9,19],[22,4,28,4],[24,5,25,5],[6,9,9,9],[6,3,10,8],[6,15,9,15],[31,4,31,25],[6,22,9,22],[6,21,9,21],[6,14,9,14],[6,25,9,25],[14,5,15,5],[6,16,9,16],[6,10,9,10],[6,18,9,18],[6,17,9,17],[6,20,9,20],[6,13,9,13],[6,23,9,23],[6,24,9,24],[12,4,18,4],[6,11,9,11]]}
[]
[]
[]
[null,null,null,"Tab. B1.4:",null,null,null,"Školství celkem – přepočtené počty učitelů/akademických pracovníků/nekvalifikovaných"]
[null,null,null,"ve školním/akademickém roce 2009/10 až 2019/20 – podle druhu školy"]
[null,null,null,null,null,null,null,null,null,null,null,null,null,null,null,null,null,null,null,null,null,null,null,null,null,null,""]
[null,null,null,"Druh školy",null,null,null,null,null,"2003/04","2004/05","2005/06","2006/07","2007/08","2008/09","2009/10","2010/11","2011/12","2012/13","2013/14","2014/15","2015/16","2016/17","2017/18","2018/19","2019/20"]
[]
[]
[]
[]
[null,null,null,null,"Celkem regionální školství",null,null,null,null,". ",". ",{"$f":"L13+L14+L17+L18+L19","v":135936.5},{"$f":"M13+M14+M17+M18+M19","v":135353.39999999991},133783.09999999998,132610.69999999995,132294.5,132015.69999999992,131482.6,130199.50000000001,130006.6,130288.09999999983,130850.60000000006,131919.99999999997,133913.99999999994,135548.29999999999,140891.29999999999]
[null,null,null,null,"v tom"," mateřské školy",null,null,null,". ",". ",22484.6,22367.699999999903,22744.299999999919,23567.799999999937,24584.3,25736.799999999919,26780.6,27739.200000000001,28583,29283.399999999852,29513.799999999923,29629.499999999894,30303.199999999964,30580.799999999999,32372.6]
[null,null,null,null,null," základní školy",null,null,null,". ",". ",63157.599999999999,62657.599999999999,61069.200000000055,59492.3,58417.3,58023.000000000007,57814.8,57668.9,58269.1,59128.7,60220.700000000106,61634.900000000081,63004.800000000003,64345.299999999996,67040.899999999994]
[null,null,null,null,null,"v tom","1. stupeň",null,null,". ",". ",27586,27727.1,27520,27529.200000000001,27634.9,27796.000000000011,28114.6,28374.9,29025.1,29888.3,30829.00000000004,31827.900000000052,32452.3,32829.699999999997,33463.699999999997]
[null,null,null,null,null,null,"2. stupeň",null,null,". ",". ",35571.599999999999,34930.5,33453.199999999997,31963.1,30782.40000000006,30226.999999999996,29700.2,29294,29244,29240.400000000001,29391.700000000066,29807,30552.5,31515.599999999999,33577.199999999997]
[null,null,null,null,null," střední školy",null,null,null,". ",". ",47352.1,47452,47124.3,46734.9,46488.800000000003,45384.899999999994,43875.8,41788.800000000003,40214.1,39070.1,38385.900000000038,38069.599999999999,38114.9,38223.4,39133.300000000003]
[null,null,null,null,null," konzervatoře",null,null,null,". ",". ",1019.6,1083.9000000000001,1046.3,1000.5,997.9,1030,1120.7,1126.5999999999999,1157.9000000000001,1063.4000000000001,1062.8999999999999,1059.7,1040.8,1035.8,1069.8]
[null,null,null,null,null," vyšší odborné školy",null,null,null,". ",". ",1922.6,1792.2,1799,1815.2,1806.2,1841,1890.7,1876,1782.5,1742.5,1667.3000000000006,1526.2999999999988,1450.3,1363,1274.7]
[null,null,null,null,"Veřejné vysoké školy1)",null,null,null,null,14221,14623,15015.9,15524.186,16525.900000000001,16976.598000000002,17271.642999999989,16990.582000000006,16418.91,15449.309000000008,15026.07,15072.743,15299.711000000005,15585.956,15038.25,14590.002999999997,14536.699000000013]
[null,null,null,"z toho nekvalifikovaní"]
[null,null,null,null,"Celkem regionální školství",null,null,null,null,". ",". ",{"$f":"L23+L24+L27+L28+L29","v":18494.400000000001},{"$f":"M23+M24+M27+M28+M29","v":18291.699999999997},18106.7,17345.2,16883.399999999998,16148.400000000001,18023.199999999997,14933.7,13386.7,10962.2,6708.7999999999993,6333.2,6579.5,7180.2999999999993,9067]
[null,null,null,null,"v tom"," mateřské školy",null,null,null,". ",". ",1429.4,1545.9,1558.1,1864.3,2183.5,2633.9,3134.3,2898.8,2862.5,2531.8000000000002,1550.3,1313,1252.5,1314.9,1888.3]
[null,null,null,null,null," základní školy",null,null,null,". ",". ",{"$f":"L25+L26","v":9817.9000000000015},{"$f":"M25+M26","v":9564.5999999999985},{"$f":"N25+N26","v":9590.2999999999993},8943.9,8272.4,7650,8157.5,6834.4,6319.7,5223.1000000000004,3423.4,3554.1,3928.5,4364.8999999999996,5312.5]
[null,null,null,null,null,"v tom","1. stupeň",null,null,". ",". ",4824.8,4538.2,4441.1000000000004,4193.3999999999996,3910.1,3676.4,3983.5,3344.5,3199.6,2757,1933.3,2026.7,2279,2444.6,2847.8]
[null,null,null,null,null,null,"2. stupeň",null,null,". ",". ",4993.1000000000004,5026.3999999999996,5149.2,4750.5,4362.3,3973.6,4174,3489.9,3120.1,2466.1,1490.1,1527.4,1649.5,1920.3,2464.6999999999998]
[null,null,null,null,null," střední školy",null,null,null,". ",". ",7126.5,7056,6849.8,6428.3,6324.4,5758.6,6580.3,5093.7,4131.2,3123.8,1686.7,1437,1369.8,1467.4,1834.5]
[null,null,null,null,null," konzervatoře",null,null,null,". ",". ",20.8,14.1,8.6999999999999993,10.3,7.1,11.2,26.1,8.5,11.3,27.8,12,8.6999999999999993,9.1999999999999993,8.8000000000000007,8.1999999999999993]
[null,null,null,null,null," vyšší odborné školy",null,null,null,". ",". ",99.8,111.1,99.8,98.4,96,94.7,125,98.3,62,55.7,36.4,20.399999999999999,19.5,24.3,23.5]
[null,null,null,null,"Veřejné vysoké školy",null,null,null,null,". ",". ",". ",". ",". ",". ",". ",". ",". ",". ",". ",". ",". ",". ",". ",". ",". ",""]
[null,null,null,"Komentáře:",null,null,null,null,null,null,null,null,null,null,null,null,null,null,null,null,null,null,null,null,null,"Zdroj: databáze MŠMT"]
[null,null,null,"1)","Údaje za zaměstnance financované z prostředků kapitoly 333 státního rozpočtu."]

{"sheet":"B1.5","index":5,"n_rows":21,"n_cols":27,"rows_kept":21,"cut":false,"hidden":false,"merged":[[20,4,20,25],[19,4,19,24],[6,19,9,19],[6,3,10,8],[16,4,16,7],[6,17,9,17],[6,18,9,18],[6,9,9,9],[6,15,9,15],[6,10,9,10],[6,11,9,11],[6,12,9,12],[6,13,9,13],[6,14,9,14],[6,16,9,16],[6,23,9,23],[6,25,9,25],[6,20,9,20],[6,24,9,24],[6,21,9,21],[6,22,9,22]]}
[]
[]
[]
[null,null,null,"Tab. B1.5:",null,null,null,"Školství celkem – veřejné výdaje na školství v běžných cenách"]
[null,null,null,"v letech 2009 až 2019"]
[null,null,null,"Včetně výdajů Ministerstva obrany.",null,null,null,null,null,null,null,null,null,null,null,null,null,null,null,null,null,null,null,null,null,"v mld. Kč",""]
[null,null,null,null,null,null,null,null,null,2003,2004,2005,2006,2007,2008,2009,2010,2011,2012,2013,2014,2015,2016,2017,2018,2019]
[]
[]
[]
[null,null,null,null,null,null,null,null,null,"1)","1)","1)","1)","1)","1),2)"]
[null,null,null,null,"Hrubý domácí produkt v běžných cenách",null,null,null,null,2688.107,3057.66,3257.9720000000002,3507.1309999999999,3840.1170000000002,4024.1170000000002,3930.4090000000001,3992.87,4062.3229999999999,4088.9119999999998,4142.8109999999997,4345.7659999999996,4625.3779999999997,4767.8729999999996,5110.7430000000004,5408.7659999999996,5748.6679999999997]
[null,null,null,null,"Výdaje na školství celkem",null,null,null,null,115.85659442999999,123.04163344999998,130.31916268999996,142.83409172,152.98776881999996,151.00300029000005,163.94301017999999,152.69915499000001,156.04791444351,154.61274100268,155.36600783187001,160.86980108959,166.21885762913001,162.24669776264,181.55462441974001,221.5,247.91723176067001]
[null,null,null,null,"Výdaje na školství v % HDP",null,null,null,null,{"$f":"J13/J12","v":4.3099695968203643E-2},{"$f":"K13/K12","v":4.024045624758802E-2},4.0000086768701495E-2,4.0726762621641453E-2,3.9839350941650982E-2,3.752450544802749E-2,4.1711437710426569E-2,3.824295681802814E-2,3.8413467969806929E-2,3.7812684890914751E-2,3.7502557522385169E-2,3.7017593926960177E-2,3.5936275398276644E-2,3.402915676710349E-2,{"$f":"X13/X12","v":3.552411546026478E-2},4.0952039707393521E-2,4.3126030544931457E-2]
[null,null,null,null,"Výdaje státního rozpočtu",null,null,null,null,808.71799999999996,862.89167486999997,922.79801823000003,1020.64022353,1092.2745768699999,1083.9436448500001,1167.0090544300001,1192.160779,1262.9008851271001,1263.0639357245,1264.9838415024001,1273.3683339603001,1308.0718009243001,1329.1397584621,1483.6679425911,1778.8453646364001,200.43349900000001]
[null,null,null,"Index spotřebitelských cen a meziroční inflace"]
[null,null,null,null,"Index spotřebitelských cen\n(rok 2015 = 100)",null,null,null,null,95.5,98.1,100,83,85.3,90.7,91.7,93,94.8,97.9,99.3,99.7,100,100.7,103.1,105.3,108.3]
[null,null,null,null,"Meziroční inflace",null,null,null,null,1E-3,2.8000000000000001E-2,1.9E-2,2.5000000000000001E-2,2.8000000000000001E-2,6.3E-2,0.01,1.4999999999999999E-2,1.9E-2,3.3000000000000002E-2,1.4E-2,4.0000000000000001E-3,3.0000000000000001E-3,7.0000000000000001E-3,2.5000000000000001E-2,2.1000000000000001E-2,2.8000000000000001E-2]
[null,null,null,"Komentáře:",null,null,null,null,null,null,null,null,null,null,null,null,null,null,null,null,null,null,null,null,null,"Zdroj: Státní závěrečný účet ČR; ZÚ - kapitola 333-MŠMT; 700-Obce a DSO, KÚ; ZÚ ostatních resortů; ČSÚ; monitor.statnipokladna.cz"]
[null,null,null,"1)","Z důvodu konsolidace nejsou zahrnuty z daných tříd následující položky: 5321, 5323,5329, 5344, 5345, 5349, 5366, 5641, 5642, 5649, 6341, 6342, 6349, 6441, 6442, 6449."]
[null,null,null,"2)","Meziroční snížení výdajů v roce 2008 je dáno aplikací zákona č. 26/2008 Sb. a z něj vyplývajícím nepřeváděním nevyčerpaných prostředků OSS do rezervních fondů, a tudíž jejich nezahrnutím do čerpání."]

{"sheet":"B1.7","index":6,"n_rows":20,"n_cols":27,"rows_kept":20,"cut":false,"hidden":false,"merged":[[19,4,19,25],[18,4,18,25],[6,12,9,12],[6,13,9,13],[6,14,9,14],[6,25,9,25],[6,3,10,8],[6,9,9,9],[17,4,17,25],[6,15,9,15],[6,10,9,10],[11,4,15,4],[6,16,9,16],[6,11,9,11],[6,17,9,17],[6,18,9,18],[6,24,9,24],[6,19,9,19],[6,23,9,23],[6,20,9,20],[6,21,9,21],[6,22,9,22]]}
[]
[]
[]
[null,null,null,"Tab. B1.7:",null,null,null,"Školství celkem – veřejné výdaje na školství v běžných cenách "]
[null,null,null,"v letech 2009 až 2019 – podle jednotlivých kapitol státního rozpočtu"]
[null,null,null,"Včetně výdajů Ministerstva obrany.",null,null,null,null,null,null,null,null,null,null,null,null,null,null,null,null,null,null,null,null,null,"v mld. Kč",""]
[null,null,null,null,null,null,null,null,null,2003,2004,2005,2006,2007,2008,2009,2010,2011,2012,2013,2014,2015,2016,2017,2018,2019]
[]
[]
[]
[null,null,null,null,null,null,null,null,null,null,null,null,null,null,"2)"]
[null,null,null,null,"z rozpočtu"," MŠMT (kapitola 333)",null,null,null,90.550358919999994,95.598063760000002,102.5772496,110.88192273,123.19915426,119.38269835000001,127.64959669999999,124.26620801,138.95913313704,138.18448067902,138.44283642383999,140.04624803388,143.66757471456,140.56429288203,157.51144002411999,174.96992167856999,196.72863699999999]
[null,null,null,null,null," obcí a DSO (kapitola 700)",null,null,null,56.462545279999993,59.343527319999993,26.262040000000002,30.321037579999988,28.948321350000001,31.88567351,35.957294779999998,36.792089259999997,37.108727170000002,34.242490360000005,35.224372701930001,38.68491453307,39.47180007867,35.651279794990003,43.2174924754,49.7,58.310807400000002]
[null,null,null,null,null," krajských úřadů (kapitola 700)",null,null,null,30.189487159999995,32.017293670000001,68.418966780000005,72.733135290000007,75.256390839999995,77.537114070000044,82.646670060000005,81.009500209999999,81.571840350000002,83.060042839999994,83.050814856179997,85.805381176149993,87.848226484700007,89.948189355529905,99.349677299709995,115.9811241009,133.65349610000001]
[null,null,null,null,null," konsolidace výdajů 1)",null,null,null,-62.954618860000004,-65.61084507999999,-68.704081900000006,-72.687656160000003,-75.818876750000001,-79.00575911,-83.450057549999997,-80.157123420000005,-84.870904782780002,-85.112748434630006,-84.993061221790001,-86.945909665619993,-89.378620053500001,-93.891349321129994,-106.43647625877,-121.41766976513,-144.48057047904001]
[null,null,null,null,null," Ministerstva obrany (kapitola 307)3)",null,null,null,1.6008726800000002,1.69042778,1.7619882099999999,1.5825042800000002,1.4027791200000002,1.2032734700000001,1.1395061900000001,1.0902569200000001,0.95317303000000009,0.99560431000000005,1.08021149313,1.12204538634,1.2392000000000001,1.1760588301099999,1.1809315030700001,1.3,1.5068280000000001]
[null,null,null,"Komentáře:",null,null,null,null,null,null,null,null,null,null,null,null,null,null,null,null,null,null,null,null,null,"Zdroj: Státní závěrečný účet ČR; ZÚ – kapitola 333-MŠMT; 700-Obce a DSO, KÚ; ZÚ ostatních resortů; ČSÚ; monitor.statnipokladna.cz",""]
[null,null,null,"1)","Celkové výdaje na vzdělávání a školské služby - Oddíl 31 a 32 odvětvového třídění rozpočtové skladby po konsolidaci na úrovni územních rozpočtů a státního rozpočtu. Konsolidovány položky rozpočtové skladby: na úrovni státního rozpočtu - 5321, 5323, 5329, 5342, 5345, 5346, 5349, 6341, 6342, 6343, 6344, 6345, 6349, 6361, 6362 a podseskupení položek 64xx."]
[null,null,null,"2)","Meziroční snížení výdajů v roce 2008 je dáno aplikací zákona č. 26/2008 Sb. a z něj vyplývajícím nepřeváděním nevyčerpaných prostředků OSS do rezervních fondů, a tudíž jejich nezahrnutím do čerpání."]
[null,null,null,"3)","Z výdajů kapitoly je již odečten transfer obcím a krajským úřadům."]

{"sheet":"B1.6","index":7,"n_rows":16,"n_cols":27,"rows_kept":16,"cut":false,"hidden":false,"merged":[[6,10,9,10],[6,22,9,22],[6,15,9,15],[6,9,9,9],[14,4,14,25],[15,4,15,25],[6,25,9,25],[6,16,9,16],[6,11,9,11],[6,12,9,12],[6,13,9,13],[6,14,9,14],[6,18,9,18],[6,19,9,19],[6,23,9,23],[6,24,9,24],[6,17,9,17],[6,20,9,20],[6,21,9,21],[6,3,10,8]]}
[]
[]
[]
[null,null,null,"Tab. B1.6:",null,null,null,"Školství celkem – veřejné výdaje na školství ve stálých cenách roku 2015"]
[null,null,null,"v letech 2009 až 2019"]
[null,null,null,"Včetně výdajů Ministerstva obrany.",null,null,null,null,null,null,null,null,null,null,null,null,null,null,null,null,null,null,null,null,null,"v mld. Kč",""]
[null,null,null,null,null,null,null,null,null,2003,2004,2005,2006,2007,2008,2009,2010,2011,2012,2013,2014,2015,2016,2017,2018,2019]
[]
[]
[]
[null,null,null,null,null,null,null,null,null,"1)","1)","1)","1)","1)","1),2)"]
[null,null,null,null,"Výdaje státního rozpočtu ",null,null,null,null,{"$f":"'B1.5'!J15/'B1.5'!J17*100","v":846.82513089005238},{"$f":"'B1.5'!K15/'B1.5'!K17*100","v":879.60415379204892},{"$f":"'B1.5'!L15/'B1.5'!L17*100","v":922.79801822999991},{"$f":"'B1.5'!M15/'B1.5'!M17*100","v":1229.6870163012049},{"$f":"'B1.5'!N15/'B1.5'!N17*100","v":1280.5094687807737},{"$f":"'B1.5'!O15/'B1.5'!O17*100","v":1195.0867087651598},{"$f":"'B1.5'!P15/'B1.5'!P17*100","v":1272.6380091930207},{"$f":"'B1.5'!Q15/'B1.5'!Q17*100","v":1281.8933107526882},{"$f":"'B1.5'!R15/'B1.5'!R17*100","v":1332.1739294589663},{"$f":"'B1.5'!S15/'B1.5'!S17*100","v":1290.1572377165473},{"$f":"'B1.5'!T15/'B1.5'!T17*100","v":1273.9011495492448},{"$f":"'B1.5'!U15/'B1.5'!U17*100","v":1277.1999337615848},{"$f":"'B1.5'!V15/'B1.5'!V17*100","v":1308.0718009243001},{"$f":"'B1.5'!W15/'B1.5'!W17*100","v":1319.9004552751737},{"$f":"'B1.5'!X15/'B1.5'!X17*100","v":1439.0571703114454},{"$f":"'B1.5'!Y15/'B1.5'!Y17*100","v":1689.3118372615386},{"$f":"'B1.5'!Z15/'B1.5'!Z17*100","v":185.07248291782088}]
[null,null,null,null,"Výdaje na školství celkem",null,null,null,null,{"$f":"'B1.5'!J13/'B1.5'!J17*100","v":121.31580568586386},{"$f":"'B1.5'!K13/'B1.5'!K17*100","v":125.42470280326197},{"$f":"'B1.5'!L13/'B1.5'!L17*100","v":130.31916268999996},{"$f":"'B1.5'!M13/'B1.5'!M17*100","v":172.08926713253013},{"$f":"'B1.5'!N13/'B1.5'!N17*100","v":179.35260119577956},{"$f":"'B1.5'!O13/'B1.5'!O17*100","v":166.48621862183026},{"$f":"'B1.5'!P13/'B1.5'!P17*100","v":178.78190859323882},{"$f":"'B1.5'!Q13/'B1.5'!Q17*100","v":164.19263977419357},{"$f":"'B1.5'!R13/'B1.5'!R17*100","v":164.60750468724683},{"$f":"'B1.5'!S13/'B1.5'!S17*100","v":157.92925536535239},{"$f":"'B1.5'!T13/'B1.5'!T17*100","v":156.46123648728098},{"$f":"'B1.5'!U13/'B1.5'!U17*100","v":161.35386267762286},{"$f":"'B1.5'!V13/'B1.5'!V17*100","v":166.21885762913001},{"$f":"'B1.5'!W13/'B1.5'!W17*100","v":161.11886570272094},{"$f":"'B1.5'!X13/'B1.5'!X17*100","v":176.09565899101844},{"$f":"'B1.5'!Y13/'B1.5'!Y17*100","v":210.35137701804368},{"$f":"'B1.5'!Z13/'B1.5'!Z17*100","v":228.91711150569716}]
[null,null,null,"Komentáře:",null,null,null,null,null,null,null,null,null,null,null,null,null,null,null,null,null,null,null,null,null,"Zdroj: Státní závěrečný účet ČR; ZÚ - kapitola 333-MŠMT; 700-Obce a DSO, KÚ; ZÚ ostatních resortů; ČSÚ; monitor.statnipokladna.cz"]
[null,null,null,"1)","Z důvodu konsolidace nejsou zahrnuty z daných tříd následující položky: 5321, 5323,5329, 5344, 5345, 5349, 5366, 5641, 5642, 5649, 6341, 6342, 6349, 6441, 6442, 6449."]
[null,null,null,"2)","Meziroční snížení výdajů v roce 2008 je dáno aplikací zákona č. 26/2008 Sb. a z něj vyplývajícím nepřeváděním nevyčerpaných prostředků OSS do rezervních fondů, a tudíž jejich nezahrnutím do čerpání."]

{"sheet":"B1.8","index":8,"n_rows":46,"n_cols":26,"rows_kept":46,"cut":false,"hidden":false,"merged":[[32,4,32,24],[36,4,36,24],[37,4,37,24],[38,4,38,24],[39,4,39,24],[18,4,20,4],[25,4,26,4],[29,4,29,25],[30,4,30,25],[31,4,31,25],[6,21,9,21],[6,20,9,20],[6,25,9,25],[6,16,9,16],[6,18,9,18],[6,19,9,19],[6,17,9,17],[6,22,9,22],[6,23,9,23],[6,24,9,24],[6,3,10,8],[6,15,9,15],[6,12,9,12],[6,14,9,14],[6,13,9,13],[6,9,9,9],[6,11,9,11],[6,10,9,10],[55,3,55,25],[56,3,56,25],[57,3,57,25],[33,4,33,24],[34,4,34,24],[35,4,35,24],[44,4,44,25],[46,4,46,25],[40,4,40,24],[41,4,41,25],[42,4,42,25],[50,3,50,25],[51,3,51,25],[52,3,52,25],[53,3,53,25],[54,3,54,25],[43,4,43,25],[45,4,45,25],[47,3,47,25],[48,3,48,25],[49,3,49,25]]}
[]
[]
[]
[null,null,null,"Tab. B1.8:",null,null,null,"Školství celkem – veřejné výdaje v běžných cenách "]
[null,null,null,"v letech 2009 až 2019 – podle druhu/typu školy/zařízení"]
[null,null,null,"Včetně výdajů Ministerstva obrany.",null,null,null,null,null,null,null,null,null,null,null,null,null,null,null,null,null,null,null,null,null,"v tis. Kč"]
[null,null,null,"Druh/typ školy/zařízení",null,null,null,null,null,2003,2004,2005,2006,2007,2008,2009,2010,2011,2012,2013,2014,2015,2016,2017,2018,2019]
[]
[]
[]
[null,null,null,null,null,null,null,null,null,"1)","1)","1)","1)","1)","1),4)"]
[null,null,null,null,"Výdaje na vzdělávání a školské služby celkem",null,null,null,null,115856594.42999998,123041633.45000002,130319162.68999997,142834091.67999998,{"$f":"N13+N15+N17+N18+N22+N23+N24+N25+N28","v":152987768.82000002},{"$f":"O13+O15+O17+O18+O22+O23+O24+O25+O28","v":151002990.28999996},{"$f":"P13+P15+P17+P18+P22+P23+P24+P25+P28","v":163943010.18000004},{"$f":"Q13+Q15+Q17+Q18+Q22+Q23+Q24+Q25+Q28","v":162965058.45000002},173721968.90426001,171369869.75438994,172805174.25329009,178712679.46382001,182848145.49344999,173448471.54153001,194823065.04352999,221502580.83132997,247894493.71853015]
[null,null,null,null,"Předškolní vzdělávání 3)",null,null,null,null,9764375.1499999985,10290055.279999999,11034349.75,11974973.939999998,12677778.41,14094485.24,15983396.369999999,16283334.950000003,16279366.760000002,16933537.219999999,17846304.997439999,19317698.828019999,19325226.799660005,18811578.892880004,21529333.77448,24852333.314210001,28128245.559]
[null,null,null,null,null,"z toho mateřské školy2), 4)",null,null,null,9396746.4799999986,9911525.2299999986,10617936.950000001,11575064.41,12315411.040000001,13720094.940000001,15620518.33,15899430.730000002,15927107.190000001,16565923.960000001,17722819.151099999,18957182.011689998,18958940.478960004,18408452.535590004,21098949.543329999,24286306.693050001,27474076.21525]
[null,null,null,null,"Základní vzdělávání 5)",null,null,null,null,42717454.270000003,44870661.25,43975300.419999987,48148901.270000003,47866403.850000001,49543007.549999997,54104041.250000007,52340323.990000002,54543444.071999997,52983370.470189996,54562370.718200006,58180003.538620003,60849168.643530004,61099942.149200007,71149358.804299995,83506022.979800001,100713170.38774]
[null,null,null,null,null," z toho ZŠ, včetně školních družin a klubů2), 6)",null,null,null,39042825.980000004,40856021.5,39818749.29999999,43896391.900000006,43518717.949999996,45144154.039999999,49409358.07,47794252.900000006,49807522.004000001,48479438.38019,50299911.559360005,53971877.351580009,56462551.039540008,56563241.52412001,66089711.821280003,77067773.334549904,93309242.300319999]
[null,null,null,null,"Základní umělecké školy 7)",null,null,null,null,2479893.5099999998,2784099.86,3037719.11,3146091.69,3351332.88,3544350.19,3803588.84,3854152,3813943.66,3961828.07,4009080.739899999,4133072.3020100002,4273547.4857199993,4547369.1635499997,4975747.5241099996,5753333.7548700003,6692676.2191099999]
[null,null,null,null,"Střední vzdělávání, konzervatoře, VOŠ 8)",null,null,null,null,26536727.459999997,27977689.629999999,29350786.43,31495535.579999998,32395028.810000002,33691678.210000001,35585852.079999998,34486494.609999999,33965622.612130001,33339103.040439993,32118289.18189,32558243.43465,34001218.754309997,32756424.621840004,35530602.754790001,43179044.15422,47864922.241580002]
[null,null,null,null,"z toho"," gymnázia, včetně sportovních škol2), 9)",null,null,null,5319711.1900000004,5732578.8799999999,6115290.1499999994,6764190.870000002,7134367.2299999995,7552198.3099999987,7789675.5099999988,7512373.4500000002,7556382.9297100008,7539864.8119399976,7601572.5318100015,7725997.5506999996,7970890.8058400005,7613196.6966099991,8419898.5459899902,10001143.99553,11003070.73081]
[null,null,null,null,null," střední odborné školy, konzervatoře, VOŠ2), 10)",null,null,null,9858050.5899999999,10410309.739999998,11065998.390000002,12102644.16,12448549.129999999,13037756.289999999,14439441.810000001,14177464.479999997,14041649.209599998,13815291.808889998,13535294.875390001,13821980.465529999,13337240.874919996,16168391.088119999,17591923.620420001,23728268.6939,26042877.103360001]
[null,null,null,null,null," střední odborná učiliště, učiliště, SPV2), 11)",null,null,null,10065773.76,10450543.100000001,10762925.719999999,11155023.609999999,11500741.039999997,11906128.210000003,12188267.900000002,11630046.470000003,11204133.857379999,10796654.365209999,9813856.4075100012,9827390.4116900004,11462069.515749998,7658770.5613700002,8102214.3305099998,9449088.0547900107,10818317.86241]
[null,null,null,null,"Stravování žáků MŠ, ZŠ, SŠ a VOŠ 12)",null,null,null,null,2064213.5,2068146.91,3419642.22,3409338.06,3446532.36,3616107.27,3818991.29,3699090.36,3275541.53,3080050.11,3122269.5440100003,3210901.0382099994,3307233.1695699999,3474012.8525399999,3760763.8166299998,4326326.3250200003,4888177.9441400003]
[null,null,null,null,"Školská zařízení pro výkon ústavní a ochranné výchovy 13)",null,null,null,null,3276243.83,3828699.6,4055161.19,4202069.8499999996,4074589.27,4159850.97,4571945.1900000004,4325751.41,4186564.8668300002,3144385.7943100003,3858645.2248999993,3761261.4106999999,3750448.7447100002,3991496.8874000004,4038745.27832,3571116.3617400001,4057867.5321300002]
[null,null,null,null,"Vysoké školy (včetně kolejí a menz) 14)",null,null,null,null,20506297.73,22845451.669999998,26442456.139999997,29009170.82,34603898,31244213.240000002,33710308.080000006,32308880.27,34224959.127390005,34258639.936090007,34229370.450390004,32761441.147520002,33650832.391229995,31871162.353050001,33715196.562009998,47619459.098300003,46505649.330200002]
[null,null,null,null,"Státní správa 15) ",null,null,null,null,642520.16,704200.09,662073.87,709202.77,806524.9,826054.82,750392.86,762392.18,812887.41188000003,784411.75331000006,725931.95880000002,758265.95681999996,778852.67558999988,757418.65626000019,871545.26353999996,901799.84317000001,985496.90720000002]
[null,null,null,null,"v tom"," MŠMT",null,null,null,292954.28999999998,395291.55,328208.63,365480.53,402691.72,460872.21,397530.13,386368.25,387764.79973000009,349951.80209000007,348224.15765000012,361953.86119000014,371121.49660999997,417361.89170000009,471826.32829999994,492686.8015,535382.51451000001]
[null,null,null,null,null," Ostatní státní správa",null,null,null,338882.7,308908.53999999998,333865.24,343722.23999999999,403833.18,365182.61,352862.73,376023.93,425122.61214999994,434459.95121999999,377707.8011499999,396312.09562999982,407731.17897999991,340056.7645600001,399718.93524000002,409113.04167000001,450114.39268999995]
[null,null,null,null,"Ostatní výdaje 16)",null,null,null,null,7868868.8199999742,7672629.1600000262,8341673.5599999959,10738842.699999999,13765680.340000002,10283242.799999993,11614494.219999999,14904638.68,22619638.86403,22884543.360049978,22332911.437760122,24031791.80726999,22911616.829129994,16139065.964809988,19251771.265349999,7793145,8058287.5974301202]
[null,null,null,"Komentáře:",null,null,null,null,null,null,null,null,null,null,null,null,null,null,null,null,null,null,null,null,null,"Zdroj: Státní závěrečný účet ČR; ZÚ – kapitola 333-MŠMT; 700-Obce a DSO, KÚ; ZÚ ostatních resortů; ČSÚ; monitor.statnipokladna.cz"]
[null,null,null,"1)","Z důvodu konsolidace nejsou zahrnuty z daných tříd následující položky: 5321, 5323,5329, 5344, 5345, 5349, 5366, 5641, 5642, 5649, 6341, 6342, 6349, 6441, 6442, 6449."]
[null,null,null,"2)","Bez škol pro děti/žáky/studenty se SVP."]
[null,null,null,"3)","Paragraf (kód): 3111, 3112, 3115"]
[null,null,null,"4) ","Paragraf (kód): 3111"]
[null,null,null,"5) ","Paragraf (kód): 3113, 3114, 3117, 3118, 3119, 3143"]
[null,null,null,"6)","Paragraf (kód): 3113, 3117, 3118, 3143"]
[null,null,null,"7)","Paragraf (kód): 3231"]
[null,null,null,"8)","Paragraf (kód): 3212x, 3150"]
[null,null,null,"9)","Paragraf (kód): 3121, 3128"]
[null,null,null,"10)","Paragraf (kód): 3122, 3124, 3126, 3127, 3150"]
[null,null,null,"11)","Paragraf (kód): 3123, 3125"]
[null,null,null,"12)","Paragraf (kód): 3141, 3142"]
[null,null,null,"4) ","Meziroční snížení výdajů v roce 2008 je dáno aplikací zákona č. 26/2008 Sb. a z něj vyplývajícím nepřeváděním nevyčerpaných prostředků OSS do rezervních fondů, a tudíž jejich nezahrnutím do čerpání."]
[null,null,null,"13)","Paragraf (kód): 313x"]
[null,null,null,"14)","Paragraf (kód): 321x, 322x"]
[null,null,null,"15)","Paragraf (kód): 326x"]
[null,null,null,"16)","Paragraf (kód): 3144, 3145, 3146, 3147, 3148, 3149, 3232, 3233, 3239, 3280, 329x"]

{"sheet":"B1.9","index":9,"n_rows":46,"n_cols":26,"rows_kept":46,"cut":false,"hidden":false,"merged":[[34,4,34,24],[29,4,29,24],[30,4,30,24],[31,4,31,24],[32,4,32,24],[6,3,10,8],[6,12,9,12],[6,10,9,10],[33,4,33,24],[25,4,26,4],[6,15,9,15],[6,11,9,11],[6,9,9,9],[18,4,20,4],[6,13,9,13],[6,14,9,14],[6,25,9,25],[6,17,9,17],[6,21,9,21],[6,16,9,16],[6,22,9,22],[6,23,9,23],[6,24,9,24],[6,19,9,19],[6,20,9,20],[6,18,9,18],[40,4,40,24],[43,4,43,24],[44,4,44,24],[35,4,35,24],[36,4,36,24],[37,4,37,24],[38,4,38,24],[39,4,39,24]]}
[]
[]
[]
[null,null,null,"Tab. B1.9:",null,null,null,"Školství celkem – veřejné výdaje ve stálých cenách roku 2015"]
[null,null,null,"v letech 2009 až 2019 – podle druhu/typu školy/zařízení"]
[null,null,null,"Včetně výdajů Ministerstva obrany.",null,null,null,null,null,null,null,null,null,null,null,null,null,null,null,null,null,null,null,null,null,"v tis. Kč"]
[null,null,null,"Druh/typ školy/zařízení",null,null,null,null,null,2003,2004,2005,2006,2007,2008,2009,2010,2011,2012,2013,2014,2015,2016,2017,2018,2019]
[]
[]
[]
[null,null,null,null,null,null,null,null,null,"1)","1)","1)","1)","1)","1),4)"]
[null,null,null,null,"Výdaje na vzdělávání a školské služby celkem",null,null,null,null,{"$f":"'B1.8'!J12/'B1.5'!J$17*100","v":121315805.68586385},{"$f":"'B1.8'!K12/'B1.5'!K$17*100","v":125424702.803262},{"$f":"'B1.8'!L12/'B1.5'!L$17*100","v":130319162.68999995},{"$f":"'B1.8'!M12/'B1.5'!M$17*100","v":172089267.08433732},{"$f":"'B1.8'!N12/'B1.5'!N$17*100","v":179352601.19577962},{"$f":"'B1.8'!O12/'B1.5'!O$17*100","v":166486207.59647185},{"$f":"'B1.8'!P12/'B1.5'!P$17*100","v":178781908.59323886},{"$f":"'B1.8'!Q12/'B1.5'!Q$17*100","v":175231245.6451613},{"$f":"'B1.8'!R12/'B1.5'!R$17*100","v":183251022.05090719},{"$f":"'B1.8'!S12/'B1.5'!S$17*100","v":175045832.23124608},{"$f":"'B1.8'!T12/'B1.5'!T$17*100","v":174023337.61660632},{"$f":"'B1.8'!U12/'B1.5'!U$17*100","v":179250430.75608829},{"$f":"'B1.8'!V12/'B1.5'!V$17*100","v":182848145.49344999},{"$f":"'B1.8'!W12/'B1.5'!W$17*100","v":172242772.13657397},{"$f":"'B1.8'!X12/'B1.5'!X$17*100","v":188965145.53203684},{"$f":"'B1.8'!Y12/'B1.5'!Y$17*100","v":210353827.94998097},{"$f":"'B1.8'!Z12/'B1.5'!Z$17*100","v":228896116.08359203}]
[null,null,null,null,"Předškolní vzdělávání 3)",null,null,null,null,{"$f":"'B1.8'!J13/'B1.5'!J$17*100","v":10224476.596858637},{"$f":"'B1.8'!K13/'B1.5'!K$17*100","v":10489352.986748215},{"$f":"'B1.8'!L13/'B1.5'!L$17*100","v":11034349.75},{"$f":"'B1.8'!M13/'B1.5'!M$17*100","v":14427679.445783131},{"$f":"'B1.8'!N13/'B1.5'!N$17*100","v":14862577.268464243},{"$f":"'B1.8'!O13/'B1.5'!O$17*100","v":15539675.016538037},{"$f":"'B1.8'!P13/'B1.5'!P$17*100","v":17430094.187568154},{"$f":"'B1.8'!Q13/'B1.5'!Q$17*100","v":17508962.311827958},{"$f":"'B1.8'!R13/'B1.5'!R$17*100","v":17172327.805907175},{"$f":"'B1.8'!S13/'B1.5'!S$17*100","v":17296769.376915216},{"$f":"'B1.8'!T13/'B1.5'!T$17*100","v":17972109.765800603},{"$f":"'B1.8'!U13/'B1.5'!U$17*100","v":19375826.30694082},{"$f":"'B1.8'!V13/'B1.5'!V$17*100","v":19325226.799660005},{"$f":"'B1.8'!W13/'B1.5'!W$17*100","v":18680813.200476665},{"$f":"'B1.8'!X13/'B1.5'!X$17*100","v":20881992.021804076},{"$f":"'B1.8'!Y13/'B1.5'!Y$17*100","v":23601456.138850901},{"$f":"'B1.8'!Z13/'B1.5'!Z$17*100","v":25972525.908587258}]
[null,null,null,null,null,"z toho mateřské školy2), 4)",null,null,null,{"$f":"'B1.8'!J14/'B1.5'!J$17*100","v":9839525.1099476423},{"$f":"'B1.8'!K14/'B1.5'!K$17*100","v":10103491.569826707},{"$f":"'B1.8'!L14/'B1.5'!L$17*100","v":10617936.950000001},{"$f":"'B1.8'!M14/'B1.5'!M$17*100","v":13945860.734939758},{"$f":"'B1.8'!N14/'B1.5'!N$17*100","v":14437762.06330598},{"$f":"'B1.8'!O14/'B1.5'!O$17*100","v":15126896.295479603},{"$f":"'B1.8'!P14/'B1.5'!P$17*100","v":17034371.134133045},{"$f":"'B1.8'!Q14/'B1.5'!Q$17*100","v":17096162.07526882},{"$f":"'B1.8'!R14/'B1.5'!R$17*100","v":16800745.981012661},{"$f":"'B1.8'!S14/'B1.5'!S$17*100","v":16921270.643513791},{"$f":"'B1.8'!T14/'B1.5'!T$17*100","v":17847753.425075527},{"$f":"'B1.8'!U14/'B1.5'!U$17*100","v":19014224.68574724},{"$f":"'B1.8'!V14/'B1.5'!V$17*100","v":18958940.478960004},{"$f":"'B1.8'!W14/'B1.5'!W$17*100","v":18280489.11180735},{"$f":"'B1.8'!X14/'B1.5'!X$17*100","v":20464548.538632397},{"$f":"'B1.8'!Y14/'B1.5'!Y$17*100","v":23063918.986752138},{"$f":"'B1.8'!Z14/'B1.5'!Z$17*100","v":25368491.426823642}]
[null,null,null,null,"Základní vzdělávání 5)",null,null,null,null,{"$f":"'B1.8'!J15/'B1.5'!J$17*100","v":44730318.607329845},{"$f":"'B1.8'!K15/'B1.5'!K$17*100","v":45739715.851172276},{"$f":"'B1.8'!L15/'B1.5'!L$17*100","v":43975300.419999987},{"$f":"'B1.8'!M15/'B1.5'!M$17*100","v":58010724.421686746},{"$f":"'B1.8'!N15/'B1.5'!N$17*100","v":56115362.075029314},{"$f":"'B1.8'!O15/'B1.5'!O$17*100","v":54622941.069459751},{"$f":"'B1.8'!P15/'B1.5'!P$17*100","v":59001135.496183217},{"$f":"'B1.8'!Q15/'B1.5'!Q$17*100","v":56279918.268817209},{"$f":"'B1.8'!R15/'B1.5'!R$17*100","v":57535278.556962021},{"$f":"'B1.8'!S15/'B1.5'!S$17*100","v":54119888.120725229},{"$f":"'B1.8'!T15/'B1.5'!T$17*100","v":54946999.716213495},{"$f":"'B1.8'!U15/'B1.5'!U$17*100","v":58355068.744854562},{"$f":"'B1.8'!V15/'B1.5'!V$17*100","v":60849168.643530004},{"$f":"'B1.8'!W15/'B1.5'!W$17*100","v":60675215.639721952},{"$f":"'B1.8'!X15/'B1.5'!X$17*100","v":69010047.336857423},{"$f":"'B1.8'!Y15/'B1.5'!Y$17*100","v":79302965.79278253},{"$f":"'B1.8'!Z15/'B1.5'!Z$17*100","v":92994617.163194835}]
[null,null,null,null,null," z toho ZŠ, včetně školních družin a klubů2), 6)",null,null,null,{"$f":"'B1.8'!J16/'B1.5'!J$17*100","v":40882540.29319372},{"$f":"'B1.8'!K16/'B1.5'!K$17*100","v":41647320.59123344},{"$f":"'B1.8'!L16/'B1.5'!L$17*100","v":39818749.29999999},{"$f":"'B1.8'!M16/'B1.5'!M$17*100","v":52887219.156626523},{"$f":"'B1.8'!N16/'B1.5'!N$17*100","v":51018426.670574434},{"$f":"'B1.8'!O16/'B1.5'!O$17*100","v":49773047.453142226},{"$f":"'B1.8'!P16/'B1.5'!P$17*100","v":53881524.612868041},{"$f":"'B1.8'!Q16/'B1.5'!Q$17*100","v":51391669.784946248},{"$f":"'B1.8'!R16/'B1.5'!R$17*100","v":52539580.172995783},{"$f":"'B1.8'!S16/'B1.5'!S$17*100","v":49519344.61715015},{"$f":"'B1.8'!T16/'B1.5'!T$17*100","v":50654493.010433033},{"$f":"'B1.8'!U16/'B1.5'!U$17*100","v":54134280.192156471},{"$f":"'B1.8'!V16/'B1.5'!V$17*100","v":56462551.039540008},{"$f":"'B1.8'!W16/'B1.5'!W$17*100","v":56170051.165958293},{"$f":"'B1.8'!X16/'B1.5'!X$17*100","v":64102533.289311349},{"$f":"'B1.8'!Y16/'B1.5'!Y$17*100","v":73188768.598812833},{"$f":"'B1.8'!Z16/'B1.5'!Z$17*100","v":86158118.467516154}]
[null,null,null,null,"Základní umělecké školy 7)",null,null,null,null,{"$f":"'B1.8'!J17/'B1.5'!J$17*100","v":2596747.1308900518},{"$f":"'B1.8'!K17/'B1.5'!K$17*100","v":2838022.2833843017},{"$f":"'B1.8'!L17/'B1.5'!L$17*100","v":3037719.11},{"$f":"'B1.8'!M17/'B1.5'!M$17*100","v":3790471.9156626505},{"$f":"'B1.8'!N17/'B1.5'!N$17*100","v":3928877.9366940209},{"$f":"'B1.8'!O17/'B1.5'!O$17*100","v":3907773.0871003303},{"$f":"'B1.8'!P17/'B1.5'!P$17*100","v":4147861.3304252997},{"$f":"'B1.8'!Q17/'B1.5'!Q$17*100","v":4144249.462365591},{"$f":"'B1.8'!R17/'B1.5'!R$17*100","v":4023147.3206751058},{"$f":"'B1.8'!S17/'B1.5'!S$17*100","v":4046811.1031664959},{"$f":"'B1.8'!T17/'B1.5'!T$17*100","v":4037342.1348439064},{"$f":"'B1.8'!U17/'B1.5'!U$17*100","v":4145508.8284954866},{"$f":"'B1.8'!V17/'B1.5'!V$17*100","v":4273547.4857199993},{"$f":"'B1.8'!W17/'B1.5'!W$17*100","v":4515758.8515888778},{"$f":"'B1.8'!X17/'B1.5'!X$17*100","v":4826137.2687778855},{"$f":"'B1.8'!Y17/'B1.5'!Y$17*100","v":5463754.7529629637},{"$f":"'B1.8'!Z17/'B1.5'!Z$17*100","v":6179756.4350046171}]
[null,null,null,null,"Střední vzdělávání, konzervatoře, VOŠ 8)",null,null,null,null,{"$f":"'B1.8'!J18/'B1.5'!J$17*100","v":27787149.172774866},{"$f":"'B1.8'!K18/'B1.5'!K$17*100","v":28519561.294597354},{"$f":"'B1.8'!L18/'B1.5'!L$17*100","v":29350786.43},{"$f":"'B1.8'!M18/'B1.5'!M$17*100","v":37946428.409638554},{"$f":"'B1.8'!N18/'B1.5'!N$17*100","v":37977759.449003518},{"$f":"'B1.8'!O18/'B1.5'!O$17*100","v":37146282.480705619},{"$f":"'B1.8'!P18/'B1.5'!P$17*100","v":38806817.971646667},{"$f":"'B1.8'!Q18/'B1.5'!Q$17*100","v":37082252.268817209},{"$f":"'B1.8'!R18/'B1.5'!R$17*100","v":35828715.83558017},{"$f":"'B1.8'!S18/'B1.5'!S$17*100","v":34054242.125066385},{"$f":"'B1.8'!T18/'B1.5'!T$17*100","v":32344702.096565966},{"$f":"'B1.8'!U18/'B1.5'!U$17*100","v":32656212.070862588},{"$f":"'B1.8'!V18/'B1.5'!V$17*100","v":34001218.754309997},{"$f":"'B1.8'!W18/'B1.5'!W$17*100","v":32528723.556941416},{"$f":"'B1.8'!X18/'B1.5'!X$17*100","v":34462272.313084386},{"$f":"'B1.8'!Y18/'B1.5'!Y$17*100","v":41005739.937530868},{"$f":"'B1.8'!Z18/'B1.5'!Z$17*100","v":44196604.101181902}]
[null,null,null,null,"z toho"," gymnázia, včetně sportovních škol2), 9)",null,null,null,{"$f":"'B1.8'!J19/'B1.5'!J$17*100","v":5570378.2094240841},{"$f":"'B1.8'!K19/'B1.5'!K$17*100","v":5843607.4209989803},{"$f":"'B1.8'!L19/'B1.5'!L$17*100","v":6115290.1499999994},{"$f":"'B1.8'!M19/'B1.5'!M$17*100","v":8149627.5542168701},{"$f":"'B1.8'!N19/'B1.5'!N$17*100","v":8363853.728018756},{"$f":"'B1.8'!O19/'B1.5'!O$17*100","v":8326569.2502756324},{"$f":"'B1.8'!P19/'B1.5'!P$17*100","v":8494738.8331515808},{"$f":"'B1.8'!Q19/'B1.5'!Q$17*100","v":8077820.9139784947},{"$f":"'B1.8'!R19/'B1.5'!R$17*100","v":7970868.0693143466},{"$f":"'B1.8'!S19/'B1.5'!S$17*100","v":7701598.3778753802},{"$f":"'B1.8'!T19/'B1.5'!T$17*100","v":7655158.6423061453},{"$f":"'B1.8'!U19/'B1.5'!U$17*100","v":7749245.2865596786},{"$f":"'B1.8'!V19/'B1.5'!V$17*100","v":7970890.8058400005},{"$f":"'B1.8'!W19/'B1.5'!W$17*100","v":7560274.7731976155},{"$f":"'B1.8'!X19/'B1.5'!X$17*100","v":8166729.9185159951},{"$f":"'B1.8'!Y19/'B1.5'!Y$17*100","v":9497762.5788509026},{"$f":"'B1.8'!Z19/'B1.5'!Z$17*100","v":10159806.768984303}]
[null,null,null,null,null," střední odborné školy, konzervatoře, VOŠ2), 10)",null,null,null,{"$f":"'B1.8'!J20/'B1.5'!J$17*100","v":10322566.062827226},{"$f":"'B1.8'!K20/'B1.5'!K$17*100","v":10611936.534148827},{"$f":"'B1.8'!L20/'B1.5'!L$17*100","v":11065998.390000002},{"$f":"'B1.8'!M20/'B1.5'!M$17*100","v":14581498.987951808},{"$f":"'B1.8'!N20/'B1.5'!N$17*100","v":14593844.232121922},{"$f":"'B1.8'!O20/'B1.5'!O$17*100","v":14374593.484013228},{"$f":"'B1.8'!P20/'B1.5'!P$17*100","v":15746392.377317339},{"$f":"'B1.8'!Q20/'B1.5'!Q$17*100","v":15244585.462365588},{"$f":"'B1.8'!R20/'B1.5'!R$17*100","v":14811866.254852319},{"$f":"'B1.8'!S20/'B1.5'!S$17*100","v":14111636.168426963},{"$f":"'B1.8'!T20/'B1.5'!T$17*100","v":13630709.844300101},{"$f":"'B1.8'!U20/'B1.5'!U$17*100","v":13863571.1790672},{"$f":"'B1.8'!V20/'B1.5'!V$17*100","v":13337240.874919998},{"$f":"'B1.8'!W20/'B1.5'!W$17*100","v":16055999.094458785},{"$f":"'B1.8'!X20/'B1.5'!X$17*100","v":17062971.503802136},{"$f":"'B1.8'!Y20/'B1.5'!Y$17*100","v":22533968.370275404},{"$f":"'B1.8'!Z20/'B1.5'!Z$17*100","v":24046977.93477378}]
[null,null,null,null,null," střední odborná učiliště, učiliště, SPV2), 11)",null,null,null,{"$f":"'B1.8'!J21/'B1.5'!J$17*100","v":10540077.235602094},{"$f":"'B1.8'!K21/'B1.5'!K$17*100","v":10652949.133537209},{"$f":"'B1.8'!L21/'B1.5'!L$17*100","v":10762925.719999999},{"$f":"'B1.8'!M21/'B1.5'!M$17*100","v":13439787.481927708},{"$f":"'B1.8'!N21/'B1.5'!N$17*100","v":13482697.584994134},{"$f":"'B1.8'!O21/'B1.5'!O$17*100","v":13126932.976846749},{"$f":"'B1.8'!P21/'B1.5'!P$17*100","v":13291458.996728465},{"$f":"'B1.8'!Q21/'B1.5'!Q$17*100","v":12505426.311827959},{"$f":"'B1.8'!R21/'B1.5'!R$17*100","v":11818706.600611813},{"$f":"'B1.8'!S21/'B1.5'!S$17*100","v":11028247.564055156},{"$f":"'B1.8'!T21/'B1.5'!T$17*100","v":9883037.6712084599},{"$f":"'B1.8'!U21/'B1.5'!U$17*100","v":9856961.2955767289},{"$f":"'B1.8'!V21/'B1.5'!V$17*100","v":11462069.515749998},{"$f":"'B1.8'!W21/'B1.5'!W$17*100","v":7605531.8385004969},{"$f":"'B1.8'!X21/'B1.5'!X$17*100","v":7858597.7987487875},{"$f":"'B1.8'!Y21/'B1.5'!Y$17*100","v":8973492.9295251779},{"$f":"'B1.8'!Z21/'B1.5'!Z$17*100","v":9989213.1693536472}]
[null,null,null,null,"Stravování žáků MŠ, ZŠ, SŠ a VOŠ 12)",null,null,null,null,{"$f":"'B1.8'!J22/'B1.5'!J$17*100","v":2161480.104712042},{"$f":"'B1.8'!K22/'B1.5'!K$17*100","v":2108202.7624872578},{"$f":"'B1.8'!L22/'B1.5'!L$17*100","v":3419642.22},{"$f":"'B1.8'!M22/'B1.5'!M$17*100","v":4107636.2168674697},{"$f":"'B1.8'!N22/'B1.5'!N$17*100","v":4040483.4232121925},{"$f":"'B1.8'!O22/'B1.5'!O$17*100","v":3986887.8390297685},{"$f":"'B1.8'!P22/'B1.5'!P$17*100","v":4164657.8953107959},{"$f":"'B1.8'!Q22/'B1.5'!Q$17*100","v":3977516.5161290322},{"$f":"'B1.8'!R22/'B1.5'!R$17*100","v":3455212.5843881853},{"$f":"'B1.8'!S22/'B1.5'!S$17*100","v":3146118.60061287},{"$f":"'B1.8'!T22/'B1.5'!T$17*100","v":3144279.5005135955},{"$f":"'B1.8'!U22/'B1.5'!U$17*100","v":3220562.7263891669},{"$f":"'B1.8'!V22/'B1.5'!V$17*100","v":3307233.1695699999},{"$f":"'B1.8'!W22/'B1.5'!W$17*100","v":3449863.8058987088},{"$f":"'B1.8'!X22/'B1.5'!X$17*100","v":3647685.5641416097},{"$f":"'B1.8'!Y22/'B1.5'!Y$17*100","v":4108572.0085660024},{"$f":"'B1.8'!Z22/'B1.5'!Z$17*100","v":4513553.0416805176}]
[null,null,null,null,"Školská zařízení pro výkon ústavní a ochranné výchovy 13)",null,null,null,null,{"$f":"'B1.8'!J23/'B1.5'!J$17*100","v":3430621.811518325},{"$f":"'B1.8'!K23/'B1.5'!K$17*100","v":3902853.82262997},{"$f":"'B1.8'!L23/'B1.5'!L$17*100","v":4055161.1899999995},{"$f":"'B1.8'!M23/'B1.5'!M$17*100","v":5062734.7590361442},{"$f":"'B1.8'!N23/'B1.5'!N$17*100","v":4776775.2286049239},{"$f":"'B1.8'!O23/'B1.5'!O$17*100","v":4586384.7519294377},{"$f":"'B1.8'!P23/'B1.5'!P$17*100","v":4985763.5659760088},{"$f":"'B1.8'!Q23/'B1.5'!Q$17*100","v":4651345.602150538},{"$f":"'B1.8'!R23/'B1.5'!R$17*100","v":4416207.6654324895},{"$f":"'B1.8'!S23/'B1.5'!S$17*100","v":3211834.3149233912},{"$f":"'B1.8'!T23/'B1.5'!T$17*100","v":3885846.1479355479},{"$f":"'B1.8'!U23/'B1.5'!U$17*100","v":3772579.1481444328},{"$f":"'B1.8'!V23/'B1.5'!V$17*100","v":3750448.7447100002},{"$f":"'B1.8'!W23/'B1.5'!W$17*100","v":3963750.632969216},{"$f":"'B1.8'!X23/'B1.5'!X$17*100","v":3917308.7083608154},{"$f":"'B1.8'!Y23/'B1.5'!Y$17*100","v":3391373.5629059831},{"$f":"'B1.8'!Z23/'B1.5'!Z$17*100","v":3746876.7609695294}]
[null,null,null,null,"Vysoké školy (včetně kolejí a menz) 14)",null,null,null,null,{"$f":"'B1.8'!J24/'B1.5'!J$17*100","v":21472563.068062827},{"$f":"'B1.8'!K24/'B1.5'!K$17*100","v":23287922.191641182},{"$f":"'B1.8'!L24/'B1.5'!L$17*100","v":26442456.139999993},{"$f":"'B1.8'!M24/'B1.5'!M$17*100","v":34950808.216867469},{"$f":"'B1.8'!N24/'B1.5'!N$17*100","v":40567289.566236809},{"$f":"'B1.8'!O24/'B1.5'!O$17*100","v":34447864.652701214},{"$f":"'B1.8'!P24/'B1.5'!P$17*100","v":36761513.718647771},{"$f":"'B1.8'!Q24/'B1.5'!Q$17*100","v":34740731.473118275},{"$f":"'B1.8'!R24/'B1.5'!R$17*100","v":36102277.560537979},{"$f":"'B1.8'!S24/'B1.5'!S$17*100","v":34993503.509795718},{"$f":"'B1.8'!T24/'B1.5'!T$17*100","v":34470665.106132932},{"$f":"'B1.8'!U24/'B1.5'!U$17*100","v":32860021.211153463},{"$f":"'B1.8'!V24/'B1.5'!V$17*100","v":33650832.391229995},{"$f":"'B1.8'!W24/'B1.5'!W$17*100","v":31649615.047715988},{"$f":"'B1.8'!X24/'B1.5'!X$17*100","v":32701451.563540254},{"$f":"'B1.8'!Y24/'B1.5'!Y$17*100","v":45222658.213010445},{"$f":"'B1.8'!Z24/'B1.5'!Z$17*100","v":42941504.460018471}]
[null,null,null,null,"Státní správa 15) ",null,null,null,null,{"$f":"'B1.8'!J25/'B1.5'!J$17*100","v":672795.97905759164},{"$f":"'B1.8'!K25/'B1.5'!K$17*100","v":717839.03160040767},{"$f":"'B1.8'!L25/'B1.5'!L$17*100","v":662073.87},{"$f":"'B1.8'!M25/'B1.5'!M$17*100","v":854461.1686746988},{"$f":"'B1.8'!N25/'B1.5'!N$17*100","v":945515.70926143031},{"$f":"'B1.8'!O25/'B1.5'!O$17*100","v":910755.03858875402},{"$f":"'B1.8'!P25/'B1.5'!P$17*100","v":818312.82442748093},{"$f":"'B1.8'!Q25/'B1.5'!Q$17*100","v":819776.53763440868},{"$f":"'B1.8'!R25/'B1.5'!R$17*100","v":857476.17286919826},{"$f":"'B1.8'!S25/'B1.5'!S$17*100","v":801237.74597548519},{"$f":"'B1.8'!T25/'B1.5'!T$17*100","v":731049.30392749247},{"$f":"'B1.8'!U25/'B1.5'!U$17*100","v":760547.59961885645},{"$f":"'B1.8'!V25/'B1.5'!V$17*100","v":778852.67558999988},{"$f":"'B1.8'!W25/'B1.5'!W$17*100","v":752153.58119165862},{"$f":"'B1.8'!X25/'B1.5'!X$17*100","v":845339.73185257032},{"$f":"'B1.8'!Y25/'B1.5'!Y$17*100","v":856410.10747388413},{"$f":"'B1.8'!Z25/'B1.5'!Z$17*100","v":909969.44339796866}]
[null,null,null,null,"v tom"," MŠMT",null,null,null,{"$f":"'B1.8'!J26/'B1.5'!J$17*100","v":306758.41884816752},{"$f":"'B1.8'!K26/'B1.5'!K$17*100","v":402947.55351681955},{"$f":"'B1.8'!L26/'B1.5'!L$17*100","v":328208.63},{"$f":"'B1.8'!M26/'B1.5'!M$17*100","v":440337.98795180727},{"$f":"'B1.8'!N26/'B1.5'!N$17*100","v":472088.76905041037},{"$f":"'B1.8'!O26/'B1.5'!O$17*100","v":508128.12568908493},{"$f":"'B1.8'!P26/'B1.5'!P$17*100","v":433511.59214830969},{"$f":"'B1.8'!Q26/'B1.5'!Q$17*100","v":415449.73118279566},{"$f":"'B1.8'!R26/'B1.5'!R$17*100","v":409034.59887130815},{"$f":"'B1.8'!S26/'B1.5'!S$17*100","v":357458.42910112365},{"$f":"'B1.8'!T26/'B1.5'!T$17*100","v":350678.91002014111},{"$f":"'B1.8'!U26/'B1.5'!U$17*100","v":363042.9901604816},{"$f":"'B1.8'!V26/'B1.5'!V$17*100","v":371121.49660999997},{"$f":"'B1.8'!W26/'B1.5'!W$17*100","v":414460.66703078459},{"$f":"'B1.8'!X26/'B1.5'!X$17*100","v":457639.50368574198},{"$f":"'B1.8'!Y26/'B1.5'!Y$17*100","v":467888.70037986711},{"$f":"'B1.8'!Z26/'B1.5'!Z$17*100","v":494351.3522714682}]
[null,null,null,null,null," Ostatní státní správa",null,null,null,{"$f":"'B1.8'!J27/'B1.5'!J$17*100","v":354850.99476439791},{"$f":"'B1.8'!K27/'B1.5'!K$17*100","v":314891.47808358818},{"$f":"'B1.8'!L27/'B1.5'!L$17*100","v":333865.24},{"$f":"'B1.8'!M27/'B1.5'!M$17*100","v":414123.18072289153},{"$f":"'B1.8'!N27/'B1.5'!N$17*100","v":473426.94021101994},{"$f":"'B1.8'!O27/'B1.5'!O$17*100","v":402626.9128996692},{"$f":"'B1.8'!P27/'B1.5'!P$17*100","v":384801.23227917118},{"$f":"'B1.8'!Q27/'B1.5'!Q$17*100","v":404326.80645161291},{"$f":"'B1.8'!R27/'B1.5'!R$17*100","v":448441.57399789029},{"$f":"'B1.8'!S27/'B1.5'!S$17*100","v":443779.3168743616},{"$f":"'B1.8'!T27/'B1.5'!T$17*100","v":380370.39390735136},{"$f":"'B1.8'!U27/'B1.5'!U$17*100","v":397504.60945837497},{"$f":"'B1.8'!V27/'B1.5'!V$17*100","v":407731.17897999991},{"$f":"'B1.8'!W27/'B1.5'!W$17*100","v":337692.91416087397},{"$f":"'B1.8'!X27/'B1.5'!X$17*100","v":387700.22816682834},{"$f":"'B1.8'!Y27/'B1.5'!Y$17*100","v":388521.40709401708},{"$f":"'B1.8'!Z27/'B1.5'!Z$17*100","v":415618.09112650045}]
[null,null,null,null,"Ostatní výdaje 16)",null,null,null,null,{"$f":"'B1.8'!J28/'B1.5'!J$17*100","v":8239653.2146596583},{"$f":"'B1.8'!K28/'B1.5'!K$17*100","v":7821232.5790010467},{"$f":"'B1.8'!L28/'B1.5'!L$17*100","v":8341673.5599999959},{"$f":"'B1.8'!M28/'B1.5'!M$17*100","v":12938364.698795179},{"$f":"'B1.8'!N28/'B1.5'!N$17*100","v":16137960.539273156},{"$f":"'B1.8'!O28/'B1.5'!O$17*100","v":11337643.660418956},{"$f":"'B1.8'!P28/'B1.5'!P$17*100","v":12665751.603053434},{"$f":"'B1.8'!Q28/'B1.5'!Q$17*100","v":16026493.204301074},{"$f":"'B1.8'!R28/'B1.5'!R$17*100","v":23860378.548554853},{"$f":"'B1.8'!S28/'B1.5'!S$17*100","v":23375427.334065348},{"$f":"'B1.8'!T28/'B1.5'!T$17*100","v":22490343.844672833},{"$f":"'B1.8'!U28/'B1.5'!U$17*100","v":24104104.119628876},{"$f":"'B1.8'!V28/'B1.5'!V$17*100","v":22911616.829129994},{"$f":"'B1.8'!W28/'B1.5'!W$17*100","v":16026877.820069499},{"$f":"'B1.8'!X28/'B1.5'!X$17*100","v":18672911.023617849},{"$f":"'B1.8'!Y28/'B1.5'!Y$17*100","v":7400897.435897436},{"$f":"'B1.8'!Z28/'B1.5'!Z$17*100","v":7440708.7695568977}]
[null,null,null,"Komentáře:",null,null,null,null,null,null,null,null,null,null,null,null,null,null,null,null,null,null,null,null,null,"Zdroj: Státní závěrečný účet ČR; ZÚ – kapitola 333-MŠMT; 700-Obce a DSO, KÚ; ZÚ ostatních resortů; ČSÚ; monitor.statnipokladna.cz"]
[null,null,null,"1)","Z důvodu konsolidace nejsou zahrnuty z daných tříd následující položky: 5321, 5323,5329, 5344, 5345, 5349, 5366, 5641, 5642, 5649, 6341, 6342, 6349, 6441, 6442, 6449."]
[null,null,null,"2)","Bez škol pro děti/žáky/studenty se SVP."]
[null,null,null,"3)","Paragraf (kód): 3111, 3112, 3115"]
[null,null,null,"4) ","Paragraf (kód): 3111"]
[null,null,null,"5) ","Paragraf (kód): 3113, 3114, 3117, 3118, 3119, 3143"]
[null,null,null,"6)","Paragraf (kód): 3113, 3117, 3118, 3143"]
[null,null,null,"7)","Paragraf (kód): 3231"]
[null,null,null,"8)","Paragraf (kód): 3212x, 3150"]
[null,null,null,"9)","Paragraf (kód): 3121, 3128"]
[null,null,null,"10)","Paragraf (kód): 3122, 3124, 3126, 3127, 3150"]
[null,null,null,"11)","Paragraf (kód): 3123, 3125"]
[null,null,null,"12)","Paragraf (kód): 3141, 3142"]
[null,null,null,"4)","Meziroční snížení výdajů v roce 2008 je dáno aplikací zákona č. 26/2008 Sb. a z něj vyplývajícím nepřeváděním nevyčerpaných prostředků OSS do rezervních fondů, a tudíž jejich nezahrnutím do čerpání."]
[null,null,null,"13)","Paragraf (kód): 313x"]
[null,null,null,"14)","Paragraf (kód): 321x, 322x"]
[null,null,null,"15)","Paragraf (kód): 326x"]
[null,null,null,"16)","Paragraf (kód): 3144, 3145, 3146, 3147, 3148, 3149, 3232, 3233, 3239, 3280, 329x"]

{"sheet":"B1.10","index":10,"n_rows":26,"n_cols":27,"rows_kept":26,"cut":false,"hidden":false,"merged":[[25,4,25,25],[24,4,24,25],[6,3,10,8],[6,25,9,25],[6,13,9,13],[6,14,9,14],[6,11,9,11],[6,12,9,12],[6,21,9,21],[6,22,9,22],[6,9,9,9],[6,10,9,10],[6,19,9,19],[6,15,9,15],[6,16,9,16],[6,20,9,20],[23,4,23,25],[22,4,22,25],[21,4,21,24],[16,4,18,4],[6,23,9,23],[6,17,9,17],[6,18,9,18],[6,24,9,24]]}
[]
[]
[]
[null,null,null,"Tab. B1.10:",null,null,null,"Školství celkem – jednotkové výdaje na žáka/studenta v běžných cenách"]
[null,null,null,"v letech 2009 až 2019 – podle druhu/typu školy/zařízení"]
[null,null,null,null,null,null,null,null,null,null,null,null,null,null,null,null,null,null,null,null,null,null,null,null,null,null,""]
[null,null,null,"Druh/typ školy",null,null,null,null,null,2003,2004,2005,2006,2007,2008,2009,2010,2011,2012,2013,2014,2015,2016,2017,2018,2019]
[]
[]
[]
[]
[null,null,null,null,"Předškolní vzdělávání",null,null,null,null,32597.428828365875,33621.193291497351,35730.907887854934,38924.164348098049,40491.763828218878,41978.733172905515,44122.810316569383,51541.844416363601,49113.066561828346,49077.144847584939,50642.219055785186,52787.567040316731,52455.005003533144,51282.184005563358,59172.526391823987,68222.100368694169,77018.460097860341]
[null,null,null,null,null,"z toho mateřské školy1)",null,null,null,32057.833308876419,33014.296605103686,35183.398955692341,38271.588665920455,39946.132699359172,41518.598071027584,43651.19973253725,51099.21255567058,48755.155931758789,48681.973604714032,50315.255421727794,52471.616957301703,52085.792872271457,50753.428074289186,58608.345208542829,67420.699071355397,76051.613165698902]
[null,null,null,null,"Základní vzdělávání, vč. škol. družin a klubů",null,null,null,null,37533.988397701032,40570.937756453488,42236.690680472253,46962.204614962204,50370.710492801496,52572.377975940188,57642.830962434899,65455.474894776307,68261.748810873716,65637.488542221079,66026.746846171314,68840.43885120799,69775.63837913984,67969.667925033413,77105.26852834491,88809.252703444043,105515.0688451998]
[null,null,null,null,null," z toho ZŠ, včetně školních družin a klubů1)",null,null,null,35555.835442289987,38377.208515022336,40635.012249397718,44373.893013712077,46299.764477727993,49739.994987042606,54598.906165339329,61792.275518289927,64127.063341786336,61723.615808092574,62281.734757919679,65147.170217780826,66201.339705464823,64389.677735895806,73103.035664072901,84243.478376262952,100435.99197325741]
[null,null,null,null,"Střední vzdělávání včetně konzervatoří a VOŠ",null,null,null,null,43686.288508050202,44972.255819400321,47291.916139521782,50514.830175093841,53018.371269968149,54812.844364482502,57271.47679763307,63973.485643354921,65548.422798334374,68289.42121230223,69166.907829121759,73118.111948083329,78211.567827899751,76108.035419717373,83331.682801067378,100887.30649513211,111689.07826103258]
[null,null,null,null,"z toho"," gymnázia, včetně sportovních škol1)",null,null,null,35515.477973488916,37524.628204068715,39927.186322012276,43114.405690961044,45484.376913282111,47765.737593879305,49668.045689806975,53590.074918353668,55140.885954271725,56685.569871140171,58646.158803071172,60461.984172513279,62579.477574697739,59477.224184604289,65333.29015137926,77243.37565551851,84571.456881055259]
[null,null,null,null,null," střední odborné školy a konzervatoře, včetně VOŠ1)",null,null,null,40073.410086160155,40981.256472749032,43015.676921543556,47724.162545110987,48372.152611622798,49484.379267963239,52415.521989304725,69176.53084921898,71333.049476792919,75551.697681619364,78470.004849228339,84673.958819689156,103678.60964266458,101403.37549099217,111254.60030872725,136901.22945408599,149698.44959866873]
[null,null,null,null,null," střední odborná učiliště, učiliště, SPV1)",null,null,null,52216.225837300008,53375.475030675108,57072.366133108677,58888.140425711033,61375.551753084888,63050.506066883703,65486.069370147336,70445.908823446443,71650.413239949063,74017.113981983581,71568.688477739299,75443.167138757373,64491.423143544198,63467.230774421747,68561.15363240955,81595.465227176173,94042.889725042609]
[null,null,null,null,"Vysoké školy včetně kolejí a menz",null,null,null,null,79169.84129644779,83535.934096844867,91400.349435681317,95948.272785709909,95130.060712868319,88019.080012514329,92087.995596269349,102327.17785089627,106887.69452331713,107856.52914340899,109895.92511756327,108878.45475906834,118145.22981450881,118215.76990978574,131092.38702176153,190654.59438603968,189100.65166144382]
[null,null,null,"Komentáře:",null,null,null,null,null,null,null,null,null,null,null,null,null,null,null,null,null,null,null,null,null,"Zdroj: ZÚ – kapitola 333-MŠMT; 700-Obce a DSO, KÚ; databáze MŠMT"]
[null,null,null,null,"Metodika použitá pro výpočty výdajů na žáka/studenta:"]
[null,null,null,null,"•  počet žáků/studentů ve školním roce = počet dětí/žáků/studentů denní formy vzdělávání + 1/3 počtu dětí/žáků/studentů ostatních forem vzdělávání, od roku 2006 1/4 počtu dětí/žáků/studentů ostatních forem vzdělávání,"]
[null,null,null,null,"•  přepočtený počet dětí/studentů v kalendářním roce = 2/3 počtu dětí/studentů ve školním roce, který v daném kalendářním roce končí + 1/3 počtu dětí/studentů ve školním roce, který v daném kalendářním roce začíná,"]
[null,null,null,null,"•  celkové výdaje na školství = běžné (neinvestiční) výdaje z rozpočtů MŠMT, Obce a DSO, KÚ (nejsou započteny výdaje z rozpočtů MO, MV a MSp, které nejsou v ucelené vývojové řadě k dispozici)."]
[null,null,null,"1)","Bez škol pro děti/žáky/studenty se SVP."]

{"sheet":"B1.11","index":11,"n_rows":30,"n_cols":27,"rows_kept":30,"cut":false,"hidden":false,"merged":[[29,3,29,25],[6,3,10,8],[6,9,9,9],[6,18,9,18],[6,11,9,11],[6,12,9,12],[6,10,9,10],[6,14,9,14],[6,15,9,15],[6,13,9,13],[6,20,9,20],[6,19,9,19],[24,4,24,24],[25,4,25,24],[26,4,26,24],[27,4,27,24],[28,4,28,24],[6,25,9,25],[6,16,9,16],[6,17,9,17],[6,21,9,21],[6,22,9,22],[6,23,9,23],[6,24,9,24],[16,4,18,4]]}
[]
[]
[]
[null,null,null,"Tab. B1.11:",null,null,null,"Školství celkem – jednotkové výdaje na žáka/studenta ve stálých cenách"]
[null,null,null,"roku 2015 v letech 2009 až 2019 – podle druhu/typu školy/zařízení"]
[null,null,null,null,null,null,null,null,null,null,null,null,null,null,null,null,null,null,null,null,null,null,null,null,null,null,""]
[null,null,null,"Druh/typ školy",null,null,null,null,null,2003,2004,2005,2006,2007,2008,2009,2010,2011,2012,2013,2014,2015,2016,2017,2018,2019]
[]
[]
[]
[]
[null,null,null,null,"Předškolní vzdělávání",null,null,null,null,{"$f":"'B1.10'!J12/'B1.11'!J$22*100","v":34133.433328131803},{"$f":"'B1.10'!K12/'B1.11'!K$22*100","v":34272.368288988131},{"$f":"'B1.10'!L12/'B1.11'!L$22*100","v":35730.907887854934},{"$f":"'B1.10'!M12/'B1.11'!M$22*100","v":46896.58355192536},{"$f":"'B1.10'!N12/'B1.11'!N$22*100","v":47469.828638005718},{"$f":"'B1.10'!O12/'B1.11'!O$22*100","v":46283.057522497809},{"$f":"'B1.10'!P12/'B1.11'!P$22*100","v":48116.477989715793},{"$f":"'B1.10'!Q12/'B1.11'!Q$22*100","v":55421.338082111404},{"$f":"'B1.10'!R12/'B1.11'!R$22*100","v":51807.032238215557},{"$f":"'B1.10'!S12/'B1.11'!S$22*100","v":50129.872163008105},{"$f":"'B1.10'!T12/'B1.11'!T$22*100","v":50999.213550639666},{"$f":"'B1.10'!U12/'B1.11'!U$22*100","v":52946.406259094008},{"$f":"'B1.10'!V12/'B1.11'!V$22*100","v":52455.005003533144},{"$f":"'B1.10'!W12/'B1.11'!W$22*100","v":50925.704077024187},{"$f":"'B1.10'!X12/'B1.11'!X$22*100","v":57393.333066754596},{"$f":"'B1.10'!Y12/'B1.11'!Y$22*100","v":64788.319438456005},{"$f":"'B1.10'!Z12/'B1.11'!Z$22*100","v":71115.844965706681}]
[null,null,null,null,null,"z toho mateřské školy1)",null,null,null,{"$f":"'B1.10'!J13/'B1.11'!J$22*100","v":33568.411841755413},{"$f":"'B1.10'!K13/'B1.11'!K$22*100","v":33653.717232521594},{"$f":"'B1.10'!L13/'B1.11'!L$22*100","v":35183.398955692341},{"$f":"'B1.10'!M13/'B1.11'!M$22*100","v":46110.347790265609},{"$f":"'B1.10'!N13/'B1.11'!N$22*100","v":46830.16729115964},{"$f":"'B1.10'!O13/'B1.11'!O$22*100","v":45775.742084925667},{"$f":"'B1.10'!P13/'B1.11'!P$22*100","v":47602.1807334103},{"$f":"'B1.10'!Q13/'B1.11'!Q$22*100","v":54945.389844807076},{"$f":"'B1.10'!R13/'B1.11'!R$22*100","v":51429.489379492392},{"$f":"'B1.10'!S13/'B1.11'!S$22*100","v":49726.224315336091},{"$f":"'B1.10'!T13/'B1.11'!T$22*100","v":50669.945036986697},{"$f":"'B1.10'!U13/'B1.11'!U$22*100","v":52629.505473722871},{"$f":"'B1.10'!V13/'B1.11'!V$22*100","v":52085.79287227145},{"$f":"'B1.10'!W13/'B1.11'!W$22*100","v":50400.623708330866},{"$f":"'B1.10'!X13/'B1.11'!X$22*100","v":56846.115624192847},{"$f":"'B1.10'!Y13/'B1.11'!Y$22*100","v":64027.254578685082},{"$f":"'B1.10'!Z13/'B1.11'!Z$22*100","v":70223.096182547466}]
[null,null,null,null,"Základní vzdělávání, vč. škol. družin a klubů",null,null,null,null,{"$f":"'B1.10'!J14/'B1.11'!J$22*100","v":39302.60565204297},{"$f":"'B1.10'!K14/'B1.11'!K$22*100","v":41356.715348066755},{"$f":"'B1.10'!L14/'B1.11'!L$22*100","v":42236.690680472253},{"$f":"'B1.10'!M14/'B1.11'!M$22*100","v":56580.96941561711},{"$f":"'B1.10'!N14/'B1.11'!N$22*100","v":59051.243250646541},{"$f":"'B1.10'!O14/'B1.11'!O$22*100","v":57962.93051371575},{"$f":"'B1.10'!P14/'B1.11'!P$22*100","v":62860.23005718091},{"$f":"'B1.10'!Q14/'B1.11'!Q$22*100","v":70382.231069651942},{"$f":"'B1.10'!R14/'B1.11'!R$22*100","v":72006.064146491262},{"$f":"'B1.10'!S14/'B1.11'!S$22*100","v":67045.442841901007},{"$f":"'B1.10'!T14/'B1.11'!T$22*100","v":66492.192191511902},{"$f":"'B1.10'!U14/'B1.11'!U$22*100","v":69047.581595995973},{"$f":"'B1.10'!V14/'B1.11'!V$22*100","v":69775.63837913984},{"$f":"'B1.10'!W14/'B1.11'!W$22*100","v":67497.187611751157},{"$f":"'B1.10'!X14/'B1.11'!X$22*100","v":74786.875391217181},{"$f":"'B1.10'!Y14/'B1.11'!Y$22*100","v":84339.271323308683},{"$f":"'B1.10'!Z14/'B1.11'!Z$22*100","v":97428.503088827158}]
[null,null,null,null,null," z toho ZŠ, včetně školních družin a klubů1)",null,null,null,{"$f":"'B1.10'!J15/'B1.11'!J$22*100","v":37231.241300827212},{"$f":"'B1.10'!K15/'B1.11'!K$22*100","v":39120.49797657731},{"$f":"'B1.10'!L15/'B1.11'!L$22*100","v":40635.012249397718},{"$f":"'B1.10'!M15/'B1.11'!M$22*100","v":53462.521703267565},{"$f":"'B1.10'!N15/'B1.11'!N$22*100","v":54278.73912981007},{"$f":"'B1.10'!O15/'B1.11'!O$22*100","v":54840.126777334743},{"$f":"'B1.10'!P15/'B1.11'!P$22*100","v":59540.791892409303},{"$f":"'B1.10'!Q15/'B1.11'!Q$22*100","v":66443.307008913907},{"$f":"'B1.10'!R15/'B1.11'!R$22*100","v":67644.581584162806},{"$f":"'B1.10'!S15/'B1.11'!S$22*100","v":63047.615738603236},{"$f":"'B1.10'!T15/'B1.11'!T$22*100","v":62720.780219455868},{"$f":"'B1.10'!U15/'B1.11'!U$22*100","v":65343.199817232518},{"$f":"'B1.10'!V15/'B1.11'!V$22*100","v":66201.339705464823},{"$f":"'B1.10'!W15/'B1.11'!W$22*100","v":63942.083153819069},{"$f":"'B1.10'!X15/'B1.11'!X$22*100","v":70904.981245463539},{"$f":"'B1.10'!Y15/'B1.11'!Y$22*100","v":80003.303301294349},{"$f":"'B1.10'!Z15/'B1.11'!Z$22*100","v":92738.68141575015}]
[null,null,null,null,"Střední vzdělávání včetně konzervatoří a VOŠ",null,null,null,null,{"$f":"'B1.10'!J16/'B1.11'!J$22*100","v":45744.804720471417},{"$f":"'B1.10'!K16/'B1.11'!K$22*100","v":45843.278103364246},{"$f":"'B1.10'!L16/'B1.11'!L$22*100","v":47291.916139521782},{"$f":"'B1.10'!M16/'B1.11'!M$22*100","v":60861.241174811861},{"$f":"'B1.10'!N16/'B1.11'!N$22*100","v":62155.183200431602},{"$f":"'B1.10'!O16/'B1.11'!O$22*100","v":60433.124988404074},{"$f":"'B1.10'!P16/'B1.11'!P$22*100","v":62455.263683351222},{"$f":"'B1.10'!Q16/'B1.11'!Q$22*100","v":68788.694240166587},{"$f":"'B1.10'!R16/'B1.11'!R$22*100","v":69143.905905416017},{"$f":"'B1.10'!S16/'B1.11'!S$22*100","v":69754.260686723428},{"$f":"'B1.10'!T16/'B1.11'!T$22*100","v":69654.489253899053},{"$f":"'B1.10'!U16/'B1.11'!U$22*100","v":73338.126327064529},{"$f":"'B1.10'!V16/'B1.11'!V$22*100","v":78211.567827899751},{"$f":"'B1.10'!W16/'B1.11'!W$22*100","v":75578.982541923906},{"$f":"'B1.10'!X16/'B1.11'!X$22*100","v":80826.074491820924},{"$f":"'B1.10'!Y16/'B1.11'!Y$22*100","v":95809.407877618345},{"$f":"'B1.10'!Z16/'B1.11'!Z$22*100","v":103129.34280797098}]
[null,null,null,null,"z toho"," gymnázia, včetně sportovních škol1)",null,null,null,{"$f":"'B1.10'!J17/'B1.11'!J$22*100","v":37188.982171192583},{"$f":"'B1.10'!K17/'B1.11'!K$22*100","v":38251.404897113884},{"$f":"'B1.10'!L17/'B1.11'!L$22*100","v":39927.186322012276},{"$f":"'B1.10'!M17/'B1.11'!M$22*100","v":51945.067097543426},{"$f":"'B1.10'!N17/'B1.11'!N$22*100","v":53322.833427059923},{"$f":"'B1.10'!O17/'B1.11'!O$22*100","v":52663.437258962847},{"$f":"'B1.10'!P17/'B1.11'!P$22*100","v":54163.626706441632},{"$f":"'B1.10'!Q17/'B1.11'!Q$22*100","v":57623.736471348027},{"$f":"'B1.10'!R17/'B1.11'!R$22*100","v":58165.491512944856},{"$f":"'B1.10'!S17/'B1.11'!S$22*100","v":57901.501400551751},{"$f":"'B1.10'!T17/'B1.11'!T$22*100","v":59059.575833908537},{"$f":"'B1.10'!U17/'B1.11'!U$22*100","v":60643.915920274107},{"$f":"'B1.10'!V17/'B1.11'!V$22*100","v":62579.477574697739},{"$f":"'B1.10'!W17/'B1.11'!W$22*100","v":59063.777740421334},{"$f":"'B1.10'!X17/'B1.11'!X$22*100","v":63368.855626944001},{"$f":"'B1.10'!Y17/'B1.11'!Y$22*100","v":73355.532436389854},{"$f":"'B1.10'!Z17/'B1.11'!Z$22*100","v":78089.987886477611}]
[null,null,null,null,null," střední odborné školy a konzervatoře, včetně VOŠ1)",null,null,null,{"$f":"'B1.10'!J18/'B1.11'!J$22*100","v":41961.685954094399},{"$f":"'B1.10'!K18/'B1.11'!K$22*100","v":41774.981113913389},{"$f":"'B1.10'!L18/'B1.11'!L$22*100","v":43015.676921543556},{"$f":"'B1.10'!M18/'B1.11'!M$22*100","v":57498.991018206005},{"$f":"'B1.10'!N18/'B1.11'!N$22*100","v":56708.268008936451},{"$f":"'B1.10'!O18/'B1.11'!O$22*100","v":54558.301287721319},{"$f":"'B1.10'!P18/'B1.11'!P$22*100","v":57159.784066853572},{"$f":"'B1.10'!Q18/'B1.11'!Q$22*100","v":74383.366504536534},{"$f":"'B1.10'!R18/'B1.11'!R$22*100","v":75245.832781427132},{"$f":"'B1.10'!S18/'B1.11'!S$22*100","v":77172.316324432439},{"$f":"'B1.10'!T18/'B1.11'!T$22*100","v":79023.167018356849},{"$f":"'B1.10'!U18/'B1.11'!U$22*100","v":84928.745054853716},{"$f":"'B1.10'!V18/'B1.11'!V$22*100","v":103678.60964266458},{"$f":"'B1.10'!W18/'B1.11'!W$22*100","v":100698.48608837355},{"$f":"'B1.10'!X18/'B1.11'!X$22*100","v":107909.40864086058},{"$f":"'B1.10'!Y18/'B1.11'!Y$22*100","v":130010.66424889457},{"$f":"'B1.10'!Z18/'B1.11'!Z$22*100","v":138225.71523422783}]
[null,null,null,null,null," střední odborná učiliště, učiliště, SPV1)",null,null,null,{"$f":"'B1.10'!J19/'B1.11'!J$22*100","v":54676.67626942409},{"$f":"'B1.10'!K19/'B1.11'!K$22*100","v":54409.250795795218},{"$f":"'B1.10'!L19/'B1.11'!L$22*100","v":57072.366133108677},{"$f":"'B1.10'!M19/'B1.11'!M$22*100","v":70949.566777965112},{"$f":"'B1.10'!N19/'B1.11'!N$22*100","v":71952.581187672782},{"$f":"'B1.10'!O19/'B1.11'!O$22*100","v":69515.442190610469},{"$f":"'B1.10'!P19/'B1.11'!P$22*100","v":71413.379902014538},{"$f":"'B1.10'!Q19/'B1.11'!Q$22*100","v":75748.289057469301},{"$f":"'B1.10'!R19/'B1.11'!R$22*100","v":75580.604683490572},{"$f":"'B1.10'!S19/'B1.11'!S$22*100","v":75604.815099063926},{"$f":"'B1.10'!T19/'B1.11'!T$22*100","v":72073.200883926795},{"$f":"'B1.10'!U19/'B1.11'!U$22*100","v":75670.17767177269},{"$f":"'B1.10'!V19/'B1.11'!V$22*100","v":64491.423143544191},{"$f":"'B1.10'!W19/'B1.11'!W$22*100","v":63026.048435374127},{"$f":"'B1.10'!X19/'B1.11'!X$22*100","v":66499.664046953985},{"$f":"'B1.10'!Y19/'B1.11'!Y$22*100","v":77488.570965979277},{"$f":"'B1.10'!Z19/'B1.11'!Z$22*100","v":86835.539912320048}]
[null,null,null,null,"Vysoké školy včetně kolejí a menz",null,null,null,null,{"$f":"'B1.10'!J20/'B1.11'!J$22*100","v":82900.357378479355},{"$f":"'B1.10'!K20/'B1.11'!K$22*100","v":85153.857387201715},{"$f":"'B1.10'!L20/'B1.11'!L$22*100","v":91400.349435681317},{"$f":"'B1.10'!M20/'B1.11'!M$22*100","v":115600.32865748183},{"$f":"'B1.10'!N20/'B1.11'!N$22*100","v":111524.10400101796},{"$f":"'B1.10'!O20/'B1.11'!O$22*100","v":97044.189649960666},{"$f":"'B1.10'!P20/'B1.11'!P$22*100","v":100423.11406354344},{"$f":"'B1.10'!Q20/'B1.11'!Q$22*100","v":110029.22349558739},{"$f":"'B1.10'!R20/'B1.11'!R$22*100","v":112750.73261953285},{"$f":"'B1.10'!S20/'B1.11'!S$22*100","v":110170.10127008068},{"$f":"'B1.10'!T20/'B1.11'!T$22*100","v":110670.61945373943},{"$f":"'B1.10'!U20/'B1.11'!U$22*100","v":109206.07297800234},{"$f":"'B1.10'!V20/'B1.11'!V$22*100","v":118145.22981450881},{"$f":"'B1.10'!W20/'B1.11'!W$22*100","v":117394.01182699675},{"$f":"'B1.10'!X20/'B1.11'!X$22*100","v":127150.71486106842},{"$f":"'B1.10'!Y20/'B1.11'!Y$22*100","v":181058.49419376987},{"$f":"'B1.10'!Z20/'B1.11'!Z$22*100","v":174608.17327926483}]
[null,null,null,"Index spotřebitelských cen a meziroční inflace"]
[null,null,null,null,"Index spotřebitelských cen (rok 2015 = 100)",null,null,null,null,95.5,98.1,100,83,85.3,90.7,91.7,93,94.8,97.9,99.3,99.7,100,100.7,103.1,105.3,108.3]
[null,null,null,null,"Meziroční inflace",null,null,null,null,1E-3,2.8000000000000001E-2,1.9E-2,2.5000000000000001E-2,2.8000000000000001E-2,6.3E-2,0.01,1.4999999999999999E-2,1.9E-2,3.3000000000000002E-2,1.4E-2,4.0000000000000001E-3,3.0000000000000001E-3,7.0000000000000001E-3,2.5000000000000001E-2,2.1000000000000001E-2,2.8000000000000001E-2]
[null,null,null,"Komentáře:",null,null,null,null,null,null,null,null,null,null,null,null,null,null,null,null,null,null,null,null,null,"Zdroj: ZÚ – kapitola 333-MŠMT; 700-Obce a DSO, KÚ; databáze MŠMT"]
[null,null,null,null,"Metodika použitá pro výpočty výdajů na žáka/studenta:"]
[null,null,null,null,"•  počet žáků/studentů ve školním roce = počet dětí/žáků/studentů denní formy vzdělávání + 1/3 počtu dětí/žáků/studentů ostatních forem vzdělávání, od roku 2006 1/4 počtu dětí/žáků/studentů ostatních forem vzdělávání,"]
[null,null,null,null,"•  přepočtený počet dětí/studentů v kalendářním roce = 2/3 počtu dětí/studentů ve školním roce, který v daném kalendářním roce končí + 1/3 počtu dětí/studentů ve školním roce, který v daném kalendářním roce začíná,"]
[null,null,null,null,"•  celkové výdaje na školství = běžné (neinvestiční) výdaje z rozpočtů MŠMT, Obce a DSO, KÚ (nejsou započteny výdaje z rozpočtů MO, MV a MSp, které nejsou v ucelené vývojové řadě k dispozici)."]
[null,null,null,"1)","Bez škol pro děti/žáky/studenty se SVP."]
[null,null,null,"Od ledna 2017 je nově zavedena časová řada bazických indexů se základem průměr roku 2015 = 100. Z této časové řady jsou počítány indexy k dalším základům (předchozí měsíc = 100, stejné období předchozího roku = 100 a index klouzavých průměrů za posledních 12 měsíců k průměru 12 předcházejících měsíců). Indexy vypočtené z dosavadní časové řady bazických indexů průměr roku 2005 = 100 zůstávají platné, nedochází k revizi již publikovaných údajů."]

{"sheet":"B1.12","index":12,"n_rows":39,"n_cols":27,"rows_kept":39,"cut":false,"hidden":false,"merged":[[6,25,9,25],[6,15,9,15],[11,4,11,8],[6,16,9,16],[6,17,9,17],[6,18,9,18],[6,19,9,19],[6,21,9,21],[6,22,9,22],[6,23,9,23],[6,24,9,24],[6,13,9,13],[6,14,9,14],[6,20,9,20],[22,6,22,8],[23,6,23,8],[12,3,34,4],[6,10,9,10],[6,12,9,12],[6,3,10,8],[6,9,9,9],[6,11,9,11],[17,6,17,7],[19,6,19,8]]}
[]
[]
[]
[null,null,null,"Tab. B1.12:",null,null,null,"Školství celkem, neveřejné školy a školská zařízení – výše dotací "]
[null,null,null,"z rozpočtu kapitoly 333-MŠMT v letech 2009 až 2019 – podle zřizovatele"]
[null,null,null,null,null,null,null,null,null,null,null,null,null,null,null,null,null,null,null,null,null,null,null,null,null,"v tis. Kč",""]
[null,null,null,"Zřizovatel",null,null,null,null,null,2003,2004,2005,2006,2007,2008,2009,2010,2011,2012,2013,2014,2015,2016,2017,"2018 1)","2019  2)"]
[]
[]
[]
[]
[null,null,null,null,"Neveřejné celkem/Název paragrafu oddílu 31 - 32 rozpočtové skladby",null,null,null,null,3341562.91,3580016.6469999999,3849801.8176199999,4243343.9459499996,4528406.7220000001,4889100.714505,5026755.7833000002,{"$f":"Q13+Q16","v":5100180.07675},5088128.125,5117480.2225799998,5193374.17,5335669.3599999994,{"$f":"V13+V16","v":5613875.2699999996},{"$f":"W13+W16","v":5985393.7400000002},{"$f":"X13+X16","v":6718192.1400000006},7636504.5688800011,8670424.1018199995]
[null,null,null,"v tom",null," soukromé",null,null,null,2723177.65,2912555.8790000002,3123623.9879999999,3461196.8389499993,3672308.7029999997,3941870,3999147.4580000001,4081244,4008208,3984927,4004119.17,4093501.36,4238874.12,4547489.1100000003,5126862.33,{"$f":"SUM(Y14:Y15)","v":5908983.6743800007},{"$f":"SUM(Z14:Z15)","v":6795485.1649199994}]
[null,null,null,null,null,null,"Soukromé školy_kraj",null,null,null,null,null,null,null,null,null,null,null,null,null,null,null,null,null,5881931.5643800003,6769061.5349199995]
[null,null,null,null,null,null,"Vysoké školy",null,null,null,null,null,null,null,null,null,null,null,null,null,null,null,null,null,27052.11,26423.63]
[null,null,null,null,null," církevní ",null,null,null,618385.26,667460.76799999992,726177.82961999997,782147.10699999996,856098.01899999997,947230.71450499992,1027608.3253,1018936.07675,1079920.125,1132553.2225799998,1189255,1242168,1375001.15,1437904.63,1591329.81,{"$f":"SUM(Y17:Y35)","v":1727520.8944999999},{"$f":"SUM(Z17:Z35)","v":1874938.9368999999}]
[null,null,null,null,null,null,"Mateřské školy",null,null,null,null,null,null,null,null,null,null,null,null,null,null,null,null,null,97130.933000000005,106255.73832999999]
[null,null,null,null,null,null,"Mateřské školy pro děti se speciálními vzdělávacími potřebami",null,null,null,null,null,null,null,null,null,null,null,null,null,null,null,null,null,15040.062,15724.797]
[null,null,null,null,null,null,"Základní školy",null,null,null,null,null,null,null,null,null,null,null,null,null,null,null,null,null,385795.62771999999,428133.24027000001]
[null,null,null,null,null,null,"Základní školy pro žáky se speciálními vzdělávacími potřebami",null,null,null,null,null,null,null,null,null,null,null,null,null,null,null,null,null,122798.77899999999,156283.49799999999]
[null,null,null,null,null,null,"Gymnázia",null,null,null,null,null,null,null,null,null,null,null,null,null,null,null,null,null,391182.79499999998,426819.32]
[null,null,null,null,null,null,"Střední odborné školy",null,null,null,null,null,null,null,null,null,null,null,null,null,null,null,null,null,137923.87899999999,142450.49799999999]
[null,null,null,null,null,null,"Střední školy poskytující střední vzdělání s výučním listem",null,null,null,null,null,null,null,null,null,null,null,null,null,null,null,null,null,16146.198,17161.024000000001]
[null,null,null,null,null,null,"Střední školy a konzervatoře pro žáky se speciálními vzdělávacími potřebami",null,null,null,null,null,null,null,null,null,null,null,null,null,null,null,null,null,46267.089,47717.635999999999]
[null,null,null,null,null,null,"Konzervatoře",null,null,null,null,null,null,null,null,null,null,null,null,null,null,null,null,null,41436.175000000003,47344.76483]
[null,null,null,null,null,null,"Dětské domovy",null,null,null,null,null,null,null,null,null,null,null,null,null,null,null,null,null,15953.45853,17245.990000000002]
[null,null,null,null,null,null,"Školní stravování",null,null,null,null,null,null,null,null,null,null,null,null,null,null,null,null,null,73199.343999999997,78182.682000000001]
[null,null,null,null,null,null,"Školní družiny a kluby",null,null,null,null,null,null,null,null,null,null,null,null,null,null,null,null,null,107478.978,115803.44899999999]
[null,null,null,null,null,null,"Internáty",null,null,null,null,null,null,null,null,null,null,null,null,null,null,null,null,null,6448.7920000000004,6929.085]
[null,null,null,null,null,null,"Zařízení výchovného poradenství",null,null,null,null,null,null,null,null,null,null,null,null,null,null,null,null,null,12622.974,14241.588]
[null,null,null,null,null,null,"Domovy mládeže",null,null,null,null,null,null,null,null,null,null,null,null,null,null,null,null,null,52832.237000000001,58523.087670000001]
[null,null,null,null,null,null,"Vyšší odborné školy",null,null,null,null,null,null,null,null,null,null,null,null,null,null,null,null,null,62546.879249999998,56944.245999999999]
[null,null,null,null,null,null,"Základní umělecké školy",null,null,null,null,null,null,null,null,null,null,null,null,null,null,null,null,null,19749.494999999999,22633.384999999998]
[null,null,null,null,null,null,"Střediska volného času",null,null,null,null,null,null,null,null,null,null,null,null,null,null,null,null,null,110718.079,114123.579]
[null,null,null,null,null,null,"Ostatní záležitosti vzdělávání 3)",null,null,null,null,null,null,null,null,null,null,null,null,null,null,null,null,null,12249.12,2421.3287999999998]
[null,null,null,null,null,null,null,null,null,null,null,null,null,null,null,null,null,null,null,null,null,null,null,null,null,"Zdroj: Centrální registr dotací MF"]
[null,null,null,"Komentáře:",null,null,null,null,null,null,null,null,null,null,null,null,null,null,null,null,null,null,null,null,null,null,""]
[null,null,null,"1), 2)","Údaje představují spotřebované dotace církevními a soukromými školami dle paragrafů (oddíl 31 - 32 rozpočtové skladby)"]
[null,null,null,"3)","Zahrnuty rozvojové programy."]

{"sheet":"B1.13","index":13,"n_rows":24,"n_cols":27,"rows_kept":24,"cut":false,"hidden":false,"merged":[[6,15,9,15],[6,23,9,23],[6,13,9,13],[6,21,9,21],[6,20,9,20],[6,19,9,19],[6,24,9,24],[21,4,21,25],[16,4,17,4],[20,4,20,25],[13,4,14,4],[6,3,10,8],[6,14,9,14],[6,9,9,9],[6,18,9,18],[6,11,9,11],[6,10,9,10],[6,17,9,17],[6,25,9,25],[6,16,9,16],[6,22,9,22],[6,12,9,12]]}
[]
[]
[]
[null,null,null,"Tab. B1.13:",null,null,null,"Školství celkem – přepočtené počty zaměstnanců "]
[null,null,null,"v letech 2009 až 2019"]
[null,null,null,null,null,null,null,null,null,null,null,null,null,null,null,null,null,null,null,null,null,null,null,null,null,null,""]
[null,null,null,null,null,null,null,null,null,2003,2004,2005,2006,2007,2008,2009,2010,2011,2012,2013,2014,2015,2016,2017,2018,2019]
[]
[]
[]
[]
[null,null,null,"Všichni zřizovatelé (bez jiných resortů)"]
[null,null,null,null,"Školy celkem",null,null,null,null,276992.80200000003,274522.58100000001,272617,271763.24699999997,271496.95400000014,270439.55800000334,270377.90599999961,271230.41700000031,269703.20399999956,268433.18999999831,269912.45699999778,272641.52199999907,274992.8189999985,277733.97600000002,286176.73699999996,295087.25409999985,303799.21199999971]
[null,null,null,null,"v tom"," regionální školství",null,null,null,244248.25399999999,241290.158,238113.30000000054,236084.97399999999,234899.47900000014,233315.31700000333,232614.73,233147.79100000029,231528.71599999955,229787.50299999831,229649.45899999782,231920.14099999907,235149.15399999853,238449.13399999999,246237.87899999999,253506.63409999985,260970.80399999971]
[null,null,null,null,null," vysoké školy1)",null,null,null,32744.547999999999,33232.423000000003,34503.595999999998,35678.273000000001,36597.474999999999,37124.241000000009,37763.175999999992,38082.626000000018,38174.487999999998,38645.686999999976,40262.997999999963,40721.380999999987,39843.664999999994,39284.842000000011,39938.858,41580.619999999995,42828.407999999967]
[null,null,null,null,"Ostatní přímo řízené organizace PO2)",null,null,null,null,1057.539,1064.248,916.56899999999996,918.65800000000002,917.91800000000001,840.51900000000001,976.34500000000003,1116.5039999999999,1029.5630000000001,851.76400000000001,800.07599999999991,796.4,745.46900000000005,745.54700000000003,871.64399999999989,982.76499999999999,988.98500000000001]
[null,null,null,null,"v tom"," OPŘO odměňující dle § 109 odst. 3 ZP4)",null,null,null,1057.539,1064.248,916.56899999999996,918.65800000000002,884.846,807.79399999999987,944.99,1088.5539999999999,1004.671,832.17399999999998,785.40700000000004,784.923,734.07800000000009,736.46499999999992,864.55599999999993,973.90899999999999,977.63700000000006]
[null,null,null,null,null," OPŘO odměňující dle § 109 odst. 2 ZP3)",null,null,null,"x ","x ","x ","x ",33.072000000000003,32.725000000000001,31.355,27.95,24.891999999999999,19.59,14.669,11.483000000000001,11.391,9.0820000000000007,7.0880000000000001,8.8559999999999999,11.348000000000001]
[null,null,null,null,"Ostatní organizační složky státu (VSC, CZVV)4)",null,null,null,null,98,96,94,138.49,141.58000000000001,161.863,111.254,92,92,91.44,91.974999999999994,94,95.912999999999997,96,125,129.40299999999999,126]
[null,null,null,"Komentáře:",null,null,null,null,null,null,null,null,null,null,null,null,null,null,null,null,null,null,null,null,null,"Zdroj: databáze MŠMT"]
[null,null,null,"1)","Veřejné vysoké školy včetně kolejí, menz, vysokoškolských zemědělských a lesních statků, včetně zaměstnanců výzkumu a vývoje."]
[null,null,null,"2)","Ostatní přímo řízené organizace včetně pedagogických center (VSC od 1. 3. 2003 změnilo formu hospodaření z OPŘO PO na organizační složku státu, CZVV od 1. 1. 2006)."]
[null,null,null,"3)","VKC a CSVŠ od 1. 1. 2007 odměňují podle zákona č. 262/06 Sb., § 109 odst. 2."]
[null,null,null,"4)","CZVV změnilo od 1. 4. 2009 formu hospodaření z ostatní OSS na OPŘO PO, data jsou kumulativní."]

{"sheet":"B1.14","index":14,"n_rows":41,"n_cols":27,"rows_kept":41,"cut":false,"hidden":false,"merged":[[40,4,40,25],[6,25,9,25],[16,4,17,4],[19,4,20,4],[6,12,9,12],[6,13,9,13],[36,4,36,25],[37,4,37,25],[6,19,9,19],[6,9,9,9],[29,4,30,4],[6,22,9,22],[6,15,9,15],[6,23,9,23],[6,10,9,10],[6,14,9,14],[6,24,9,24],[26,4,27,4],[6,21,9,21],[6,16,9,16],[6,3,10,8],[6,17,9,17],[6,18,9,18],[6,11,9,11],[6,20,9,20]]}
[]
[]
[]
[null,null,null,"Tab. B1.14:",null,null,null,"Školství celkem – průměrné měsíční mzdy "]
[null,null,null,"v letech 2009 až 2019"]
[null,null,null,"Data za jednotlivé roky jsou přepočtena ve srovnatelné metodice – nemusí souhlasit s dřívějšími publikacemi. ",null,null,null,null,null,null,null,null,null,null,null,null,null,null,null,null,null,null,null,null,null,null,""]
[null,null,null,null,null,null,null,null,null,2003,2004,2005,2006,2007,2008,2009,2010,2011,2012,2013,2014,2015,2016,2017,2018,2019]
[]
[]
[]
[null,null,null,null,null,null,null,null,null,null,null,null,null,null,"5)","5)","5)","5)","5)","5)","5)","5)","5)","5)","5)","5)"]
[null,null,null,"Všichni zřizovatelé (bez jiných resortů)"]
[null,null,null,"Nominální mzda (v běžných cenách)"]
[null,null,null,null,"Celkem ČR5)",null,null,null,null,17446,18583,19584,20844,22384,22691,23344,23864,24455,25067,25035,25768,26591,27575,29504,31885,34125]
[null,null,null,null,"Nepodnikatelská sféra5)",null,null,null,null,17692,18715,19876,20975,22387,23337,24432,24265,24469,25037,25255,25863,26807,28076,".",".","."]
[null,null,null,null,"Školy celkem",null,null,null,null,16211.682000000001,17368.008000000002,18668.766222582086,19864,21107.957801741402,21893.957641421079,23272.004655155957,22904.522191734908,23577.792782110893,24248.108190657742,24628.197494913704,25039.641679193752,25475.558644800079,25562.789158896503,28343.606212944302,31370.658287130285,35313.131442553182]
[null,null,null,null,"v tom"," regionální školství",null,null,null,15707.912,16698.907999999999,17712.680593650057,18787,19841.654276295743,20519.082443767049,21890.625309569397,21457.948217274818,22059.45330520779,22600.393453874563,22736.160423889331,23105.298815983475,23637.347321692072,24814.030370938573,26608.581841436888,29476,33529.755754785801]
[null,null,null,null,null," vysoké školy1)",null,null,null,19969.411,22226.131000000001,25266.823543551811,26991,29235.678044273092,30534.658001492859,31781.066061992948,31760.674250772525,32786.539459721527,34045.430593587327,35419.874999124579,36056.28842744798,36324.305553551218,36821.266196005054,39040.686979288279,42921.621923629071,46179.960465726399]
[null,null,null,null,"Ostatní přímo řízené organizace PO2)",null,null,null,null,17516.080000000002,18144.003000000001,19608.188799752115,20960,21968.478756635486,23528.113681348474,26621.531750218073,27058.296178667224,27945.579985553733,28669.569661705984,29100.919891776954,29353.228486522687,29717.322584842561,29779.406484992447,33228.463684715301,36518.355778509278,38657.105770057176]
[null,null,null,null,"v tom"," OPŘO odměňující dle § 109 odst. 3 ZP",null,null,null,17516.080000000002,18144.003000000001,19608.188799752115,20960,21839.692161121824,23353.329768067935,26560.0984313767,26994.270533815197,27889.555303842415,28614.727308631773,29043.746745318029,29271.619955078397,29743.058185460759,29675.808762127188,33200.394190775383,36472.475696736896,38636.778272508098]
[null,null,null,null,null," OPŘO odměňující dle § 109 odst. 2 ZP3)",null,null,null,"x ","x ","x ","x ",25414.182188356717,27842.533740769031,28473.034603731459,29551.86940966011,30206.803390647601,30999.247064828993,32162.082168745881,34916.260268803155,28058.825681093262,38180.209939073618,36652.229119638832,41563.86442336646,40408.331864645756]
[null,null,null,null,"Ostatní organizační složky státu (VSC, CZVV)4)",null,null,null,null,16560.78,18605.035,19459.656028368794,22117,23609.621768611385,24405.512686654762,26855.576728327367,26448.321557971012,26649.378623188404,27082.294400699913,28993.385883845247,30353.723404255317,31181.423095235616,31886.324652777777,34136.19,38268.369615336072,39501.363756613755]
[null,null,null,"Reálná mzda (ve stálých cenách roku 2015)"]
[null,null,null,null,"Celkem ČR",null,null,null,null,{"$f":"J14/J$34*100","v":18268.062827225131},18942.915392456678,19584,25113.253012048193,26241.500586166472,{"$f":"O14/O$34*100","v":25017.640573318633},25456.924754634678,25660.215053763444,{"$f":"R14/R$34*100","v":25796.413502109703},25604.698672114402,25211.480362537764,{"$f":"U14/U$34*100","v":25845.536609829487},26591.000000000004,27383.316782522343,{"$f":"X14/X$34*100","v":28616.876818622699},30280.151946818616,31509.695290858723]
[null,null,null,null,"Nepodnikatelská sféra",null,null,null,null,18525.65445026178,19077.471967380225,19876,25271.084337349399,26245.017584994137,25729.878721058434,26643.402399127586,26091.397849462366,25811.181434599155,25574.05515832482,25433.031218529708,25940.822467402206,26807,27880.834160873885,".",".","."]
[null,null,null,null,"Školy celkem",null,null,null,null,16975.5832460733,17704.39143730887,18668.766222582086,23932.53012048193,24745.554281056742,24138.872813033162,25378.412928196245,24628.518485736462,24871.089432606426,24768.241257055914,24801.810166076237,25114.986639111085,25475.558644800079,25385.093504365941,{"$f":"X16/X$34*100","v":27491.373630401846},29791.698278376338,32606.769568377826]
[null,null,null,null,"v tom"," regionální školství",null,null,null,16448.075392670158,17022.33231396534,17712.680593650057,22634.939759036144,23261.024942902397,22623.023642521555,23872.001428101852,23073.062599220233,23269.465511822564,23085.182281792197,22896.435472194695,23174.823285840997,23637.347321692072,24641.539593782098,{"$f":"X17/X$34*100","v":25808.517789948484},27992.402659069325,30960.069949017361]
[null,null,null,null,null," vysoké školy1)",null,null,null,20910.378010471202,22656.60652395515,25266.823543551811,32519.277108433733,34273.94846925333,33665.554577169634,34657.651103591001,34151.262635239269,34584.957235993177,34775.720728894099,35669.561932653152,36164.782775775311,36324.305553551218,36565.309032775622,{"$f":"X18/X$34*100","v":37866.815692811142},40761.274381414129,42640.77605330231]
[null,null,null,null,"Ostatní přímo řízené organizace PO2)",null,null,null,null,18341.445026178015,18495.415902140674,19608.188799752115,25253.012048192773,25754.371344238552,25940.588402809783,29031.114231426473,29094.942127599166,29478.459900373138,29284.545108994877,29306.062328073465,29441.55314596057,29717.322584842561,29572.399687182173,{"$f":"X19/X$34*100","v":32229.353719413484},34680.299884624197,35694.465161640976]
[null,null,null,null,"v tom"," OPŘO odměňující dle § 109 odst. 3 ZP",null,null,null,18341.445026178015,18495.415902140674,19608.188799752115,25253.012048192773,25603.390575758294,25747.882875488351,28964.120426801201,29026.097348188385,29419.362134854866,29228.526362238783,29248.486148356522,29359.699052235101,29743.058185460755,29469.52210737556,{"$f":"X20/X$34*100","v":32202.128216076999},34636.729056730197,35675.695542482084]
[null,null,null,null,null," OPŘO odměňující dle § 109 odst. 2 ZP3)",null,null,null,"x ","x ","x ","x ",{"$f":"N21/N$34*100","v":29793.882987522527},30697.391114409071,31050.201312684254,31776.203666301193,31863.716656801269,31664.195163257398,32388.803795313073,35021.324241527735,28058.825681093258,37914.806295008559,{"$f":"X21/X$34*100","v":35550.173733888296},39471.856052579737,37311.479099395896]
[null,null,null,null,"Ostatní organizační složky státu (VSC, CZVV)4)",null,null,null,null,{"$f":"J22/J$34*100","v":17341.130890052355},{"$f":"K22/K$34*100","v":18965.377166156984},{"$f":"L22/L$34*100","v":19459.656028368794},{"$f":"M22/M$34*100","v":26646.987951807227},{"$f":"N22/N$34*100","v":27678.337360622958},26907.952245484852,29286.343215187968,28439.055438678508,28111.158885219833,27663.22206404485,29197.770275775678,30445.058579995304,31181.423095235619,31664.671949133837,{"$f":"X22/X$34*100","v":33109.786614936958},36342.231353595511,36474.020089209378]
[null,null,null,"Index spotřebitelských cen a meziroční inflace"]
[null,null,null,null,"Index spotřebitelských cen (rok 2015 = 100)",null,null,null,null,95.5,98.1,100,83,85.3,90.7,91.7,93,94.8,97.9,99.3,99.7,100,100.7,103.1,105.3,108.3]
[null,null,null,null,"Meziroční inflace",null,null,null,null,1E-3,2.8000000000000001E-2,1.9E-2,2.5000000000000001E-2,2.8000000000000001E-2,6.3E-2,0.01,1.4999999999999999E-2,1.9E-2,3.3000000000000002E-2,1.4E-2,4.0000000000000001E-3,3.0000000000000001E-3,7.0000000000000001E-3,2.5000000000000001E-2,2.1000000000000001E-2,2.8000000000000001E-2]
[null,null,null,"Komentáře:",null,null,null,null,null,null,null,null,null,null,null,null,null,null,null,null,null,null,null,null,null,"Zdroj: databáze MŠMT, ČSÚ"," "]
[null,null,null,"1)","Veřejné vysoké školy včetně kolejí, menz, vysokoškolských zemědělských a lesních statků, včetně zaměstnanců výzkumu a vývoje."]
[null,null,null,"2)","Ostatní přímo řízené organizace včetně pedagogických center (VSC od 1. 3. 2003 změnilo formu hospodaření z OPŘO PO na organizační složku státu, CZVV od 1. 1. 2006)."]
[null,null,null,"3)","VKC a CSVŠ od 1. 1. 2007 odměňují podle zákona č. 262/06 Sb., § 109 odst. 2."]
[null,null,null,"4)","CZVV změnilo od 1. 4. 2009 formu hospodaření z ostatní OSS na OPŘO PO, data jsou kumulativní."]
[null,null,null,"5)","Od 1. 1. 2009 ČSÚ přešel na novou metodiku výpočtu průměrných mezd, kde přednost dostaly údaje za přepočtené počty zaměstnanců a také za nezjišťované podnikatelské subjekty s méně než 20 zaměstnanci (ČR úhrnem). Data před rokem 2008 (bez podlimitních ekonomických subjektů) jsou nesrovnatelná s daty podle nové metodiky v roce 2008 a roce 2009."]

{"sheet":"GB1","index":15,"n_rows":39,"n_cols":26,"rows_kept":39,"cut":false,"hidden":false,"merged":[]}
[]
[]
[]
[null,null,null,"Obr. B1",null,null,null,"Školství celkem – počet škol ve školním roce 2009/10 až 2019/20 – podle druhu školy"]
[]
[]
[]
[]
[]
[null,null,null,null,null,null,null,null,null,null,"2003/04","2004/05","2005/06","2007/08","2008/09","2009/10","2010/11","2011/12","2012/13","2013/14","2014/15","2015/16","2016/17","2017/18","2018/19","2019/20"]
[null,null,null,null,null,null,null,null,null,"MŠ",5067,4994,4834,4808,4809,4826,4880,4931,5011,5085,5158,5209,5209,5269,5287,5304]
[null,null,null,null,null,null,null,null,null,"ZŠ",4838,4765,4474,4155,4133,4125,4123,4111,4095,4095,4106,4115,4140,4155,4172,4192]
[null,null,null,null,null,null,null,null,null,"SŠ",2006,1966,2004,1447,1438,1433,1423,1393,1347,1331,1310,1304,1307,1308,1290,1284]
[null,null,null,null,null,null,null,null,null,"Konzervatoře",17,17,17,19,18,17,18,18,18,18,18,18,18,18,18,18]
[null,null,null,null,null,null,null,null,null,"VOŠ",169,174,176,177,184,184,182,180,178,174,174,171,168,166,166,160]
[null,null,null,null,null,null,null,null,null,"VŠ veřejné a soukromé",52,60,64,68,71,71,70,71,70,69,69,67,63,62,62,58]
[]
[]
[]
[]
[]
[]
[]
[]
[]
[]
[]
[]
[]
[]
[]
[]
[]
[]
[]
[]
[]
[]
[null,null,null,null,null,null,null,null,null,null,null,null,null,null,null,null,null,null,null,null,null,null,null,null,null,"Zdroj: databáze MŠMT"]

{"sheet":"GB2","index":16,"n_rows":41,"n_cols":25,"rows_kept":41,"cut":false,"hidden":false,"merged":[]}
[]
[]
[]
[null,null,null,"Obr. B2",null,null,"Školství celkem – struktura dětí/žáků/studentů ve školním roce 2009/10 až 2019/20 – podle druhu školy"]
[]
[]
[]
[]
[]
[null,null,null,null,null,null,null,null,null,"2003/04","2004/05","2005/06","2007/08","2008/09","2009/10","2010/11","2011/12","2012/13","2013/14","2014/15","2015/16","2016/17","2017/18","2018/19","2019/20"]
[null,null,null,null,null,null,null,null,"MŠ",284166,284218,282183,291194,301620,314008,328612,342521,354340,363568,367603,367361,362653,362756,363776,364909]
[null,null,null,null,null,null,null,null,"ZŠ",992770,953655,916575,844863,816015,794459,789486,794642,807950,827654,854137,880251,906188,926108,940928,952946]
[null,null,null,null,null,null,null,null,"SŠ",576615,579505,577605,569267,564326,556260,532918,501220,470754,448792,435542,427107,425138,421535,420814,423838]
[null,null,null,null,null,null,null,null,"Konzervatoře",3543,3505,3495,3606,3535,3435,3560,3557,3655,3690,3752,3733,3795,3781,3813,3836]
[null,null,null,null,null,null,null,null,"VOŠ",30681,29759,28792,28774,28027,28749,29800,29335,28980,28332,26964,24786,22002,19883,18416,17954]
[null,null,null,null,null,null,null,null,"VŠ",243723,264776,289465,343943,368050,388990,395979,392039,380891,367747,346893,326528,311168,299054,290099,288915]
[]
[]
[]
[]
[]
[]
[]
[]
[]
[]
[]
[]
[]
[]
[]
[]
[]
[]
[]
[]
[]
[]
[]
[null,null,null,"Komentáře:",null,null,null,null,null,null,null,null,null,null,null,null,null,null,null,null,null,null,null,null,"Zdroj: databáze MŠMT"]
[null,null,null,null,"U VŠ počet studií."]

{"sheet":"GB3","index":17,"n_rows":36,"n_cols":26,"rows_kept":36,"cut":false,"hidden":false,"merged":[]}
[]
[]
[]
[null,null,null,"Obr. B3",null,null,"Školství celkem – struktura veřejných výdajů (v %) v letech 2009 až 2019"]
[]
[]
[]
[]
[]
[null,null,null,null,null,null,null,null,null,2003,2004,2005,2006,2007,2008,2009,2010,2011,2012,2013,2014,2015,2016,2017,2018,2019]
[null,null,null,null,null,null,null,null,"Předškolní vzdělávání",8.4279839210184879E-2,8.3630678425457766E-2,8.4671736084187724E-2,8.383834558788858E-2,8.2867693846884721E-2,9.3338408480149293E-2,9.749361288688764E-2,9.9919179638106051E-2,9.3708030756345206E-2,9.8812803232385116E-2,0.10327413559550987,0.10809361085054306,0.10569003446825921,0.10845629670697796,0.11050710946196041,0.11219999999999999,0.1135]
[null,null,null,null,null,null,null,null,"Základní vzdělávání včetně školních družin a klubů",0.36870973534277063,0.36467868632639644,0.33744308597659856,0.33709670222058019,0.31287926077874367,0.32809947489360275,0.3300173712230664,0.32117513096256001,0.31398199254653419,0.30917553095025757,0.31574500563406105,0.32555050773774791,0.33278526549622428,0.35226567064080699,0.36519987399029397,0.377,0.40620000000000001]
[null,null,null,null,null,null,null,null,"Střední vzdělávání včetně VOŠ a konzervatoří",0.22904805367840644,0.22738392563171875,0.22522233740726938,0.22050432925048027,0.21174854353717765,0.22311701089858776,0.21706233184890761,0.21161895033211028,0.19551352522987708,0.19454471832313425,0.18586416362054317,0.18218205631705806,0.18595331477139862,0.18885392491911865,0.18237369762584976,0.19489999999999999,0.19309999999999999]
[null,null,null,null,null,null,null,null,"Vysoké školy",0.17699724241756312,0.18567253237322817,0.20290535631279849,0.20309696710916211,0.2261867104729102,0.20690911929456185,0.20562211248279524,0.19825648870560081,0.19700632272392943,0.19991052094040826,0.19808070330242605,0.18331906413026774,0.18403704505953242,0.18375003290483799,0.17305546730042923,0.215,0.18759999999999999]
[null,null,null,null,null,null,null,null,"Ostatní výdaje",0.14096512935107489,0.13863417724319896,0.14975748421914589,0.1554636558318889,0.1663177913642839,0.14853598643309851,0.14980457155834323,0.16903025036162281,0.1997901287433142,0.19755642655381497,0.19703599184745985,0.20085476096438318,0.19153434020458548,0.16667407482825841,0.16886385162146667,3.5200000000000002E-2,3.2500000000000001E-2]
[]
[]
[]
[]
[]
[]
[]
[]
[]
[]
[]
[]
[]
[]
[]
[]
[]
[]
[]
[]
[null,null,null,null,null,null,null,null,null,null,null,null,null,null,null,null,null,null,null,null,null,null,null,null,null,"Zdroj: Státní závěrečný účet ČR; ZÚ - kapitola 333-MŠMT; 700-Obce a DSO, KÚ; ZÚ ostatních resortů; ČSÚ"]

{"sheet":"GB4","index":18,"n_rows":36,"n_cols":24,"rows_kept":36,"cut":false,"hidden":false,"merged":[]}
[]
[]
[]
[null,null,null,"Obr. B4",null,null,"Školství celkem – jednotkové výdaje na dítě, žáka, studenta v tis. Kč v letech 2009 až 2019 – podle úrovně vzdělávání"]
[]
[]
[]
[]
[]
[null,null,null,null,null,null,null,null,null,2003,2004,2007,2008,2009,2010,2011,2012,2013,2014,2015,2016,2017,2018,2019]
[null,null,null,null,null,null,null,null,"Předškolní vzdělávání",32.597428828365878,33.621193291497349,40.49176745459328,41.9787331729055,44.122810316569399,51.541844416363602,49.113066561828298,49.077144847584897,50.642219055785198,52.787567040316702,52.455005003533103,51.282184005563401,59.172526391824,68.2221003686942,77.018460097860299]
[null,null,null,null,null,null,null,null,"Základní vzdělávání",37.53398839770103,40.570937756453489,50.366149591737546,52.572377975940199,57.6428309624349,65.455474894776302,68.261748810873698,65.637488542221107,66.026746846171307,68.840438851208006,69.775638379139806,67.969667925033406,77.105268528344894,88.809252703444002,105.51506884520001]
[null,null,null,null,null,null,null,null,"Střední vzdělávání včetně konzervatoří a VOŠ\n a konzervatoří",43.686288508050204,44.972255819400324,53.018371269968149,54.812844364482501,57.271476797633099,63.973485643354898,65.5484227983344,68.289421212302202,69.166907829121797,73.118111948083296,78.211567827899799,76.108035419717396,83.331682801067402,100.88730649513199,111.689078261033]
[]
[]
[]
[]
[]
[]
[]
[]
[]
[]
[]
[]
[]
[]
[]
[]
[]
[]
[]
[]
[]
[]
[null,null,null,null,null,null,null,null,null,null,null,null,null,null,null,null,null,null,null,null,null,null,null,"Zdroj: Státní závěrečný účet ČR; ZÚ - kapitola 333-MŠMT; 700-Obce a DSO, KÚ; ZÚ ostatních resortů; ČSÚ"]

{"sheet":"GB5","index":19,"n_rows":36,"n_cols":26,"rows_kept":36,"cut":false,"hidden":false,"merged":[]}
[]
[]
[]
[null,null,null,"Obr. B5",null,null,null,"Školství celkem – průměrné nominální měsíční mzdy v letech 2009 až 2019"]
[]
[]
[]
[]
[]
[null,null,null,null,null,null,null,null,null,null,2003,2004,2005,2007,2008,2009,2010,2011,2012,2013,2014,2015,2016,2017,2018,2019]
[null,null,null,null,null,null,null,null,null,"RgŠ – všichni zřizovatelé ",15707.912,16698.907999999999,17712.680593650057,19841.654276295743,20519.082443767049,{"$f":"'B1.14'!P17","v":21890.625309569397},{"$f":"'B1.14'!Q17","v":21457.948217274818},{"$f":"'B1.14'!R17","v":22059.45330520779},{"$f":"'B1.14'!S17","v":22600.393453874563},{"$f":"'B1.14'!T17","v":22736.160423889331},{"$f":"'B1.14'!U17","v":23105.298815983475},{"$f":"'B1.14'!V17","v":23637.347321692072},{"$f":"'B1.14'!W17","v":24814.030370938573},{"$f":"'B1.14'!X17","v":26608.581841436888},{"$f":"'B1.14'!Y17","v":29476},{"$f":"'B1.14'!Z17","v":33529.755754785801}]
[null,null,null,null,null,null,null,null,null,"Veřejné VŠ",19969.411,22226.131000000001,25266.823543551811,29235.678044273092,30534.658001492859,{"$f":"'B1.14'!P18","v":31781.066061992948},{"$f":"'B1.14'!Q18","v":31760.674250772525},{"$f":"'B1.14'!R18","v":32786.539459721527},{"$f":"'B1.14'!S18","v":34045.430593587327},{"$f":"'B1.14'!T18","v":35419.874999124579},{"$f":"'B1.14'!U18","v":36056.28842744798},{"$f":"'B1.14'!V18","v":36324.305553551218},{"$f":"'B1.14'!W18","v":36821.266196005054},{"$f":"'B1.14'!X18","v":39040.686979288279},{"$f":"'B1.14'!Y18","v":42921.621923629071},{"$f":"'B1.14'!Z18","v":46179.960465726399}]
[null,null,null,null,null,null,null,null,null,"CELKEM Česká republika",17446,18583,19584,22384,22691,{"$f":"'B1.14'!P14","v":23344},{"$f":"'B1.14'!Q14","v":23864},{"$f":"'B1.14'!R14","v":24455},{"$f":"'B1.14'!S14","v":25067},{"$f":"'B1.14'!T14","v":25035},{"$f":"'B1.14'!U14","v":25768},{"$f":"'B1.14'!V14","v":26591},{"$f":"'B1.14'!W14","v":27575},{"$f":"'B1.14'!X14","v":29504},{"$f":"'B1.14'!Y14","v":31885},{"$f":"'B1.14'!Z14","v":34125}]
[null,null,null,null,null,null,null,null,null,"Nepodnikatelská sféra",17692,18715,19876,22387,23337,{"$f":"'B1.14'!P15","v":24432},{"$f":"'B1.14'!Q15","v":24265},{"$f":"'B1.14'!R15","v":24469},{"$f":"'B1.14'!S15","v":25037},{"$f":"'B1.14'!T15","v":25255},{"$f":"'B1.14'!U15","v":25863},{"$f":"'B1.14'!V15","v":26807},{"$f":"'B1.14'!W15","v":28076},".",".","."]
[]
[]
[]
[]
[]
[]
[]
[]
[]
[]
[]
[]
[]
[]
[]
[]
[]
[]
[]
[]
[]
[null,null,null,null,null,null,null,null,null,null,null,null,null,null,null,null,null,null,null,null,null,null,null,null,null,"Zdroj: databáze MŠMT, ČSÚ"]

{"sheet":"GB6","index":20,"n_rows":31,"n_cols":26,"rows_kept":31,"cut":false,"hidden":false,"merged":[]}
[]
[]
[]
[null,null,null,"Obr. B6",null,null,null,"Školství celkem – průměrné reálné měsíční mzdy v letech 2009 až 2019"]
[]
[]
[]
[]
[]
[null,null,null,null,null,null,null,null,null,null,2003,2004,2005,2007,2008,2009,2010,2011,2012,2013,2014,2015,2016,2017,2018,2019]
[null,null,null,null,null,null,null,null,null,"RgŠ – všichni zřizovatelé ",{"$f":"'GB5'!K11/'GB6'!K$16*100","v":16448.075392670158},{"$f":"'GB5'!L11/'GB6'!L$16*100","v":17022.33231396534},{"$f":"'GB5'!M11/'GB6'!M$16*100","v":17712.680593650057},{"$f":"'GB5'!N11/'GB6'!N$16*100","v":23261.024942902397},{"$f":"'GB5'!#REF!/'GB6'!O$16*100","v":{"$error":"#REF!"}},{"$f":"'GB5'!P11/'GB6'!P$16*100","v":23872.001428101852},{"$f":"'GB5'!Q11/'GB6'!Q$16*100","v":23073.062599220233},{"$f":"'GB5'!R11/'GB6'!R$16*100","v":23269.465511822564},{"$f":"'GB5'!S11/'GB6'!S$16*100","v":23085.182281792197},{"$f":"'GB5'!T11/'GB6'!T$16*100","v":22896.435472194695},{"$f":"'GB5'!U11/'GB6'!U$16*100","v":23174.823285840997},{"$f":"'GB5'!V11/'GB6'!V$16*100","v":23637.347321692072},{"$f":"'GB5'!W11/'GB6'!W$16*100","v":24641.539593782098},{"$f":"'GB5'!X11/'GB6'!X$16*100","v":25808.517789948484},{"$f":"'GB5'!Y11/'GB6'!Y$16*100","v":27992.402659069325},{"$f":"'GB5'!Z11/'GB6'!Z$16*100","v":30960.069949017361}]
[null,null,null,null,null,null,null,null,null,"Veřejné VŠ",{"$f":"'GB5'!K12/'GB6'!K$16*100","v":20910.378010471202},{"$f":"'GB5'!L12/'GB6'!L$16*100","v":22656.60652395515},{"$f":"'GB5'!M12/'GB6'!M$16*100","v":25266.823543551811},{"$f":"'GB5'!N12/'GB6'!N$16*100","v":34273.94846925333},{"$f":"'GB5'!#REF!/'GB6'!O$16*100","v":{"$error":"#REF!"}},{"$f":"'GB5'!P12/'GB6'!P$16*100","v":34657.651103591001},{"$f":"'GB5'!Q12/'GB6'!Q$16*100","v":34151.262635239269},{"$f":"'GB5'!R12/'GB6'!R$16*100","v":34584.957235993177},{"$f":"'GB5'!S12/'GB6'!S$16*100","v":34775.720728894099},{"$f":"'GB5'!T12/'GB6'!T$16*100","v":35669.561932653152},{"$f":"'GB5'!U12/'GB6'!U$16*100","v":36164.782775775311},{"$f":"'GB5'!V12/'GB6'!V$16*100","v":36324.305553551218},{"$f":"'GB5'!W12/'GB6'!W$16*100","v":36565.309032775622},{"$f":"'GB5'!X12/'GB6'!X$16*100","v":37866.815692811142},{"$f":"'GB5'!Y12/'GB6'!Y$16*100","v":40761.274381414129},{"$f":"'GB5'!Z12/'GB6'!Z$16*100","v":42640.77605330231}]
[null,null,null,null,null,null,null,null,null,"CELKEM Česká republika",{"$f":"'GB5'!K13/'GB6'!K$16*100","v":18268.062827225131},{"$f":"'GB5'!L13/'GB6'!L$16*100","v":18942.915392456678},{"$f":"'GB5'!M13/'GB6'!M$16*100","v":19584},{"$f":"'GB5'!N13/'GB6'!N$16*100","v":26241.500586166472},{"$f":"'GB5'!#REF!/'GB6'!O$16*100","v":{"$error":"#REF!"}},{"$f":"'GB5'!P13/'GB6'!P$16*100","v":25456.924754634678},{"$f":"'GB5'!Q13/'GB6'!Q$16*100","v":25660.215053763444},{"$f":"'GB5'!R13/'GB6'!R$16*100","v":25796.413502109703},{"$f":"'GB5'!S13/'GB6'!S$16*100","v":25604.698672114402},{"$f":"'GB5'!T13/'GB6'!T$16*100","v":25211.480362537764},{"$f":"'GB5'!U13/'GB6'!U$16*100","v":25845.536609829487},{"$f":"'GB5'!V13/'GB6'!V$16*100","v":26591.000000000004},{"$f":"'GB5'!W13/'GB6'!W$16*100","v":27383.316782522343},{"$f":"'GB5'!X13/'GB6'!X$16*100","v":28616.876818622699},{"$f":"'GB5'!Y13/'GB6'!Y$16*100","v":30280.151946818616},{"$f":"'GB5'!Z13/'GB6'!Z$16*100","v":31509.695290858723}]
[null,null,null,null,null,null,null,null,null,"Nepodnikatelská sféra",{"$f":"'GB5'!K14/'GB6'!K$16*100","v":18525.65445026178},{"$f":"'GB5'!L14/'GB6'!L$16*100","v":19077.471967380225},{"$f":"'GB5'!M14/'GB6'!M$16*100","v":19876},{"$f":"'GB5'!N14/'GB6'!N$16*100","v":26245.017584994137},{"$f":"'GB5'!#REF!/'GB6'!O$16*100","v":{"$error":"#REF!"}},{"$f":"'GB5'!P14/'GB6'!P$16*100","v":26643.402399127586},{"$f":"'GB5'!Q14/'GB6'!Q$16*100","v":26091.397849462366},{"$f":"'GB5'!R14/'GB6'!R$16*100","v":25811.181434599155},{"$f":"'GB5'!S14/'GB6'!S$16*100","v":25574.05515832482},{"$f":"'GB5'!T14/'GB6'!T$16*100","v":25433.031218529708},{"$f":"'GB5'!U14/'GB6'!U$16*100","v":25940.822467402206},{"$f":"'GB5'!V14/'GB6'!V$16*100","v":26807},{"$f":"'GB5'!W14/'GB6'!W$16*100","v":27880.834160873885},".",".","."]
[]
[null,null,null,null,null,null,null,null,null,null,95.5,98.1,100,85.3,90.7,91.7,93,94.8,97.9,99.3,99.7,100,100.7,103.1,105.3,108.3]
[]
[]
[]
[]
[]
[]
[]
[]
[]
[]
[]
[]
[]
[null,null,null,"Komentáře:",null,null,null,null,null,null,null,null,null,null,null,null,null,null,null,null,null,null,null,null,null,"Zdroj: databáze MŠMT, ČSÚ"]
[null,null,null,null,"Průměrná reálná měsíční mzda ve stálých cenách roku 2015."]