Workbook
Name data_1: 'B5.1.1'!$J$12:$T$16
Name data_10: #REF!
Name data_10: #REF!
Name data_10: #REF!
Name data_11: #REF!
Name data_11: #REF!
Name data_11: #REF!
Name data_11: 'B5.1.11'!$J$12:$T$28
Name data_12: #REF!
Name data_12: #REF!
Name data_12: #REF!
Name data_12: 'B5.1.17'!$J$14:$T$31
Name data_13: #REF!
Name data_13: #REF!
Name data_13: #REF!
Name data_13: #REF!
Name data_13: #REF!
Name data_13: #REF!
Name data_13: 'B5.1.12'!$J$12:$T$28
Name data_14: #REF!
Name data_14: #REF!
Name data_14: #REF!
Name data_14: #REF!
Name data_14: #REF!
Name data_14: #REF!
Name data_14: 'B5.1.13'!$J$12:$T$28
Name data_15: #REF!
Name data_15: #REF!
Name data_15: #REF!
Name data_15: #REF!
Name data_15: #REF!
Name data_15: #REF!
Name data_16: #REF!
Name data_16: #REF!
Name data_16: #REF!
Name data_16: #REF!
Name data_16: #REF!
Name data_16: 'GB1'!$J$12:$N$37
Name data_16: 'GB2'!$J$12:$N$35
Name data_16: 'GB3'!$J$13:$N$35
Name data_16: 'GB4'!$J$12:$N$36
Name data_16: 'GB5'!$J$12:$U$44
Name data_16: #REF!
Name data_17: #REF!
Name data_17: #REF!
Name data_17: #REF!
Name data_17: #REF!
Name data_17: #REF!
Name data_17: #REF!
Name data_18: #REF!
Name data_18: #REF!
Name data_18: #REF!
Name data_18: #REF!
Name data_18: #REF!
Name data_18: #REF!
Name data_18: 'B5.1.20'!#REF!
Name data_19: #REF!
Name data_19: #REF!
Name data_19: #REF!
Name data_19: #REF!

Sheet Obsah
C2: 100
A4: B5.1 Střední školy celkem
A5: Zdroje dat jsou uvedeny v zápatí jednotlivých tabulek
B6: Ekonomické ukazatele budou doplněny.
A7: Text | C7: Obsah
A9: Tabulka 1 | C9: ='B5.1.1'!H4&" "&'B5.1.1'!D5 -> Střední vzdělávání – žáci, podíl na odpovídající věkové populaci ve školním roce 2015/16 až 2025/26
A11: Tabulka 2 | C11: ='B5.1.2'!H4&" "&'B5.1.2'!D5 -> Střední školy – školy ve školním roce 2015/16 až 2025/26 – podle formy vzdělávání a zřizovatele
A13: Tabulka 3 | C13: ='B5.1.3'!H4&" "&'B5.1.3'!D5 -> Střední školy – školy ve školním roce 2015/16 až 2025/26 – podle území
A15: Tabulka 4 | C15: ='B5.1.4'!H4&" "&'B5.1.4'!D5 -> Střední školy, denní forma vzdělávání – třídy ve školním roce 2015/16 až 2025/26 – podle druhu vzdělávání a zřizovatele
A17: Tabulka 5 | C17: ='B5.1.5'!H4&" "&'B5.1.5'!D5 -> Střední školy – žáci, nově přijatí a absolventi ve školním roce 2015/16 až 2025/26 – podle formy vzdělávání a zřizovatele
A19: Tabulka 6 | C19: ='B5.1.6'!H4&" "&'B5.1.6'!D5 -> Střední školy – žáci, nově přijatí a absolventi ve školním roce 2015/16 až 2025/26 – podle zřizovatele
A21: Tabulka 7 | C21: ='B5.1.7'!H4&" "&'B5.1.7'!D5 -> Střední školy – žáci, nově přijatí a absolventi ve školním roce 2015/16 až 2025/26 – podle zřizovatele a druhu vzdělávání
A23: Tabulka 8 | C23: ='B5.1.8'!H4&" "&'B5.1.8'!D5 -> Střední školy – dívky, nově přijaté a absolventky ve školním roce 2015/16 až 2025/26 – podle zřizovatele a druhu vzdělávání
A25: Tabulka 9 | C25: ='B5.1.9'!H4&" "&'B5.1.9'!D5 -> Střední školy, denní forma vzdělávání – žáci, nově přijatí a absolventi ve školním roce 2015/16 až 2025/26 – podle zřizovatele a druhu vzdělávání
A27: Tabulka 10 | C27: ='B5.1.10'!H4&" "&'B5.1.10'!D5 -> Střední školy, ostatní formy vzdělávání – žáci, nově přijatí a absolventi ve školním roce 2015/16 až 2025/26 – podle zřizovatele a druhu vzdělávání
A29: Tabulka 11 | C29: ='B5.1.11'!H4&" "&'B5.1.11'!D5 -> Střední školy – počet podaných přihlášek v 1. kole přijímacího řízení do denní formy vzdělávání ve školním roce 2015/16 až 2025/26 – podle zřizovatele a druhu vzdělávání
A31: Tabulka 12 | C31: ='B5.1.12'!H4&" "&'B5.1.12'!D5 -> Střední školy – počet přijatých přihlášek v 1. kole přijímacího řízení do denní formy vzdělávání ve školním roce 2015/16 až 2025/26 – podle zřizovatele a druhu vzdělávání
A33: Tabulka 13 | C33: ='B5.1.13'!H4&" "&'B5.1.13'!D5 -> Střední školy – úspěšnost v 1. kole přijímacího řízení do denní formy vzdělávání ve školním roce 2015/16 až 2025/26 – podle zřizovatele a druhu vzdělávání
A35: Tabulka 14 | C35: ='B5.1.14'!H4&" "&'B5.1.14'!D5 -> Střední školy – žáci ve školním roce 2015/16 až 2025/26 – podle území a formy vzdělávání
A37: Tabulka 15 | C37: ='B5.1.15'!H4&" "&'B5.1.15'!D5 -> Střední školy – nově přijatí ve školním roce 2015/16 až 2025/26 – podle území a formy vzdělávání
A39: Tabulka 16 | C39: ='B5.1.16'!H4&" "&'B5.1.16'!D5 -> Střední školy – absolventi ve školním roce 2015/16 až 2025/26 – podle území a formy vzdělávání
A41: Tabulka 17 | C41: ='B5.1.17'!H4&" "&'B5.1.17'!D5 -> Střední školy – učitelé (přepočtené počty), z toho ženy ve školním roce 2015/16 až 2025/26 – podle zřizovatele
A43: Tabulka 18 | C43: ='B5.1.18'!H4&" "&'B5.1.18'!D5 -> SŠ včetně konzervatoří – struktura učitelů v letech 2015 až 2025 – podle nejvyššího dosaženého vzdělání
A45: Tabulka 19 | C45: ='B5.1.19'!H4&" "&'B5.1.19'!D5 -> SŠ včetně konzervatoří – struktura učitelů v letech 2015 až 2025 – podle věku
A47: Tabulka 20 | C47: ='B5.1.20'!H4&" "&'B5.1.20'!D5 -> Střední školy včetně konzervatoří a VOŠ – přepočtené počty zaměstnanců v letech 2015 až 2025
A49: Tabulka 21 | C49: ='B5.1.21'!H4&" "&'B5.1.21'!D5 -> Střední školy včetně konzervatoří a VOŠ – průměrné měsíční mzdy zaměstnanců v letech 2015 až 2025
A52: Graf 1 | C52: ='GB1'!$H$4&" "&'GB1'!$D$5 -> SŠ, denní forma vzdělávání – žáci na úrovni středního vzdělávání vzhledem k populaci 15–18letých ve školním roce 2015/16 až 2025/26
A54: Graf 2 | C54: ='GB2'!$H$4&" "&'GB2'!$D$5 -> Střední školy – struktura škol ve školním roce 2015/16 až 2025/26 – podle zřizovatele
A56: Graf 3 | C56: ='GB3'!$H$4&" "&'GB3'!$D$5 -> Střední školy – struktura žáků ve školním roce 2015/16 až 2025/26
A58: Graf 4 | C58: ='GB4'!$H$4&" "&'GB4'!$D$5 -> Střední školy – struktura nově přijatých do oborů středního vzdělávání s maturitní zkouškou a oborů středního vzdělávání a středního vzdělávání s výučním listem ve školním roce 2015/16 až 2025/26
A60: Graf 5 | C60: ='GB5'!$H$4&" "&'GB5'!$D$5 -> Střední školy včetně VOŠ a konzervatoří – všichni zřizovatelé – přepočtené počty zaměstnanců a učitelů a jejich průměrné měsíční nominální a reálné mzdy v letech 2015 až 2025

Sheet B5.1.1
D4: Tab. B5.1.1: | H4: Střední vzdělávání – žáci, podíl na odpovídající věkové populaci
D5: ve školním roce 2015/16 až 2025/26
J7: 2015/16 | K7: 2016/17 | L7: 2017/18 | M7: 2018/19 | N7: 2019/20 | O7: 2020/21 | P7: 2021/22 | Q7: 2022/23 | R7: 2023/24 | S7: 2024/25 | T7: 2025/26
E12: Žáci v oborech středního vzdělávání s maturitní zkouškou | J12: 303305 | K12: 304824 | L12: 306324 | M12: 308460 | N12: 310852 | O12: 317933 | P12: 329054 | Q12: 342922 | R12: 358722 | S12: 373105 | T12: 383164
F13: z toho nižší stupeň víceletých gymnázií | J13: 40495 | K13: 40980 | L13: 41260 | M13: 41611 | N13: 41997 | O13: 41798 | P13: 41566 | Q13: 41659 | R13: 41478 | S13: 41456 | T13: 41475
E14: Žáci ve stř. vzděl. a stř. vzděl. s výučním listem | J14: 90705 | K14: 88354 | L14: 86342 | M14: 85653 | N14: 87771 | O14: 89482 | P14: 90140 | Q14: 93644 | R14: 99378 | S14: 103655 | T14: 104743
E15: Žáci v ročnících odpovídajících střední škole celkem | J15: 353515 | K15: 352198 | L15: 351406 | M15: 352502 | N15: 356626 | O15: 365617 | P15: 377628 | Q15: 394907 | R15: 416622 | S15: 435304 | T15: 446432
E16: Podíl na populaci 15–18letých | J16: 0.96946121 | K16: 0.9634953 | L16: 0.951286 | M16: 0.93938659 | N16: 0.92959957 | O16: 0.92605341 | P16: 0.92917989 | Q16: 0.87174014 | R16: 0.86361922 | S16: 0.86727593 | T16: 0.86796385
D17: Komentáře: | T17: Zdroj: databáze MŠMT, ČSÚ
E18: Údaje za denní formu vzdělávání a bez zkráceného a nástavbového studia.

Sheet B5.1.2
D4: Tab. B5.1.2: | H4: Střední školy – školy
B5: 0 | D5: ve školním roce 2015/16 až 2025/26 – podle formy vzdělávání a zřizovatele
D7: Forma vzdělávání Zřizovatel | J7: 2015/16 | K7: 2016/17 | L7: 2017/18 | M7: 2018/19 | N7: 2019/20 | O7: 2020/21 | P7: 2021/22 | Q7: 2022/23 | R7: 2023/24 | S7: 2024/25 | T7: 2025/26
E12: Celkem | J12: 1304 | K12: 1307 | L12: 1308 | M12: 1290 | N12: 1284 | O12: 1280 | P12: 1285 | Q12: 1294 | R12: 1304 | S12: 1313 | T12: 1328
E13: v tom | F13: veřejný | J13: 972 | K13: 973 | L13: 977 | M13: 962 | N13: 959 | O13: 954 | P13: 954 | Q13: 953 | R13: 955 | S13: 955 | T13: 957
F14: v tom | G14: MŠMT | J14: 31 | K14: 30 | L14: 30 | M14: 29 | N14: 29 | O14: 29 | P14: 29 | Q14: 29 | R14: 29 | S14: 29 | T14: 29
G15: obec | J15: 27 | K15: 27 | L15: 28 | M15: 28 | N15: 28 | O15: 28 | P15: 29 | Q15: 31 | R15: 31 | S15: 32 | T15: 34
G16: kraj | J16: 911 | K16: 912 | L16: 915 | M16: 901 | N16: 898 | O16: 893 | P16: 892 | Q16: 889 | R16: 890 | S16: 889 | T16: 889
G17: jiný resort | J17: 3 | K17: 4 | L17: 4 | M17: 4 | N17: 4 | O17: 4 | P17: 4 | Q17: 4 | R17: 5 | S17: 5 | T17: 5
F18: neveřejný | J18: 332 | K18: 334 | L18: 331 | M18: 328 | N18: 325 | O18: 326 | P18: 331 | Q18: 341 | R18: 349 | S18: 358 | T18: 371
F19: v tom | G19: privátní sektor | J19: 293 | K19: 294 | L19: 291 | M19: 286 | N19: 283 | O19: 284 | P19: 287 | Q19: 296 | R19: 304 | S19: 312 | T19: 325
G20: církev | J20: 39 | K20: 40 | L20: 40 | M20: 42 | N20: 42 | O20: 42 | P20: 44 | Q20: 45 | R20: 45 | S20: 46 | T20: 46
E21: Denní forma vzdělávání | J21: 1294 | K21: 1297 | L21: 1297 | M21: 1279 | N21: 1273 | O21: 1269 | P21: 1274 | Q21: 1284 | R21: 1293 | S21: 1301 | T21: 1317
E22: v tom | F22: veřejný | J22: 971 | K22: 972 | L22: 975 | M22: 960 | N22: 957 | O22: 952 | P22: 952 | Q22: 951 | R22: 953 | S22: 953 | T22: 955
F23: v tom | G23: MŠMT | J23: 31 | K23: 30 | L23: 30 | M23: 29 | N23: 29 | O23: 29 | P23: 29 | Q23: 29 | R23: 29 | S23: 29 | T23: 29
G24: obec | J24: 27 | K24: 27 | L24: 27 | M24: 27 | N24: 27 | O24: 27 | P24: 28 | Q24: 30 | R24: 30 | S24: 31 | T24: 33
G25: kraj | J25: 911 | K25: 912 | L25: 915 | M25: 901 | N25: 898 | O25: 893 | P25: 892 | Q25: 889 | R25: 890 | S25: 889 | T25: 889
G26: jiný resort | J26: 2 | K26: 3 | L26: 3 | M26: 3 | N26: 3 | O26: 3 | P26: 3 | Q26: 3 | R26: 4 | S26: 4 | T26: 4
F27: neveřejný | J27: 323 | K27: 325 | L27: 322 | M27: 319 | N27: 316 | O27: 317 | P27: 322 | Q27: 333 | R27: 340 | S27: 348 | T27: 362
F28: v tom | G28: privátní sektor | J28: 284 | K28: 285 | L28: 282 | M28: 277 | N28: 274 | O28: 275 | P28: 278 | Q28: 288 | R28: 295 | S28: 302 | T28: 316
G29: církev | J29: 39 | K29: 40 | L29: 40 | M29: 42 | N29: 42 | O29: 42 | P29: 44 | Q29: 45 | R29: 45 | S29: 46 | T29: 46
E30: Ostatní formy vzdělávání | J30: 371 | K30: 340 | L30: 319 | M30: 302 | N30: 260 | O30: 238 | P30: 230 | Q30: 208 | R30: 205 | S30: 197 | T30: 190
E31: v tom | F31: veřejný | J31: 225 | K31: 201 | L31: 188 | M31: 178 | N31: 146 | O31: 130 | P31: 126 | Q31: 110 | R31: 109 | S31: 99 | T31: 95
F32: v tom | G32: MŠMT | J32: 0 | K32: 0 | L32: 0 | M32: 0 | N32: 0 | O32: 0 | P32: 0 | Q32: 0 | R32: 0 | S32: 0 | T32: 0
G33: obec | J33: 2 | K33: 2 | L33: 2 | M33: 2 | N33: 2 | O33: 2 | P33: 2 | Q33: 2 | R33: 2 | S33: 2 | T33: 2
G34: kraj | J34: 221 | K34: 197 | L34: 184 | M34: 174 | N34: 142 | O34: 126 | P34: 122 | Q34: 106 | R34: 104 | S34: 94 | T34: 90
G35: jiný resort | J35: 2 | K35: 2 | L35: 2 | M35: 2 | N35: 2 | O35: 2 | P35: 2 | Q35: 2 | R35: 3 | S35: 3 | T35: 3
F36: neveřejný | J36: 146 | K36: 139 | L36: 131 | M36: 124 | N36: 114 | O36: 108 | P36: 104 | Q36: 98 | R36: 96 | S36: 98 | T36: 95
F37: v tom | G37: privátní sektor | J37: 138 | K37: 130 | L37: 123 | M37: 117 | N37: 107 | O37: 102 | P37: 98 | Q37: 91 | R37: 89 | S37: 91 | T37: 90
G38: církev | J38: 8 | K38: 9 | L38: 8 | M38: 7 | N38: 7 | O38: 6 | P38: 6 | Q38: 7 | R38: 7 | S38: 7 | T38: 5
D39: Komentáře: | T39: Zdroj: databáze MŠMT
E40: Údaje včetně nástavbového a zkráceného studia.

Sheet B5.1.3
D4: Tab. B5.1.3: | H4: Střední školy – školy
B5: 0 | D5: ve školním roce 2015/16 až 2025/26 – podle území
D7: Území | J7: 2015/16 | K7: 2016/17 | L7: 2017/18 | M7: 2018/19 | N7: 2019/20 | O7: 2020/21 | P7: 2021/22 | Q7: 2022/23 | R7: 2023/24 | S7: 2024/25 | T7: 2025/26
E12: Česká republika | H12: CZ0 | J12: 1304 | K12: 1307 | L12: 1308 | M12: 1290 | N12: 1284 | O12: 1280 | P12: 1285 | Q12: 1294 | R12: 1304 | S12: 1313 | T12: 1328
E13: Praha | H13: CZ01 | J13: 188 | K13: 185 | L13: 183 | M13: 185 | N13: 185 | O13: 186 | P13: 187 | Q13: 190 | R13: 193 | S13: 201 | T13: 207
F14: Hlavní město Praha | H14: CZ010 | J14: 188 | K14: 185 | L14: 183 | M14: 185 | N14: 185 | O14: 186 | P14: 187 | Q14: 190 | R14: 193 | S14: 201 | T14: 207
E15: Střední Čechy | H15: CZ02 | J15: 152 | K15: 153 | L15: 153 | M15: 152 | N15: 150 | O15: 149 | P15: 148 | Q15: 146 | R15: 147 | S15: 147 | T15: 150
F16: Středočeský kraj | H16: CZ020 | J16: 152 | K16: 153 | L16: 153 | M16: 152 | N16: 150 | O16: 149 | P16: 148 | Q16: 146 | R16: 147 | S16: 147 | T16: 150
E17: Jihozápad | H17: CZ03 | J17: 144 | K17: 145 | L17: 144 | M17: 144 | N17: 144 | O17: 143 | P17: 143 | Q17: 145 | R17: 145 | S17: 145 | T17: 147
F18: Jihočeský kraj | H18: CZ031 | J18: 90 | K18: 90 | L18: 89 | M18: 89 | N18: 89 | O18: 88 | P18: 88 | Q18: 89 | R18: 89 | S18: 89 | T18: 90
F19: Plzeňský kraj | H19: CZ032 | J19: 54 | K19: 55 | L19: 55 | M19: 55 | N19: 55 | O19: 55 | P19: 55 | Q19: 56 | R19: 56 | S19: 56 | T19: 57
E20: Severozápad | H20: CZ04 | J20: 131 | K20: 133 | L20: 132 | M20: 127 | N20: 126 | O20: 125 | P20: 125 | Q20: 126 | R20: 126 | S20: 126 | T20: 128
F21: Karlovarský kraj | H21: CZ041 | J21: 37 | K21: 38 | L21: 37 | M21: 32 | N21: 32 | O21: 31 | P21: 31 | Q21: 31 | R21: 31 | S21: 31 | T21: 31
F22: Ústecký kraj | H22: CZ042 | J22: 94 | K22: 95 | L22: 95 | M22: 95 | N22: 94 | O22: 94 | P22: 94 | Q22: 95 | R22: 95 | S22: 95 | T22: 97
E23: Severovýchod | H23: CZ05 | J23: 206 | K23: 206 | L23: 208 | M23: 196 | N23: 196 | O23: 196 | P23: 198 | Q23: 199 | R23: 198 | S23: 198 | T23: 198
F24: Liberecký kraj | H24: CZ051 | J24: 50 | K24: 49 | L24: 49 | M24: 48 | N24: 48 | O24: 48 | P24: 49 | Q24: 49 | R24: 48 | S24: 48 | T24: 48
F25: Královéhradecký kraj | H25: CZ052 | J25: 82 | K25: 83 | L25: 84 | M25: 74 | N25: 74 | O25: 74 | P25: 74 | Q25: 75 | R25: 75 | S25: 75 | T25: 75
F26: Pardubický kraj | H26: CZ053 | J26: 74 | K26: 74 | L26: 75 | M26: 74 | N26: 74 | O26: 74 | P26: 75 | Q26: 75 | R26: 75 | S26: 75 | T26: 75
E27: Jihovýchod | H27: CZ06 | J27: 186 | K27: 188 | L27: 188 | M27: 188 | N27: 187 | O27: 185 | P27: 186 | Q27: 189 | R27: 193 | S27: 194 | T27: 196
F28: Kraj Vysočina | H28: CZ063 | J28: 63 | K28: 63 | L28: 63 | M28: 65 | N28: 65 | O28: 63 | P28: 63 | Q28: 63 | R28: 65 | S28: 65 | T28: 66
F29: Jihomoravský kraj | H29: CZ064 | J29: 123 | K29: 125 | L29: 125 | M29: 123 | N29: 122 | O29: 122 | P29: 123 | Q29: 126 | R29: 128 | S29: 129 | T29: 130
E30: Střední Morava | H30: CZ07 | J30: 160 | K30: 162 | L30: 164 | M30: 163 | N30: 161 | O30: 161 | P30: 162 | Q30: 163 | R30: 165 | S30: 165 | T30: 164
F31: Olomoucký kraj | H31: CZ071 | J31: 93 | K31: 94 | L31: 96 | M31: 94 | N31: 91 | O31: 91 | P31: 92 | Q31: 92 | R31: 92 | S31: 92 | T31: 92
F32: Zlínský kraj | H32: CZ072 | J32: 67 | K32: 68 | L32: 68 | M32: 69 | N32: 70 | O32: 70 | P32: 70 | Q32: 71 | R32: 73 | S32: 73 | T32: 72
E33: Moravskoslezsko | H33: CZ08 | J33: 137 | K33: 135 | L33: 136 | M33: 135 | N33: 135 | O33: 135 | P33: 136 | Q33: 136 | R33: 137 | S33: 137 | T33: 138
F34: Moravskoslezský kraj | H34: CZ080 | J34: 137 | K34: 135 | L34: 136 | M34: 135 | N34: 135 | O34: 135 | P34: 136 | Q34: 136 | R34: 137 | S34: 137 | T34: 138
D35: Komentáře: | T35: Zdroj: databáze MŠMT
E36: Údaje za všechny formy vzdělávání a včetně nástavbového a zkráceného studia.

Sheet B5.1.4
D4: Tab. B5.1.4: | H4: Střední školy, denní forma vzdělávání – třídy
B5: 0 | D5: ve školním roce 2015/16 až 2025/26 – podle druhu vzdělávání a zřizovatele
D7: Druh vzdělávání Zřizovatel | J7: 2015/16 | K7: 2016/17 | L7: 2017/18 | M7: 2018/19 | N7: 2019/20 | O7: 2020/21 | P7: 2021/22 | Q7: 2022/23 | R7: 2023/24 | S7: 2024/25 | T7: 2025/26
E12: Celkem | J12: 18269.16 | K12: 18127.39 | L12: 18088.37 | M12: 18164.14 | N12: 18280.37 | O12: 18595.27 | P12: 19029.02 | Q12: 19446.06 | R12: 20029.96 | S12: 20545.15 | T12: 20915.21
E13: v tom | F13: veřejný | J13: 15240.11 | K13: 15034.38 | L13: 14916.22 | M13: 14970.15 | N13: 15051.29 | O13: 15299.21 | P13: 15638.96 | Q13: 15904.04 | R13: 16327.96 | S13: 16705.12 | T13: 16954.25
F14: v tom | G14: MŠMT | J14: 219.01 | K14: 217 | L14: 213 | M14: 213 | N14: 203 | O14: 206 | P14: 214 | Q14: 205 | R14: 197 | S14: 205.02 | T14: 194
G15: obec | J15: 176 | K15: 178 | L15: 179 | M15: 176.99 | N15: 172.99 | O15: 175.99 | P15: 183.01 | Q15: 194.01 | R15: 204.01 | S15: 210.99 | T15: 219
G16: kraj | J16: 14818.1 | K16: 14608.38 | L16: 14489.22 | M16: 14540.16 | N16: 14629.3 | O16: 14867.22 | P16: 15188.95 | Q16: 15451.03 | R16: 15869.95 | S16: 16230.11 | T16: 16480.25
G17: jiný resort | J17: 27 | K17: 31 | L17: 35 | M17: 40 | N17: 46 | O17: 50 | P17: 53 | Q17: 54 | R17: 57 | S17: 59 | T17: 61
F18: neveřejný | J18: 3029.05 | K18: 3093.01 | L18: 3172.15 | M18: 3193.99 | N18: 3229.08 | O18: 3296.06 | P18: 3390.06 | Q18: 3542.02 | R18: 3702 | S18: 3840.03 | T18: 3960.96
F19: v tom | G19: privátní sektor | J19: 2641.06 | K19: 2697 | L19: 2768.14 | M19: 2789.98 | N19: 2826.08 | O19: 2884.06 | P19: 2967.06 | Q19: 3104.02 | R19: 3252 | S19: 3381.03 | T19: 3493.97
G20: církev | J20: 387.99 | K20: 396.01 | L20: 404.01 | M20: 404.01 | N20: 403 | O20: 412 | P20: 423 | Q20: 438 | R20: 450 | S20: 459 | T20: 466.99
E21: Střední vzdělávání | J21: 309.14 | K21: 329.6 | L21: 361.23 | M21: 380.06 | N21: 360.05 | O21: 362 | P21: 370.15 | Q21: 377.03 | R21: 377.03 | S21: 381.06 | T21: 376.02
E22: v tom | F22: veřejný | J22: 251.14 | K22: 246.59 | L22: 260.22 | M22: 265.05 | N22: 268.04 | O22: 267 | P22: 266.15 | Q22: 266.02 | R22: 265.02 | S22: 265.05 | T22: 267.02
F23: v tom | G23: MŠMT | J23: 25 | K23: 21 | L23: 19 | M23: 20 | N23: 18 | O23: 16 | P23: 14.14 | Q23: 13 | R23: 14 | S23: 13.01 | T23: 13
G24: obec | J24: 10 | K24: 10.04 | L24: 10 | M24: 10 | N24: 10 | O24: 10 | P24: 9 | Q24: 11 | R24: 11 | S24: 12 | T24: 12
G25: kraj | J25: 216.14 | K25: 215.55 | L25: 231.22 | M25: 235.05 | N25: 240.04 | O25: 241 | P25: 243.01 | Q25: 242.02 | R25: 240.02 | S25: 240.04 | T25: 242.02
G26: jiný resort | J26: 0 | K26: 0 | L26: 0 | M26: 0 | N26: 0 | O26: 0 | P26: 0 | Q26: 0 | R26: 0 | S26: 0 | T26: 0
F27: neveřejný | J27: 58 | K27: 83.01 | L27: 101.01 | M27: 115.01 | N27: 92.01 | O27: 95 | P27: 104 | Q27: 111.01 | R27: 112.01 | S27: 116.01 | T27: 109
F28: v tom | G28: privátní sektor | J28: 33 | K28: 53 | L28: 69 | M28: 85.01 | N28: 63.01 | O28: 66 | P28: 76 | Q28: 81 | R28: 80.01 | S28: 83.01 | T28: 74
G29: církev | J29: 25 | K29: 30.01 | L29: 32.01 | M29: 30 | N29: 29 | O29: 29 | P29: 28 | Q29: 30.01 | R29: 32 | S29: 33 | T29: 35
E30: Střední vzdělávání s výučním listem1) | J30: 4731.29 | K30: 4607.33 | L30: 4502.98 | M30: 4491.79 | N30: 4528.05 | O30: 4642.16 | P30: 4722.49 | Q30: 4803.94 | R30: 4998.88 | S30: 5153.04 | T30: 5195.76
E31: v tom | F31: veřejný | J31: 4182.29 | K31: 4042.31 | L31: 3918.89 | M31: 3905.79 | N31: 3940.99 | O31: 4059.11 | P31: 4146.46 | Q31: 4214.94 | R31: 4392.89 | S31: 4536.03 | T31: 4571.21
F32: v tom | G32: MŠMT | J32: 165.01 | K32: 163 | L32: 159 | M32: 157 | N32: 151 | O32: 160 | P32: 168 | Q32: 158 | R32: 149 | S32: 156.01 | T32: 147
G33: obec | J33: 26 | K33: 25.96 | L33: 28 | M33: 28.99 | N33: 24.99 | O33: 25.99 | P33: 26.01 | Q33: 24.01 | R33: 26.01 | S33: 28.99 | T33: 33
G34: kraj | J34: 3991.28 | K34: 3853.35 | L34: 3731.89 | M34: 3719.8 | N34: 3765 | O34: 3873.12 | P34: 3952.45 | Q34: 4032.93 | R34: 4217.88 | S34: 4351.03 | T34: 4391.21
G35: jiný resort | J35: 0 | K35: 0 | L35: 0 | M35: 0 | N35: 0 | O35: 0 | P35: 0 | Q35: 0 | R35: 0 | S35: 0 | T35: 0
F36: neveřejný | J36: 549 | K36: 565.02 | L36: 584.09 | M36: 586 | N36: 587.06 | O36: 583.05 | P36: 576.03 | Q36: 589 | R36: 605.99 | S36: 617.01 | T36: 624.55
F37: v tom | G37: privátní sektor | J37: 534 | K37: 550.02 | L37: 569.09 | M37: 568.99 | N37: 567.06 | O37: 560.05 | P37: 550.03 | Q37: 559.01 | R37: 571.99 | S37: 581.01 | T37: 588.56
G38: církev | J38: 15 | K38: 15 | L38: 15 | M38: 17.01 | N38: 20 | O38: 23 | P38: 26 | Q38: 29.99 | R38: 34 | S38: 36 | T38: 35.99
E39: Střední vzdělávání s maturitní zkouškou1) | J39: 12674.39 | K39: 12662.17 | L39: 12711.41 | M39: 12804.69 | N39: 12940.27 | O39: 13138.06 | P39: 13462.39 | Q39: 13787.08 | R39: 14187.06 | S39: 14551.06 | T39: 14874.43
E40: v tom | F40: veřejný | J40: 10357.5 | K40: 10315.18 | L40: 10322.37 | M40: 10399.72 | N40: 10467.26 | O40: 10600.05 | P40: 10833.35 | Q40: 11027.07 | R40: 11285.06 | S40: 11524.05 | T40: 11721.01
F41: v tom | G41: MŠMT | J41: 28 | K41: 30 | L41: 30 | M41: 32 | N41: 32 | O41: 28 | P41: 28.86 | Q41: 31 | R41: 32 | S41: 35 | T41: 34
G42: obec | J42: 140 | K42: 142 | L42: 141 | M42: 138 | N42: 138 | O42: 140 | P42: 148 | Q42: 159 | R42: 167 | S42: 170 | T42: 174
G43: kraj | J43: 10162.5 | K43: 10112.18 | L43: 10116.37 | M43: 10189.72 | N43: 10251.26 | O43: 10382.05 | P43: 10603.49 | Q43: 10783.07 | R43: 11029.06 | S43: 11260.05 | T43: 11452.01
G44: jiný resort | J44: 27 | K44: 31 | L44: 35 | M44: 40 | N44: 46 | O44: 50 | P44: 53 | Q44: 54 | R44: 57 | S44: 59 | T44: 61
F45: neveřejný | J45: 2316.89 | K45: 2346.99 | L45: 2389.04 | M45: 2404.97 | N45: 2473.01 | O45: 2538.01 | P45: 2629.04 | Q45: 2760.01 | R45: 2902 | S45: 3027.01 | T45: 3153.42
F46: v tom | G46: privátní sektor | J46: 1972.9 | K46: 1999.99 | L46: 2036.04 | M46: 2051.97 | N46: 2123.01 | O46: 2182.01 | P46: 2265.04 | Q46: 2388.01 | R46: 2523 | S46: 2642.01 | T46: 2763.42
G47: církev | J47: 343.99 | K47: 347 | L47: 353 | M47: 353 | N47: 350 | O47: 356 | P47: 364 | Q47: 372 | R47: 379 | S47: 385 | T47: 390
E48: Nástavbové studium | J48: 554.34 | K48: 528.29 | L48: 512.75 | M48: 487.6 | N48: 452 | O48: 453.05 | P48: 473.99 | Q48: 478.01 | R48: 466.99 | S48: 459.99 | T48: 469
E49: v tom | F49: veřejný | J49: 449.18 | K49: 430.3 | L49: 414.74 | M49: 399.59 | N49: 375 | O49: 373.05 | P49: 393 | Q49: 396.01 | R49: 384.99 | S49: 379.99 | T49: 395.01
F50: v tom | G50: MŠMT | J50: 1 | K50: 3 | L50: 5 | M50: 4 | N50: 2 | O50: 2 | P50: 3 | Q50: 3 | R50: 2 | S50: 1 | T50: 0
G51: obec | J51: 0 | K51: 0 | L51: 0 | M51: 0 | N51: 0 | O51: 0 | P51: 0 | Q51: 0 | R51: 0 | S51: 0 | T51: 0
G52: kraj | J52: 448.18 | K52: 427.3 | L52: 409.74 | M52: 395.59 | N52: 373 | O52: 371.05 | P52: 390 | Q52: 393.01 | R52: 382.99 | S52: 378.99 | T52: 395.01
G53: jiný resort | J53: 0 | K53: 0 | L53: 0 | M53: 0 | N53: 0 | O53: 0 | P53: 0 | Q53: 0 | R53: 0 | S53: 0 | T53: 0
F54: neveřejný | J54: 105.16 | K54: 97.99 | L54: 98.01 | M54: 88.01 | N54: 77 | O54: 80 | P54: 80.99 | Q54: 82 | R54: 82 | S54: 80 | T54: 73.99
F55: v tom | G55: privátní sektor | J55: 101.16 | K55: 93.99 | L55: 94.01 | M55: 84.01 | N55: 73 | O55: 76 | P55: 75.99 | Q55: 76 | R55: 77 | S55: 75 | T55: 67.99
G56: církev | J56: 4 | K56: 4 | L56: 4 | M56: 4 | N56: 4 | O56: 4 | P56: 5 | Q56: 6 | R56: 5 | S56: 5 | T56: 6
D57: Komentáře: | T57: Zdroj: databáze MŠMT
D58: 1) | E58: Údaje včetně zkráceného studia.

Sheet B5.1.5
D4: Tab. B5.1.5: | H4: Střední školy – žáci, nově přijatí a absolventi
B5: 18 | D5: ve školním roce 2015/16 až 2025/26 – podle formy vzdělávání a zřizovatele
D7: Forma vzdělávání Zřizovatel | J7: 2015/16 | K7: 2016/17 | L7: 2017/18 | M7: 2018/19 | N7: 2019/20 | O7: 2020/21 | P7: 2021/22 | Q7: 2022/23 | R7: 2023/24 | S7: 2024/25 | T7: 2025/26
D12: Žáci
E13: Celkem | J13: 427107 | K13: 424849 | L13: 421535 | M13: 420814 | N13: 423838 | O13: 432906 | P13: 446254 | Q13: 463200 | R13: 484758 | S13: 503189 | T13: 514881
E14: v tom | F14: veřejný | J14: 362298 | K14: 358169 | L14: 353759 | M14: 352861 | N14: 354338 | O14: 360759 | P14: 369823 | Q14: 381860 | R14: 397923 | S14: 411810 | T14: 420019
F15: v tom | G15: MŠMT | J15: 1223 | K15: 1190 | L15: 1117 | M15: 1110 | N15: 1126 | O15: 1137 | P15: 1115 | Q15: 1158 | R15: 1201 | S15: 1152 | T15: 1155
G16: obec | J16: 3447 | K16: 3437 | L16: 3529 | M16: 3572 | N16: 3649 | O16: 3757 | P16: 3974 | Q16: 4278 | R16: 4557 | S16: 4759 | T16: 4968
G17: kraj | J17: 356388 | K17: 352182 | L17: 347654 | M17: 346595 | N17: 347795 | O17: 353977 | P17: 362756 | Q17: 374379 | R17: 390082 | S17: 403757 | T17: 411733
G18: jiný resort | J18: 1240 | K18: 1360 | L18: 1459 | M18: 1584 | N18: 1768 | O18: 1888 | P18: 1978 | Q18: 2045 | R18: 2083 | S18: 2142 | T18: 2163
F19: neveřejný | J19: 64809 | K19: 66680 | L19: 67776 | M19: 67953 | N19: 69500 | O19: 72147 | P19: 76431 | Q19: 81340 | R19: 86835 | S19: 91379 | T19: 94862
F20: v tom | G20: privátní sektor | J20: 54957 | K20: 56664 | L20: 57693 | M20: 57856 | N20: 59439 | O20: 61855 | P20: 65752 | Q20: 70232 | R20: 75423 | S20: 79699 | T20: 83000
G21: církev | J21: 9852 | K21: 10016 | L21: 10083 | M21: 10097 | N21: 10061 | O21: 10292 | P21: 10679 | Q21: 11108 | R21: 11412 | S21: 11680 | T21: 11862
E22: Denní forma vzdělávání | J22: 405631 | K22: 404087 | L22: 403018 | M22: 403957 | N22: 408088 | O22: 417302 | P22: 430216 | Q22: 447796 | R22: 469236 | S22: 487771 | T22: 499447
E23: v tom | F23: veřejný | J23: 350248 | K23: 347136 | L23: 344591 | M23: 345109 | N23: 347625 | O23: 354391 | P23: 363381 | Q23: 376172 | R23: 392450 | S23: 406604 | T23: 415112
F24: v tom | G24: MŠMT | J24: 1223 | K24: 1190 | L24: 1117 | M24: 1110 | N24: 1126 | O24: 1137 | P24: 1115 | Q24: 1158 | R24: 1201 | S24: 1152 | T24: 1155
G25: obec | J25: 3418 | K25: 3418 | L25: 3461 | M25: 3461 | N25: 3520 | O25: 3629 | P25: 3839 | Q25: 4145 | R25: 4426 | S25: 4630 | T25: 4841
G26: kraj | J26: 344897 | K26: 341739 | L26: 339102 | M26: 339496 | N26: 341805 | O26: 348329 | P26: 357044 | Q26: 369449 | R26: 385334 | S26: 399242 | T26: 407486
G27: jiný resort | J27: 710 | K27: 789 | L27: 911 | M27: 1042 | N27: 1174 | O27: 1296 | P27: 1383 | Q27: 1420 | R27: 1489 | S27: 1580 | T27: 1630
F28: neveřejný | J28: 55383 | K28: 56951 | L28: 58427 | M28: 58848 | N28: 60463 | O28: 62911 | P28: 66835 | Q28: 71624 | R28: 76786 | S28: 81167 | T28: 84335
F29: v tom | G29: privátní sektor | J29: 45899 | K29: 47320 | L29: 48661 | M29: 49100 | N29: 50708 | O29: 52949 | P29: 56501 | Q29: 60873 | R29: 65688 | S29: 69805 | T29: 72748
G30: církev | J30: 9484 | K30: 9631 | L30: 9766 | M30: 9748 | N30: 9755 | O30: 9962 | P30: 10334 | Q30: 10751 | R30: 11098 | S30: 11362 | T30: 11587
E31: Ostatní formy vzdělávání | J31: 21476 | K31: 20762 | L31: 18517 | M31: 16857 | N31: 15750 | O31: 15604 | P31: 16038 | Q31: 15404 | R31: 15522 | S31: 15418 | T31: 15434
E32: v tom | F32: veřejný | J32: 12050 | K32: 11033 | L32: 9168 | M32: 7752 | N32: 6713 | O32: 6368 | P32: 6442 | Q32: 5688 | R32: 5473 | S32: 5206 | T32: 4907
F33: v tom | G33: MŠMT | J33: 0 | K33: 0 | L33: 0 | M33: 0 | N33: 0 | O33: 0 | P33: 0 | Q33: 0 | R33: 0 | S33: 0 | T33: 0
G34: obec | J34: 29 | K34: 19 | L34: 68 | M34: 111 | N34: 129 | O34: 128 | P34: 135 | Q34: 133 | R34: 131 | S34: 129 | T34: 127
G35: kraj | J35: 11491 | K35: 10443 | L35: 8552 | M35: 7099 | N35: 5990 | O35: 5648 | P35: 5712 | Q35: 4930 | R35: 4748 | S35: 4515 | T35: 4247
G36: jiný resort | J36: 530 | K36: 571 | L36: 548 | M36: 542 | N36: 594 | O36: 592 | P36: 595 | Q36: 625 | R36: 594 | S36: 562 | T36: 533
F37: neveřejný | J37: 9426 | K37: 9729 | L37: 9349 | M37: 9105 | N37: 9037 | O37: 9236 | P37: 9596 | Q37: 9716 | R37: 10049 | S37: 10212 | T37: 10527
F38: v tom | G38: privátní sektor | J38: 9058 | K38: 9344 | L38: 9032 | M38: 8756 | N38: 8731 | O38: 8906 | P38: 9251 | Q38: 9359 | R38: 9735 | S38: 9894 | T38: 10252
G39: církev | J39: 368 | K39: 385 | L39: 317 | M39: 349 | N39: 306 | O39: 330 | P39: 345 | Q39: 357 | R39: 314 | S39: 318 | T39: 275
D40: Nově přijatí
E41: Celkem | J41: 116077 | K41: 115617 | L41: 114041 | M41: 113513 | N41: 116183 | O41: 118293 | P41: 125167 | Q41: 133416 | R41: 139916 | S41: 140613 | T41: 142157
E42: v tom | F42: veřejný | J42: 97936 | K42: 96823 | L42: 95379 | M42: 94997 | N42: 96720 | O42: 98037 | P42: 102911 | Q42: 109438 | R42: 114794 | S42: 115205 | T42: 115630
F43: v tom | G43: MŠMT | J43: 454 | K43: 437 | L43: 371 | M43: 395 | N43: 397 | O43: 390 | P43: 398 | Q43: 481 | R43: 444 | S43: 410 | T43: 428
G44: obec | J44: 769 | K44: 764 | L44: 815 | M44: 808 | N44: 844 | O44: 858 | P44: 929 | Q44: 1054 | R44: 1165 | S44: 1187 | T44: 1255
G45: kraj | J45: 96372 | K45: 95270 | L45: 93777 | M45: 93360 | N45: 95004 | O45: 96296 | P45: 101123 | Q45: 107498 | R45: 112665 | S45: 113067 | T45: 113417
G46: jiný resort | J46: 341 | K46: 352 | L46: 416 | M46: 434 | N46: 475 | O46: 493 | P46: 461 | Q46: 405 | R46: 520 | S46: 541 | T46: 530
F47: neveřejný | J47: 18141 | K47: 18794 | L47: 18662 | M47: 18516 | N47: 19463 | O47: 20256 | P47: 22256 | Q47: 23978 | R47: 25122 | S47: 25408 | T47: 26527
F48: v tom | G48: privátní sektor | J48: 16081 | K48: 16690 | L48: 16609 | M48: 16441 | N48: 17281 | O48: 18097 | P48: 19889 | Q48: 21470 | R48: 22645 | S48: 22868 | T48: 23918
G49: církev | J49: 2060 | K49: 2104 | L49: 2053 | M49: 2075 | N49: 2182 | O49: 2159 | P49: 2367 | Q49: 2508 | R49: 2477 | S49: 2540 | T49: 2609
E50: Denní forma vzdělávání | J50: 108053 | K50: 107399 | L50: 107316 | M50: 107509 | N50: 110095 | O50: 112295 | P50: 118401 | Q50: 127446 | R50: 133942 | S50: 134552 | T50: 136194
E51: v tom | F51: veřejný | J51: 93218 | K51: 92269 | L51: 92026 | M51: 92271 | N51: 94021 | O51: 95619 | P51: 100037 | Q51: 107300 | R51: 112695 | S51: 113123 | T51: 113780
F52: v tom | G52: MŠMT | J52: 454 | K52: 437 | L52: 371 | M52: 395 | N52: 397 | O52: 390 | P52: 398 | Q52: 481 | R52: 444 | S52: 410 | T52: 428
G53: obec | J53: 754 | K53: 762 | L53: 769 | M53: 760 | N53: 797 | O53: 829 | P53: 895 | Q53: 1020 | R53: 1132 | S53: 1155 | T53: 1227
G54: kraj | J54: 91805 | K54: 90802 | L54: 90560 | M54: 90782 | N54: 92476 | O54: 94010 | P54: 98346 | Q54: 105426 | R54: 110651 | S54: 111084 | T54: 111660
G55: jiný resort | J55: 205 | K55: 268 | L55: 326 | M55: 334 | N55: 351 | O55: 390 | P55: 398 | Q55: 373 | R55: 468 | S55: 474 | T55: 465
F56: neveřejný | J56: 14835 | K56: 15130 | L56: 15290 | M56: 15238 | N56: 16074 | O56: 16676 | P56: 18364 | Q56: 20146 | R56: 21247 | S56: 21429 | T56: 22414
F57: v tom | G57: privátní sektor | J57: 12913 | K57: 13149 | L57: 13347 | M57: 13297 | N57: 14010 | O57: 14637 | P57: 16144 | Q57: 17787 | R57: 18884 | S57: 19002 | T57: 19949
G58: církev | J58: 1922 | K58: 1981 | L58: 1943 | M58: 1941 | N58: 2064 | O58: 2039 | P58: 2220 | Q58: 2359 | R58: 2363 | S58: 2427 | T58: 2465
E59: Ostatní formy vzdělávání | J59: 8024 | K59: 8218 | L59: 6725 | M59: 6004 | N59: 6088 | O59: 5998 | P59: 6766 | Q59: 5970 | R59: 5974 | S59: 6061 | T59: 5963
E60: v tom | F60: veřejný | J60: 4718 | K60: 4554 | L60: 3353 | M60: 2726 | N60: 2699 | O60: 2418 | P60: 2874 | Q60: 2138 | R60: 2099 | S60: 2082 | T60: 1850
F61: v tom | G61: MŠMT | J61: 0 | K61: 0 | L61: 0 | M61: 0 | N61: 0 | O61: 0 | P61: 0 | Q61: 0 | R61: 0 | S61: 0 | T61: 0
G62: obec | J62: 15 | K62: 2 | L62: 46 | M62: 48 | N62: 47 | O62: 29 | P62: 34 | Q62: 34 | R62: 33 | S62: 32 | T62: 28
G63: kraj | J63: 4567 | K63: 4468 | L63: 3217 | M63: 2578 | N63: 2528 | O63: 2286 | P63: 2777 | Q63: 2072 | R63: 2014 | S63: 1983 | T63: 1757
G64: jiný resort | J64: 136 | K64: 84 | L64: 90 | M64: 100 | N64: 124 | O64: 103 | P64: 63 | Q64: 32 | R64: 52 | S64: 67 | T64: 65
F65: neveřejný | J65: 3306 | K65: 3664 | L65: 3372 | M65: 3278 | N65: 3389 | O65: 3580 | P65: 3892 | Q65: 3832 | R65: 3875 | S65: 3979 | T65: 4113
F66: v tom | G66: privátní sektor | J66: 3168 | K66: 3541 | L66: 3262 | M66: 3144 | N66: 3271 | O66: 3460 | P66: 3745 | Q66: 3683 | R66: 3761 | S66: 3866 | T66: 3969
G67: církev | J67: 138 | K67: 123 | L67: 110 | M67: 134 | N67: 118 | O67: 120 | P67: 147 | Q67: 149 | R67: 114 | S67: 113 | T67: 144
D68: Absolventi
E69: Celkem | J69: 78385 | K69: 78602 | L69: 78056 | M69: 79477 | N69: 84462 | O69: 90012 | P69: 85492 | Q69: 89284 | R69: 95791 | S69: 104096 | T69: .
E70: v tom | F70: veřejný | J70: 67275 | K70: 67115 | L70: 66152 | M70: 67320 | N70: 71251 | O70: 75689 | P70: 71612 | Q70: 74729 | R70: 79660 | S70: 86016 | T70: .
F71: v tom | G71: MŠMT | J71: 201 | K71: 203 | L71: 197 | M71: 188 | N71: 200 | O71: 200 | P71: 207 | Q71: 172 | R71: 208 | S71: 208 | T71: .
G72: obec | J72: 526 | K72: 523 | L72: 550 | M72: 570 | N72: 561 | O72: 616 | P72: 672 | Q72: 631 | R72: 733 | S72: 759 | T72: .
G73: kraj | J73: 66260 | K73: 66079 | L73: 65064 | M73: 66231 | N73: 70074 | O73: 74422 | P73: 70295 | Q73: 73446 | R73: 78265 | S73: 84565 | T73: .
G74: jiný resort | J74: 288 | K74: 310 | L74: 341 | M74: 331 | N74: 416 | O74: 451 | P74: 438 | Q74: 480 | R74: 454 | S74: 484 | T74: .
F75: neveřejný | J75: 11110 | K75: 11487 | L75: 11904 | M75: 12157 | N75: 13211 | O75: 14323 | P75: 13880 | Q75: 14555 | R75: 16131 | S75: 18080 | T75: .
F76: v tom | G76: privátní sektor | J76: 9555 | K76: 9923 | L76: 10314 | M76: 10613 | N76: 11598 | O76: 12585 | P76: 12176 | Q76: 12724 | R76: 14137 | S76: 16042 | T76: .
G77: církev | J77: 1555 | K77: 1564 | L77: 1590 | M77: 1544 | N77: 1613 | O77: 1738 | P77: 1704 | Q77: 1831 | R77: 1994 | S77: 2038 | T77: .
E78: Denní forma vzdělávání | J78: 74303 | K78: 74363 | L78: 74271 | M78: 75432 | N78: 80350 | O78: 85489 | P78: 81729 | Q78: 85597 | R78: 91796 | S78: 100227 | T78: .
E79: v tom | F79: veřejný | J79: 65288 | K79: 65162 | L79: 64545 | M79: 65493 | N79: 69655 | O79: 73904 | P79: 70210 | Q79: 73375 | R79: 78322 | S79: 84662 | T79: .
F80: v tom | G80: MŠMT | J80: 201 | K80: 203 | L80: 197 | M80: 188 | N80: 200 | O80: 200 | P80: 207 | Q80: 172 | R80: 208 | S80: 208 | T80: .
G81: obec | J81: 526 | K81: 518 | L81: 548 | M81: 568 | N81: 543 | O81: 591 | P81: 642 | Q81: 616 | R81: 707 | S81: 732 | T81: .
G82: kraj | J82: 64422 | K82: 64309 | L82: 63643 | M82: 64594 | N82: 68696 | O82: 72839 | P82: 69097 | Q82: 72277 | R82: 77094 | S82: 83397 | T82: .
G83: jiný resort | J83: 139 | K83: 132 | L83: 157 | M83: 143 | N83: 216 | O83: 274 | P83: 264 | Q83: 310 | R83: 313 | S83: 325 | T83: .
F84: neveřejný | J84: 9015 | K84: 9201 | L84: 9726 | M84: 9939 | N84: 10695 | O84: 11585 | P84: 11519 | Q84: 12222 | R84: 13474 | S84: 15565 | T84: .
F85: v tom | G85: privátní sektor | J85: 7545 | K85: 7779 | L85: 8198 | M85: 8504 | N85: 9158 | O85: 9949 | P85: 9892 | Q85: 10511 | R85: 11600 | S85: 13670 | T85: .
G86: církev | J86: 1470 | K86: 1422 | L86: 1528 | M86: 1435 | N86: 1537 | O86: 1636 | P86: 1627 | Q86: 1711 | R86: 1874 | S86: 1895 | T86: .
E87: Ostatní formy vzdělávání | J87: 4082 | K87: 4239 | L87: 3785 | M87: 4045 | N87: 4112 | O87: 4523 | P87: 3763 | Q87: 3687 | R87: 3995 | S87: 3869 | T87: .
E88: v tom | F88: veřejný | J88: 1987 | K88: 1953 | L88: 1607 | M88: 1827 | N88: 1596 | O88: 1785 | P88: 1402 | Q88: 1354 | R88: 1338 | S88: 1354 | T88: .
F89: v tom | G89: MŠMT | J89: 0 | K89: 0 | L89: 0 | M89: 0 | N89: 0 | O89: 0 | P89: 0 | Q89: 0 | R89: 0 | S89: 0 | T89: .
G90: obec | J90: 0 | K90: 5 | L90: 2 | M90: 2 | N90: 18 | O90: 25 | P90: 30 | Q90: 15 | R90: 26 | S90: 27 | T90: .
G91: kraj | J91: 1838 | K91: 1770 | L91: 1421 | M91: 1637 | N91: 1378 | O91: 1583 | P91: 1198 | Q91: 1169 | R91: 1171 | S91: 1168 | T91: .
G92: jiný resort | J92: 149 | K92: 178 | L92: 184 | M92: 188 | N92: 200 | O92: 177 | P92: 174 | Q92: 170 | R92: 141 | S92: 159 | T92: .
F93: neveřejný | J93: 2095 | K93: 2286 | L93: 2178 | M93: 2218 | N93: 2516 | O93: 2738 | P93: 2361 | Q93: 2333 | R93: 2657 | S93: 2515 | T93: .
F94: v tom | G94: privátní sektor | J94: 2010 | K94: 2144 | L94: 2116 | M94: 2109 | N94: 2440 | O94: 2636 | P94: 2284 | Q94: 2213 | R94: 2537 | S94: 2372 | T94: .
G95: církev | J95: 85 | K95: 142 | L95: 62 | M95: 109 | N95: 76 | O95: 102 | P95: 77 | Q95: 120 | R95: 120 | S95: 143 | T95: .
D96: Komentáře: | T96: Zdroj: databáze MŠMT
E97: Údaje včetně nástavbového a zkráceného studia.

Sheet B5.1.6
D4: Tab. B5.1.6: | H4: Střední školy – žáci, nově přijatí a absolventi
B5: 18 | D5: ve školním roce 2015/16 až 2025/26 – podle zřizovatele
D7: Zřizovatel | J7: 2015/16 | K7: 2016/17 | L7: 2017/18 | M7: 2018/19 | N7: 2019/20 | O7: 2020/21 | P7: 2021/22 | Q7: 2022/23 | R7: 2023/24 | S7: 2024/25 | T7: 2025/26
D12: Žáci
E13: Celkem | J13: 427107 | K13: 424849 | L13: 421535 | M13: 420814 | N13: 423838 | O13: 432906 | P13: 446254 | Q13: 463200 | R13: 484758 | S13: 503189 | T13: 514881
E14: v tom | F14: všeobecné vzdělávání v oborech gymnázií | J14: 128045 | K14: 128994 | L14: 129554 | M14: 130133 | N14: 130725 | O14: 131799 | P14: 133321 | Q14: 135929 | R14: 138483 | S14: 141530 | T14: 144110
F15: odborné vzdělávání bez lyceí | J15: 284038 | K15: 280862 | L15: 276913 | M15: 275569 | N15: 277973 | O15: 285467 | P15: 296278 | Q15: 309493 | R15: 327227 | S15: 340594 | T15: 347079
F16: lycea | J16: 15024 | K16: 14993 | L16: 15068 | M16: 15112 | N16: 15140 | O16: 15640 | P16: 16655 | Q16: 17778 | R16: 19048 | S16: 21065 | T16: 23692
E17: Veřejný | J17: 362298 | K17: 358169 | L17: 353759 | M17: 352861 | N17: 354338 | O17: 360759 | P17: 369823 | Q17: 381860 | R17: 397923 | S17: 411810 | T17: 420019
E18: v tom | F18: všeobecné vzdělávání v oborech gymnázií | J18: 110821 | K18: 111005 | L18: 110944 | M18: 110972 | N18: 111187 | O18: 111599 | P18: 112311 | Q18: 113740 | R18: 115274 | S18: 117112 | T18: 118519
F19: odborné vzdělávání bez lyceí | J19: 237686 | K19: 233448 | L19: 229041 | M19: 228096 | N19: 229460 | O19: 235278 | P19: 243095 | Q19: 253020 | R19: 266611 | S19: 276936 | T19: 281654
F20: lycea | J20: 13791 | K20: 13716 | L20: 13774 | M20: 13793 | N20: 13691 | O20: 13882 | P20: 14417 | Q20: 15100 | R20: 16038 | S20: 17762 | T20: 19846
E21: Privátní sektor | J21: 54957 | K21: 56664 | L21: 57693 | M21: 57856 | N21: 59439 | O21: 61855 | P21: 10679 | Q21: 70232 | R21: 75423 | S21: 79699 | T21: 83000
E22: v tom | F22: všeobecné vzdělávání v oborech gymnázií | J22: 10158 | K22: 10856 | L22: 11439 | M22: 12005 | N22: 12440 | O22: 13021 | P22: 7237 | Q22: 14804 | R22: 15748 | S22: 16917 | T22: 18020
F23: odborné vzdělávání bez lyceí | J23: 43937 | K23: 44920 | L23: 45373 | M23: 44933 | N23: 45892 | O23: 47441 | P23: 3031 | Q23: 53202 | R23: 57137 | S23: 59981 | T23: 61646
F24: lycea | J24: 862 | K24: 888 | L24: 881 | M24: 918 | N24: 1107 | O24: 1393 | P24: 411 | Q24: 2226 | R24: 2538 | S24: 2801 | T24: 3334
E25: Církev | J25: 9852 | K25: 10016 | L25: 10083 | M25: 10097 | N25: 10061 | O25: 10292 | P25: 65752 | Q25: 11108 | R25: 11412 | S25: 11680 | T25: 11862
E26: v tom | F26: všeobecné vzdělávání v oborech gymnázií | J26: 7066 | K26: 7133 | L26: 7171 | M26: 7156 | N26: 7098 | O26: 7179 | P26: 13773 | Q26: 7385 | R26: 7461 | S26: 7501 | T26: 7571
F27: odborné vzdělávání bez lyceí | J27: 2415 | K27: 2494 | L27: 2499 | M27: 2540 | N27: 2621 | O27: 2748 | P27: 50152 | Q27: 3271 | R27: 3479 | S27: 3677 | T27: 3779
F28: lycea | J28: 371 | K28: 389 | L28: 413 | M28: 401 | N28: 342 | O28: 365 | P28: 1827 | Q28: 452 | R28: 472 | S28: 502 | T28: 512
D29: Nově přijatí
E30: Celkem | J30: 116077 | K30: 115617 | L30: 114041 | M30: 113513 | N30: 116183 | O30: 118293 | P30: 125167 | Q30: 133416 | R30: 139916 | S30: 140613 | T30: 142157
E31: v tom | F31: všeobecné vzdělávání v oborech gymnázií | J31: 23586 | K31: 23812 | L31: 23683 | M31: 23641 | N31: 24120 | O31: 24070 | P31: 24724 | Q31: 25298 | R31: 26254 | S31: 27117 | T31: 27562
F32: odborné vzdělávání bez lyceí | J32: 88635 | K32: 87897 | L32: 86529 | M32: 85977 | N32: 88105 | O32: 89875 | P32: 95735 | Q32: 103117 | R32: 108327 | S32: 107071 | T32: 107224
F33: lycea | J33: 3856 | K33: 3908 | L33: 3829 | M33: 3895 | N33: 3958 | O33: 4348 | P33: 4708 | Q33: 5001 | R33: 5335 | S33: 6425 | T33: 7371
E34: Veřejný | J34: 97936 | K34: 96823 | L34: 95379 | M34: 94997 | N34: 96720 | O34: 98037 | P34: 102911 | Q34: 109438 | R34: 114794 | S34: 115205 | T34: 115630
E35: v tom | F35: všeobecné vzdělávání v oborech gymnázií | J35: 20439 | K35: 20587 | L35: 20333 | M35: 20279 | N35: 20696 | O35: 20505 | P35: 20954 | Q35: 21159 | R35: 22008 | S35: 22372 | T35: 22425
F36: odborné vzdělávání bez lyceí | J36: 73970 | K36: 72662 | L36: 71538 | M36: 71171 | N36: 72508 | O36: 73802 | P36: 78011 | Q36: 84107 | R36: 88275 | S36: 87318 | T36: 87131
F37: lycea | J37: 3527 | K37: 3574 | L37: 3508 | M37: 3547 | N37: 3516 | O37: 3730 | P37: 3946 | Q37: 4172 | R37: 4511 | S37: 5515 | T37: 6074
E38: Privátní sektor | J38: 16081 | K38: 16690 | L38: 16609 | M38: 16441 | N38: 17281 | O38: 18097 | P38: 2367 | Q38: 21470 | R38: 22645 | S38: 22868 | T38: 23918
E39: v tom | F39: všeobecné vzdělávání v oborech gymnázií | J39: 1967 | K39: 2043 | L39: 2189 | M39: 2223 | N39: 2246 | O39: 2352 | P39: 1191 | Q39: 2887 | R39: 3035 | S39: 3472 | T39: 3890
F40: odborné vzdělávání bez lyceí | J40: 13897 | K40: 14412 | L40: 14211 | M40: 13976 | N40: 14688 | O40: 15225 | P40: 1054 | Q40: 17884 | R40: 18908 | S40: 18613 | T40: 18872
F41: lycea | J41: 217 | K41: 235 | L41: 209 | M41: 242 | N41: 347 | O41: 520 | P41: 122 | Q41: 699 | R41: 702 | S41: 783 | T41: 1156
E42: Církev | J42: 2060 | K42: 2104 | L42: 2053 | M42: 2075 | N42: 2182 | O42: 2159 | P42: 19889 | Q42: 2508 | R42: 2477 | S42: 2540 | T42: 2609
E43: v tom | F43: všeobecné vzdělávání v oborech gymnázií | J43: 1180 | K43: 1182 | L43: 1161 | M43: 1139 | N43: 1178 | O43: 1213 | P43: 2579 | Q43: 1252 | R43: 1211 | S43: 1273 | T43: 1247
F44: odborné vzdělávání bez lyceí | J44: 768 | K44: 823 | L44: 780 | M44: 830 | N44: 909 | O44: 848 | P44: 16670 | Q44: 1126 | R44: 1144 | S44: 1140 | T44: 1221
F45: lycea | J45: 112 | K45: 99 | L45: 112 | M45: 106 | N45: 95 | O45: 98 | P45: 640 | Q45: 130 | R45: 122 | S45: 127 | T45: 141
D46: Absolventi
E47: Celkem | J47: 78385 | K47: 78602 | L47: 78056 | M47: 79477 | N47: 84462 | O47: 90012 | P47: 85492 | Q47: 89284 | R47: 95791 | S47: 104096 | T47: .
E48: v tom | F48: všeobecné vzdělávání v oborech gymnázií | J48: 20279 | K48: 20466 | L48: 20347 | M48: 21038 | N48: 21274 | O48: 21360 | P48: 21024 | Q48: 21612 | R48: 22361 | S48: 22825 | T48: .
F49: odborné vzdělávání bez lyceí | J49: 54772 | K49: 54921 | L49: 54486 | M49: 55161 | N49: 59711 | O49: 65300 | P49: 61040 | Q49: 64147 | R49: 69480 | S49: 77033 | T49: .
F50: lycea | J50: 3334 | K50: 3215 | L50: 3223 | M50: 3278 | N50: 3477 | O50: 3352 | P50: 3428 | Q50: 3525 | R50: 3950 | S50: 4238 | T50: .
E51: Veřejný | J51: 67275 | K51: 67115 | L51: 66152 | M51: 67320 | N51: 71251 | O51: 75689 | P51: 71612 | Q51: 74729 | R51: 79660 | S51: 86016 | T51: .
E52: v tom | F52: všeobecné vzdělávání v oborech gymnázií | J52: 18224 | K52: 18226 | L52: 17986 | M52: 18506 | N52: 18696 | O52: 18670 | P52: 18276 | Q52: 18752 | R52: 19004 | S52: 19280 | T52: .
F53: odborné vzdělávání bez lyceí | J53: 45952 | K53: 45908 | L53: 45191 | M53: 45809 | N53: 49347 | O53: 53929 | P53: 50248 | Q53: 52850 | R53: 57256 | S53: 63178 | T53: .
F54: lycea | J54: 3099 | K54: 2981 | L54: 2975 | M54: 3005 | N54: 3208 | O54: 3090 | P54: 3088 | Q54: 3127 | R54: 3400 | S54: 3558 | T54: .
E55: Privátní sektor | J55: 9555 | K55: 9923 | L55: 10314 | M55: 10613 | N55: 11598 | O55: 1738 | P55: 12176 | Q55: 12724 | R55: 14137 | S55: 16042 | T55: .
E56: v tom | F56: všeobecné vzdělávání v oborech gymnázií | J56: 1066 | K56: 1245 | L56: 1337 | M56: 1503 | N56: 1539 | O56: 1043 | P56: 1706 | Q56: 1813 | R56: 2186 | S56: 2473 | T56: .
F57: odborné vzdělávání bez lyceí | J57: 8325 | K57: 8514 | L57: 8809 | M57: 8921 | N57: 9861 | O57: 620 | P57: 10220 | Q57: 10605 | R57: 11493 | S57: 13007 | T57: .
F58: lycea | J58: 164 | K58: 164 | L58: 168 | M58: 189 | N58: 198 | O58: 75 | P58: 250 | Q58: 306 | R58: 458 | S58: 562 | T58: .
E59: Církev | J59: 1555 | K59: 1564 | L59: 1590 | M59: 1544 | N59: 1613 | O59: 12585 | P59: 1704 | Q59: 1831 | R59: 1994 | S59: 2038 | T59: .
E60: v tom | F60: všeobecné vzdělávání v oborech gymnázií | J60: 989 | K60: 995 | L60: 1024 | M60: 1029 | N60: 1039 | O60: 1647 | P60: 1042 | Q60: 1047 | R60: 1171 | S60: 1072 | T60: .
F61: odborné vzdělávání bez lyceí | J61: 495 | K61: 499 | L61: 486 | M61: 431 | N61: 503 | O61: 10751 | P61: 572 | Q61: 692 | R61: 731 | S61: 848 | T61: .
F62: lycea | J62: 71 | K62: 70 | L62: 80 | M62: 84 | N62: 71 | O62: 187 | P62: 90 | Q62: 92 | R62: 92 | S62: 118 | T62: .
D63: Komentáře: | T63: Zdroj: databáze MŠMT
E64: Údaje za všechny formy vzdělávání a včetně nástavbového a zkráceného studia.

Sheet B5.1.7
D4: Tab. B5.1.7: | H4: Střední školy – žáci, nově přijatí a absolventi
B5: 18 | D5: ve školním roce 2015/16 až 2025/26 – podle zřizovatele a druhu vzdělávání
D7: Zřizovatel Druh vzdělávání | J7: 2015/16 | K7: 2016/17 | L7: 2017/18 | M7: 2018/19 | N7: 2019/20 | O7: 2020/21 | P7: 2021/22 | Q7: 2022/23 | R7: 2023/24 | S7: 2024/25 | T7: 2025/26
D12: Žáci
E13: Celkem | J13: 427107 | K13: 424849 | L13: 421535 | M13: 420814 | N13: 423838 | O13: 432906 | P13: 446254 | Q13: 463200 | R13: 484758 | S13: 503189 | T13: 514881
E14: v tom | F14: střední vzdělávání | J14: 2201 | K14: 2404 | L14: 2612 | M14: 2723 | N14: 2719 | O14: 2720 | P14: 2763 | Q14: 2762 | R14: 2841 | S14: 2959 | T14: 2919
F15: střední vzdělávání s výučním listem1) | J15: 91841 | K15: 89467 | L15: 87437 | M15: 86590 | N15: 88783 | O15: 90641 | P15: 91256 | Q15: 95054 | R15: 100566 | S15: 104687 | T15: 105816
F16: střední vzdělávání s maturitní zkouškou1) | J16: 312628 | K16: 314000 | L16: 315000 | M16: 316698 | N16: 318816 | O16: 326007 | P16: 337283 | Q16: 350923 | R16: 367007 | S16: 381455 | T16: 391695
F17: nástavbové studium | J17: 20437 | K17: 18978 | L17: 16486 | M17: 14803 | N17: 13520 | O17: 13538 | P17: 14952 | Q17: 14461 | R17: 14344 | S17: 14088 | T17: 14451
E18: Veřejný | J18: 362298 | K18: 358169 | L18: 353759 | M18: 352861 | N18: 354338 | O18: 360759 | P18: 369823 | Q18: 381860 | R18: 397923 | S18: 411810 | T18: 420019
E19: v tom | F19: střední vzdělávání | J19: 1714 | K19: 1749 | L19: 1811 | M19: 1885 | N19: 1871 | O19: 1856 | P19: 1827 | Q19: 1798 | R19: 1828 | S19: 1897 | T19: 1894
F20: střední vzdělávání s výučním listem | J20: 82060 | K20: 79428 | L20: 77215 | M20: 76775 | N20: 78591 | O20: 80404 | P20: 81038 | Q20: 84569 | R20: 89448 | S20: 93053 | T20: 93982
F21: střední vzdělávání s maturitní zkouškou | J21: 263139 | K21: 262696 | L21: 262467 | M21: 263230 | N21: 264034 | O21: 268698 | P21: 276072 | Q21: 285113 | R21: 296384 | S21: 306728 | T21: 313516
F22: nástavbové studium | J22: 15385 | K22: 14296 | L22: 12266 | M22: 10971 | N22: 9842 | O22: 9801 | P22: 10886 | Q22: 10380 | R22: 10263 | S22: 10132 | T22: 10627
E23: Privátní sektor | J23: 54957 | K23: 56664 | L23: 57693 | M23: 57856 | N23: 59439 | O23: 61855 | P23: 65752 | Q23: 70232 | R23: 75423 | S23: 79699 | T23: 83000
E24: v tom | F24: střední vzdělávání | J24: 256 | K24: 396 | L24: 544 | M24: 618 | N24: 599 | O24: 631 | P24: 702 | Q24: 716 | R24: 759 | S24: 798 | T24: 749
F25: střední vzdělávání s výučním listem | J25: 9475 | K25: 9725 | L25: 9917 | M25: 9489 | N25: 9832 | O25: 9852 | P25: 9780 | Q25: 9970 | R25: 10512 | S25: 10973 | T25: 11183
F26: střední vzdělávání s maturitní zkouškou | J26: 40261 | K26: 41945 | L26: 43086 | M26: 43997 | N26: 45427 | O26: 47725 | P26: 51308 | Q26: 55573 | R26: 60164 | S26: 64057 | T26: 67355
F27: nástavbové studium | J27: 4965 | K27: 4598 | L27: 4146 | M27: 3752 | N27: 3581 | O27: 3647 | P27: 3962 | Q27: 3973 | R27: 3988 | S27: 3871 | T27: 3713
E28: Církev | J28: 9852 | K28: 10016 | L28: 10083 | M28: 10097 | N28: 10061 | O28: 10292 | P28: 10679 | Q28: 11108 | R28: 11412 | S28: 11680 | T28: 11862
E29: v tom | F29: střední vzdělávání | J29: 231 | K29: 259 | L29: 257 | M29: 220 | N29: 249 | O29: 233 | P29: 234 | Q29: 248 | R29: 254 | S29: 264 | T29: 276
F30: střední vzdělávání s výučním listem | J30: 306 | K30: 314 | L30: 305 | M30: 326 | N30: 360 | O30: 385 | P30: 438 | Q30: 515 | R30: 606 | S30: 661 | T30: 651
F31: střední vzdělávání s maturitní zkouškou | J31: 9228 | K31: 9359 | L31: 9447 | M31: 9471 | N31: 9355 | O31: 9584 | P31: 9903 | Q31: 10237 | R31: 10459 | S31: 10670 | T31: 10824
F32: nástavbové studium | J32: 87 | K32: 84 | L32: 74 | M32: 80 | N32: 97 | O32: 90 | P32: 104 | Q32: 108 | R32: 93 | S32: 85 | T32: 111
D33: Nově přijatí
E34: Celkem | J34: 116077 | K34: 115617 | L34: 114041 | M34: 113513 | N34: 116183 | O34: 118293 | P34: 125167 | Q34: 133416 | R34: 139916 | S34: 140613 | T34: 142157
E35: v tom | F35: střední vzdělávání | J35: 943 | K35: 1098 | L35: 1098 | M35: 1010 | N35: 942 | O35: 966 | P35: 926 | Q35: 1007 | R35: 1072 | S35: 1100 | T35: 1129
F36: střední vzdělávání s výučním listem1) | J36: 32010 | K36: 31112 | L36: 31376 | M36: 31524 | N36: 32999 | O36: 32739 | P36: 32387 | Q36: 37567 | R36: 39743 | S36: 38832 | T36: 39289
F37: střední vzdělávání s maturitní zkouškou1) | J37: 72927 | K37: 73545 | L37: 73507 | M37: 73684 | N37: 75232 | O37: 77440 | P37: 83484 | Q37: 87267 | R37: 91440 | S37: 93155 | T37: 93959
F38: nástavbové studium | J38: 10197 | K38: 9862 | L38: 8060 | M38: 7295 | N38: 7010 | O38: 7148 | P38: 8370 | Q38: 7575 | R38: 7661 | S38: 7526 | T38: 7780
E39: Veřejný | J39: 97936 | K39: 96823 | L39: 95379 | M39: 94997 | N39: 96720 | O39: 98037 | P39: 102911 | Q39: 109438 | R39: 114794 | S39: 115205 | T39: 115630
E40: v tom | F40: střední vzdělávání | J40: 744 | K40: 734 | L40: 730 | M40: 741 | N40: 687 | O40: 670 | P40: 662 | Q40: 664 | R40: 747 | S40: 732 | T40: 763
F41: střední vzdělávání s výučním listem | J41: 28483 | K41: 27490 | L41: 27599 | M41: 27882 | N41: 29139 | O41: 29035 | P41: 28881 | Q41: 33469 | R41: 35301 | S41: 34597 | T41: 34786
F42: střední vzdělávání s maturitní zkouškou | J42: 60847 | K42: 61002 | L42: 60956 | M42: 60870 | N42: 61686 | O42: 63104 | P42: 67222 | Q42: 69810 | R42: 73187 | S42: 74417 | T42: 74210
F43: nástavbové studium | J43: 7862 | K43: 7597 | L43: 6094 | M43: 5504 | N43: 5208 | O43: 5228 | P43: 6146 | Q43: 5495 | R43: 5559 | S43: 5459 | T43: 5871
E44: Privátní sektor | J44: 16081 | K44: 16690 | L44: 16609 | M44: 16441 | N44: 17281 | O44: 18097 | P44: 19889 | Q44: 21470 | R44: 22645 | S44: 22868 | T44: 23918
E45: v tom | F45: střední vzdělávání | J45: 109 | K45: 236 | L45: 273 | M45: 185 | N45: 158 | O45: 209 | P45: 176 | Q45: 244 | R45: 227 | S45: 261 | T45: 262
F46: střední vzdělávání s výučním listem | J46: 3427 | K46: 3507 | L46: 3683 | M46: 3522 | N46: 3708 | O46: 3581 | P46: 3337 | Q46: 3877 | R46: 4208 | S46: 4005 | T46: 4263
F47: střední vzdělávání s maturitní zkouškou | J47: 10263 | K47: 10731 | L47: 10727 | M47: 10997 | N47: 11664 | O47: 12430 | P47: 14213 | Q47: 15330 | R47: 16147 | S47: 16592 | T47: 17556
F48: nástavbové studium | J48: 2282 | K48: 2216 | L48: 1926 | M48: 1737 | N48: 1751 | O48: 1877 | P48: 2163 | Q48: 2019 | R48: 2063 | S48: 2010 | T48: 1837
E49: Církev | J49: 2060 | K49: 2104 | L49: 2053 | M49: 2075 | N49: 2182 | O49: 2159 | P49: 2367 | Q49: 2508 | R49: 2477 | S49: 2540 | T49: 2609
E50: v tom | F50: střední vzdělávání | J50: 90 | K50: 128 | L50: 95 | M50: 84 | N50: 97 | O50: 87 | P50: 88 | Q50: 99 | R50: 98 | S50: 107 | T50: 104
F51: střední vzdělávání s výučním listem | J51: 100 | K51: 115 | L51: 94 | M51: 120 | N51: 152 | O51: 123 | P51: 169 | Q51: 221 | R51: 234 | S51: 230 | T51: 240
F52: střední vzdělávání s maturitní zkouškou | J52: 1817 | K52: 1812 | L52: 1824 | M52: 1817 | N52: 1882 | O52: 1906 | P52: 2049 | Q52: 2127 | R52: 2106 | S52: 2146 | T52: 2193
F53: nástavbové studium | J53: 53 | K53: 49 | L53: 40 | M53: 54 | N53: 51 | O53: 43 | P53: 61 | Q53: 61 | R53: 39 | S53: 57 | T53: 72
D54: Absolventi
E55: Celkem | J55: 78385 | K55: 78602 | L55: 78056 | M55: 79477 | N55: 84462 | O55: 90012 | P55: 85492 | Q55: 89284 | R55: 95791 | S55: 104096 | T55: .
E56: v tom | F56: střední vzdělávání | J56: 645 | K56: 614 | L56: 618 | M56: 646 | N56: 693 | O56: 595 | P56: 710 | Q56: 696 | R56: 724 | S56: 822 | T56: .
F57: střední vzdělávání s výučním listem1) | J57: 22095 | K57: 22244 | L57: 21917 | M57: 21331 | N57: 23240 | O57: 24008 | P57: 23269 | Q57: 23758 | R57: 25501 | S57: 30325 | T57: .
F58: střední vzdělávání s maturitní zkouškou1) | J58: 52706 | K58: 53020 | L58: 52998 | M58: 54923 | N58: 57730 | O58: 62059 | P58: 58650 | Q58: 61435 | R58: 65743 | S58: 69424 | T58: .
F59: nástavbové studium | J59: 2939 | K59: 2724 | L59: 2523 | M59: 2577 | N59: 2799 | O59: 3350 | P59: 2863 | Q59: 3395 | R59: 3823 | S59: 3525 | T59: .
E60: Veřejný | J60: 67275 | K60: 67115 | L60: 66152 | M60: 67320 | N60: 71251 | O60: 75689 | P60: 71612 | Q60: 74729 | R60: 79660 | S60: 86016 | T60: .
E61: v tom | F61: střední vzdělávání | J61: 508 | K61: 483 | L61: 472 | M61: 506 | N61: 510 | O61: 471 | P61: 499 | Q61: 520 | R61: 490 | S61: 547 | T61: .
F62: střední vzdělávání s výučním listem | J62: 19606 | K62: 19589 | L62: 19227 | M62: 18869 | N62: 20488 | O62: 21218 | P62: 20466 | Q62: 21032 | R62: 22788 | S62: 26889 | T62: .
F63: střední vzdělávání s maturitní zkouškou | J63: 45045 | K63: 45050 | L63: 44622 | M63: 46062 | N63: 48245 | O63: 51543 | P63: 48552 | Q63: 50735 | R63: 53620 | S63: 55979 | T63: .
F64: nástavbové studium | J64: 2116 | K64: 1993 | L64: 1831 | M64: 1883 | N64: 2008 | O64: 2457 | P64: 2095 | Q64: 2442 | R64: 2762 | S64: 2601 | T64: .
E65: Privátní sektor | J65: 9555 | K65: 9923 | L65: 10314 | M65: 10613 | N65: 11598 | O65: 12585 | P65: 12176 | Q65: 12724 | R65: 14137 | S65: 16042 | T65: .
E66: v tom | F66: střední vzdělávání | J66: 75 | K66: 72 | L66: 67 | M66: 98 | N66: 108 | O66: 69 | P66: 157 | Q66: 126 | R66: 174 | S66: 218 | T66: .
F67: střední vzdělávání s výučním listem | J67: 2389 | K67: 2571 | L67: 2605 | M67: 2365 | N67: 2665 | O67: 2684 | P67: 2675 | Q67: 2614 | R67: 2581 | S67: 3221 | T67: .
F68: střední vzdělávání s maturitní zkouškou | J68: 6290 | K68: 6564 | L68: 6969 | M68: 7467 | N68: 8054 | O68: 8979 | P68: 8604 | Q68: 9064 | R68: 10350 | S68: 11698 | T68: .
F69: nástavbové studium | J69: 801 | K69: 716 | L69: 673 | M69: 683 | N69: 771 | O69: 853 | P69: 740 | Q69: 920 | R69: 1032 | S69: 905 | T69: .
E70: Církev | J70: 1555 | K70: 1564 | L70: 1590 | M70: 1544 | N70: 1613 | O70: 1738 | P70: 1704 | Q70: 1831 | R70: 1994 | S70: 2038 | T70: .
E71: v tom | F71: střední vzdělávání | J71: 62 | K71: 59 | L71: 79 | M71: 42 | N71: 75 | O71: 55 | P71: 54 | Q71: 50 | R71: 60 | S71: 57 | T71: .
F72: střední vzdělávání s výučním listem | J72: 100 | K72: 84 | L72: 85 | M72: 97 | N72: 87 | O72: 106 | P72: 128 | Q72: 112 | R72: 132 | S72: 215 | T72: .
F73: střední vzdělávání s maturitní zkouškou | J73: 1371 | K73: 1406 | L73: 1407 | M73: 1394 | N73: 1431 | O73: 1537 | P73: 1494 | Q73: 1636 | R73: 1773 | S73: 1747 | T73: .
F74: nástavbové studium | J74: 22 | K74: 15 | L74: 19 | M74: 11 | N74: 20 | O74: 40 | P74: 28 | Q74: 33 | R74: 29 | S74: 19 | T74: .
D75: Komentáře: | T75: Zdroj: databáze MŠMT
D76: 1) | E76: Údaje za všechny formy vzdělávání, za střední vzdělávání s výučním listem a za střední vzdělávání s maturitní zkouškou jsou včetně zkráceného studia, komentář platí pro všechny zřizovatele.

Sheet B5.1.8
D4: Tab. B5.1.8: | H4: Střední školy – dívky, nově přijaté a absolventky
B5: 18 | D5: ve školním roce 2015/16 až 2025/26 – podle zřizovatele a druhu vzdělávání
D7: Zřizovatel Druh vzdělávání | J7: 2015/16 | K7: 2016/17 | L7: 2017/18 | M7: 2018/19 | N7: 2019/20 | O7: 2020/21 | P7: 2021/22 | Q7: 2022/23 | R7: 2023/24 | S7: 2024/25 | T7: 2025/26
D12: Dívky
E13: Celkem | J13: 210875 | K13: 209632 | L13: 208057 | M13: 208308 | N13: 209807 | O13: 214514 | P13: 220877 | Q13: 229116 | R13: 239725 | S13: 249058 | T13: 255157
E14: v tom | F14: střední vzdělávání | J14: 994 | K14: 1117 | L14: 1237 | M14: 1280 | N14: 1292 | O14: 1267 | P14: 1248 | Q14: 1213 | R14: 1243 | S14: 1313 | T14: 1265
F15: střední vzdělávání s výučním listem1) | J15: 31799 | K15: 30794 | L15: 29856 | M15: 29599 | N15: 30590 | O15: 31472 | P15: 31847 | Q15: 33311 | R15: 35741 | S15: 37705 | T15: 38302
F16: střední vzdělávání s maturitní zkouškou1) | J16: 169040 | K16: 169485 | L16: 169664 | M16: 170700 | N16: 172016 | O16: 175839 | P16: 181217 | Q16: 188150 | R16: 196321 | S16: 203792 | T16: 209209
F17: nástavbové studium | J17: 9042 | K17: 8236 | L17: 7300 | M17: 6729 | N17: 5909 | O17: 5936 | P17: 6565 | Q17: 6442 | R17: 6420 | S17: 6248 | T17: 6381
E18: Veřejný | J18: 175035 | K18: 172748 | L18: 170424 | M18: 170203 | N18: 170451 | O18: 173261 | P18: 176979 | Q18: 181915 | R18: 188844 | S18: 195335 | T18: 199211
E19: v tom | F19: střední vzdělávání | J19: 707 | K19: 746 | L19: 811 | M19: 826 | N19: 827 | O19: 812 | P19: 762 | Q19: 732 | R19: 701 | S19: 748 | T19: 740
F20: střední vzdělávání s výučním listem | J20: 27538 | K20: 26463 | L20: 25513 | M20: 25338 | N20: 26042 | O20: 26771 | P20: 27081 | Q20: 28340 | R20: 30377 | S20: 32082 | T20: 32587
F21: střední vzdělávání s maturitní zkouškou | J21: 140039 | K21: 139471 | L21: 138858 | M21: 139291 | N21: 139584 | O21: 141612 | P21: 144607 | Q21: 148531 | R21: 153455 | S21: 158282 | T21: 161499
F22: nástavbové studium | J22: 6751 | K22: 6068 | L22: 5242 | M22: 4748 | N22: 3998 | O22: 4066 | P22: 4529 | Q22: 4312 | R22: 4311 | S22: 4223 | T22: 4385
E23: Privátní sektor | J23: 29218 | K23: 30162 | L23: 30837 | M23: 31309 | N23: 32620 | O23: 34342 | P23: 36671 | Q23: 39736 | R23: 43242 | S23: 45959 | T23: 48115
E24: v tom | F24: střední vzdělávání | J24: 140 | K24: 211 | L24: 270 | M24: 321 | N24: 311 | O24: 320 | P24: 358 | Q24: 354 | R24: 408 | S24: 427 | T24: 382
F25: střední vzdělávání s výučním listem | J25: 4002 | K25: 4068 | L25: 4089 | M25: 4005 | N25: 4278 | O25: 4418 | P25: 4449 | Q25: 4610 | R25: 4947 | S25: 5165 | T25: 5258
F26: střední vzdělávání s maturitní zkouškou | J26: 22857 | K26: 23787 | L26: 24481 | M26: 25071 | N26: 26201 | O26: 27806 | P26: 29905 | Q26: 32724 | R26: 35848 | S26: 38398 | T26: 40553
F27: nástavbové studium | J27: 2219 | K27: 2096 | L27: 1997 | M27: 1912 | N27: 1830 | O27: 1798 | P27: 1959 | Q27: 2048 | R27: 2039 | S27: 1969 | T27: 1922
E28: Církev | J28: 6622 | K28: 6722 | L28: 6796 | M28: 6796 | N28: 6736 | O28: 6911 | P28: 7227 | Q28: 7465 | R28: 7639 | S28: 7764 | T28: 7831
E29: v tom | F29: střední vzdělávání | J29: 147 | K29: 160 | L29: 156 | M29: 133 | N29: 154 | O29: 135 | P29: 128 | Q29: 127 | R29: 134 | S29: 138 | T29: 143
F30: střední vzdělávání s výučním listem | J30: 259 | K30: 263 | L30: 254 | M30: 256 | N30: 270 | O30: 283 | P30: 317 | Q30: 361 | R30: 417 | S30: 458 | T30: 457
F31: střední vzdělávání s maturitní zkouškou | J31: 6144 | K31: 6227 | L31: 6325 | M31: 6338 | N31: 6231 | O31: 6421 | P31: 6705 | Q31: 6895 | R31: 7018 | S31: 7112 | T31: 7157
F32: nástavbové studium | J32: 72 | K32: 72 | L32: 61 | M32: 69 | N32: 81 | O32: 72 | P32: 77 | Q32: 82 | R32: 70 | S32: 56 | T32: 74
D33: Nově přijaté
E34: Celkem | J34: 55496 | K34: 55347 | L34: 55026 | M34: 54588 | N34: 55886 | O34: 57055 | P34: 60330 | Q34: 64280 | R34: 67686 | S34: 67896 | T34: 68500
E35: v tom | F35: střední vzdělávání | J35: 432 | K35: 533 | L35: 532 | M35: 464 | N35: 464 | O35: 433 | P35: 424 | Q35: 424 | R35: 466 | S35: 486 | T35: 499
F36: střední vzdělávání s výučním listem1) | J36: 11519 | K36: 10861 | L36: 11086 | M36: 11078 | N36: 11730 | O36: 11623 | P36: 11510 | Q36: 13488 | R36: 14764 | S36: 14250 | T36: 14447
F37: střední vzdělávání s maturitní zkouškou1) | J37: 39283 | K37: 39790 | L37: 39931 | M37: 39868 | N37: 40806 | O37: 41889 | P37: 44819 | Q37: 47021 | R37: 49138 | S37: 49879 | T37: 50195
F38: nástavbové studium | J38: 4262 | K38: 4163 | L38: 3477 | M38: 3178 | N38: 2886 | O38: 3110 | P38: 3577 | Q38: 3347 | R38: 3318 | S38: 3281 | T38: 3359
E39: Veřejný | J39: 45530 | K39: 44972 | L39: 44601 | M39: 44210 | N39: 44610 | O39: 45345 | P39: 47301 | Q39: 49982 | R39: 52647 | S39: 52942 | T39: 52844
E40: v tom | F40: střední vzdělávání | J40: 306 | K40: 329 | L40: 339 | M40: 303 | N40: 319 | O40: 280 | P40: 281 | Q40: 248 | R40: 288 | S40: 284 | T40: 303
F41: střední vzdělávání s výučním listem | J41: 9965 | K41: 9322 | L41: 9504 | M41: 9595 | N41: 9963 | O41: 9922 | P41: 9895 | Q41: 11513 | R41: 12612 | S41: 12259 | T41: 12319
F42: střední vzdělávání s maturitní zkouškou | J42: 31976 | K42: 32199 | L42: 32251 | M42: 32031 | N42: 32335 | O42: 32945 | P42: 34670 | Q42: 35960 | R42: 37504 | S42: 38146 | T42: 37840
F43: nástavbové studium | J43: 3283 | K43: 3122 | L43: 2507 | M43: 2281 | N43: 1993 | O43: 2198 | P43: 2455 | Q43: 2261 | R43: 2243 | S43: 2253 | T43: 2382
E44: Privátní sektor | J44: 8490 | K44: 8875 | L44: 8954 | M44: 8926 | N44: 9740 | O44: 10174 | P44: 11292 | Q44: 12545 | R44: 13295 | S44: 13202 | T44: 13834
E45: v tom | F45: střední vzdělávání | J45: 72 | K45: 122 | L45: 133 | M45: 108 | N45: 81 | O45: 104 | P45: 89 | Q45: 119 | R45: 128 | S45: 137 | T45: 138
F46: střední vzdělávání s výučním listem | J46: 1473 | K46: 1443 | L46: 1509 | M46: 1401 | N46: 1654 | O46: 1606 | P46: 1492 | Q46: 1823 | R46: 1993 | S46: 1832 | T46: 1954
F47: střední vzdělávání s maturitní zkouškou | J47: 6012 | K47: 6309 | L47: 6377 | M47: 6564 | N47: 7156 | O47: 7583 | P47: 8635 | Q47: 9562 | R47: 10130 | S47: 10240 | T47: 10813
F48: nástavbové studium | J48: 933 | K48: 1001 | L48: 935 | M48: 853 | N48: 849 | O48: 881 | P48: 1076 | Q48: 1041 | R48: 1044 | S48: 993 | T48: 929
E49: Církev | J49: 1476 | K49: 1500 | L49: 1471 | M49: 1452 | N49: 1536 | O49: 1536 | P49: 1737 | Q49: 1753 | R49: 1744 | S49: 1752 | T49: 1822
E50: v tom | F50: střední vzdělávání | J50: 54 | K50: 82 | L50: 60 | M50: 53 | N50: 64 | O50: 49 | P50: 54 | Q50: 57 | R50: 50 | S50: 65 | T50: 58
F51: střední vzdělávání s výučním listem | J51: 81 | K51: 96 | L51: 73 | M51: 82 | N51: 113 | O51: 95 | P51: 123 | Q51: 152 | R51: 159 | S51: 159 | T51: 174
F52: střední vzdělávání s maturitní zkouškou | J52: 1295 | K52: 1282 | L52: 1303 | M52: 1273 | N52: 1315 | O52: 1361 | P52: 1514 | Q52: 1499 | R52: 1504 | S52: 1493 | T52: 1542
F53: nástavbové studium | J53: 46 | K53: 40 | L53: 35 | M53: 44 | N53: 44 | O53: 31 | P53: 46 | Q53: 45 | R53: 31 | S53: 35 | T53: 48
D54: Absolventky
E55: Celkem | J55: 38602 | K55: 39079 | L55: 37949 | M55: 38789 | N55: 40867 | O55: 44158 | P55: 41729 | Q55: 43403 | R55: 45961 | S55: 49756 | T55: .
E56: v tom | F56: střední vzdělávání | J56: 292 | K56: 270 | L56: 277 | M56: 302 | N56: 321 | O56: 286 | P56: 310 | Q56: 323 | R56: 306 | S56: 370 | T56: .
F57: střední vzdělávání s výučním listem1) | J57: 7380 | K57: 7752 | L57: 7401 | M57: 7044 | N57: 7751 | O57: 8088 | P57: 7948 | Q57: 7959 | R57: 8126 | S57: 10367 | T57: .
F58: střední vzdělávání s maturitní zkouškou1) | J58: 29661 | K58: 29933 | L58: 29260 | M58: 30332 | N58: 31643 | O58: 34377 | P58: 32323 | Q58: 33782 | R58: 35937 | S58: 37631 | T58: .
F59: nástavbové studium | J59: 1269 | K59: 1124 | L59: 1011 | M59: 1111 | N59: 1152 | O59: 1407 | P59: 1148 | Q59: 1339 | R59: 1592 | S59: 1388 | T59: .
E60: Veřejný | J60: 32243 | K60: 32416 | L60: 31210 | M60: 31684 | N60: 33312 | O60: 35734 | P60: 33583 | Q60: 34812 | R60: 36389 | S60: 39061 | T60: .
E61: v tom | F61: střední vzdělávání | J61: 210 | K61: 193 | L61: 194 | M61: 225 | N61: 220 | O61: 218 | P61: 191 | Q61: 234 | R61: 170 | S61: 228 | T61: .
F62: střední vzdělávání s výučním listem | J62: 6357 | K62: 6606 | L62: 6314 | M62: 5967 | N62: 6580 | O62: 6880 | P62: 6680 | Q62: 6711 | R62: 6914 | S62: 8718 | T62: .
F63: střední vzdělávání s maturitní zkouškou | J63: 24780 | K63: 24840 | L63: 24012 | M63: 24731 | N63: 25779 | O63: 27709 | P63: 25929 | Q63: 27008 | R63: 28252 | S63: 29194 | T63: .
F64: nástavbové studium | J64: 896 | K64: 777 | L64: 690 | M64: 761 | N64: 733 | O64: 927 | P64: 783 | Q64: 859 | R64: 1053 | S64: 921 | T64: .
E65: Privátní sektor | J65: 5252 | K65: 5551 | L65: 5645 | M65: 6011 | N65: 6433 | O65: 7183 | P65: 6930 | Q65: 7283 | R65: 8134 | S65: 9224 | T65: .
E66: v tom | F66: střední vzdělávání | J66: 36 | K66: 40 | L66: 37 | M66: 51 | N66: 57 | O66: 32 | P66: 85 | Q66: 66 | R66: 100 | S66: 114 | T66: .
F67: střední vzdělávání s výučním listem | J67: 938 | K67: 1071 | L67: 1017 | M67: 990 | N67: 1099 | O67: 1133 | P67: 1174 | Q67: 1170 | R67: 1120 | S67: 1492 | T67: .
F68: střední vzdělávání s maturitní zkouškou | J68: 3920 | K68: 4107 | L68: 4285 | M68: 4630 | N68: 4874 | O68: 5574 | P68: 5328 | Q68: 5594 | R68: 6396 | S68: 7165 | T68: .
F69: nástavbové studium | J69: 358 | K69: 333 | L69: 306 | M69: 340 | N69: 403 | O69: 444 | P69: 343 | Q69: 453 | R69: 518 | S69: 453 | T69: .
E70: Církev | J70: 1107 | K70: 1112 | L70: 1094 | M70: 1094 | N70: 1122 | O70: 1241 | P70: 1216 | Q70: 1308 | R70: 1438 | S70: 1471 | T70: .
E71: v tom | F71: střední vzdělávání | J71: 46 | K71: 37 | L71: 46 | M71: 26 | N71: 44 | O71: 36 | P71: 34 | Q71: 23 | R71: 36 | S71: 28 | T71: .
F72: střední vzdělávání s výučním listem | J72: 85 | K72: 75 | L72: 70 | M72: 87 | N72: 72 | O72: 75 | P72: 94 | Q72: 78 | R72: 92 | S72: 157 | T72: .
F73: střední vzdělávání s maturitní zkouškou | J73: 961 | K73: 986 | L73: 963 | M73: 971 | N73: 990 | O73: 1094 | P73: 1066 | Q73: 1180 | R73: 1289 | S73: 1272 | T73: .
F74: nástavbové studium | J74: 15 | K74: 14 | L74: 15 | M74: 10 | N74: 16 | O74: 36 | P74: 22 | Q74: 27 | R74: 21 | S74: 14 | T74: .
D75: Komentáře: | T75: Zdroj: databáze MŠMT
D76: 1) | E76: Údaje za všechny formy vzdělávání, za střední vzdělávání s výučním listem a za střední vzdělávání s maturitní zkouškou jsou včetně zkráceného studia, komentář platí pro všechny zřizovatele.

Sheet B5.1.9
D4: Tab. B5.1.9: | H4: Střední školy, denní forma vzdělávání – žáci, nově přijatí a absolventi
B5: 18 | D5: ve školním roce 2015/16 až 2025/26 – podle zřizovatele a druhu vzdělávání
D7: Zřizovatel Druh vzdělávání | J7: 2015/16 | K7: 2016/17 | L7: 2017/18 | M7: 2018/19 | N7: 2019/20 | O7: 2020/21 | P7: 2021/22 | Q7: 2022/23 | R7: 2023/24 | S7: 2024/25 | T7: 2025/26
D12: Žáci
E13: Celkem | J13: 405631 | K13: 404087 | L13: 403018 | M13: 403957 | N13: 408088 | O13: 417302 | P13: 430216 | Q13: 447796 | R13: 469236 | S13: 487771 | T13: 499447
E14: v tom | F14: střední vzdělávání | J14: 2162 | K14: 2369 | L14: 2579 | M14: 2690 | N14: 2697 | O14: 2689 | P14: 2725 | Q14: 2733 | R14: 2815 | S14: 2934 | T14: 2894
F15: střední vzdělávání s výučním listem1) | J15: 89654 | K15: 86964 | L15: 84864 | M15: 84002 | N15: 86075 | O15: 87893 | P15: 88563 | Q15: 92250 | R15: 97794 | S15: 101876 | T15: 103083
F16: střední vzdělávání s maturitní zkouškou1) | J16: 303559 | K16: 305009 | L16: 306491 | M16: 308613 | N16: 310957 | O16: 318046 | P16: 329140 | Q16: 342979 | R16: 358763 | S16: 373152 | T16: 383203
F17: nástavbové studium | J17: 10256 | K17: 9745 | L17: 9084 | M17: 8652 | N17: 8359 | O17: 8674 | P17: 9788 | Q17: 9834 | R17: 9864 | S17: 9809 | T17: 10267
E18: Veřejný | J18: 350248 | K18: 347136 | L18: 344591 | M18: 345109 | N18: 347625 | O18: 354391 | P18: 363381 | Q18: 376172 | R18: 392450 | S18: 406604 | T18: 415112
E19: v tom | F19: střední vzdělávání | J19: 1714 | K19: 1749 | L19: 1811 | M19: 1885 | N19: 1871 | O19: 1856 | P19: 1827 | Q19: 1798 | R19: 1828 | S19: 1897 | T19: 1894
F20: střední vzdělávání s výučním listem | J20: 80666 | K20: 77877 | L20: 75613 | M20: 75153 | N20: 76860 | O20: 78668 | P20: 79339 | Q20: 82799 | R20: 87740 | S20: 91441 | T20: 92533
F21: střední vzdělávání s maturitní zkouškou | J21: 258975 | K21: 259030 | L21: 259262 | M21: 260499 | N21: 261600 | O21: 266365 | P21: 273818 | Q21: 283151 | R21: 294458 | S21: 304796 | T21: 311773
F22: nástavbové studium | J22: 8893 | K22: 8480 | L22: 7905 | M22: 7572 | N22: 7294 | O22: 7502 | P22: 8397 | Q22: 8424 | R22: 8424 | S22: 8470 | T22: 8912
E23: Privátní sektor | J23: 45899 | K23: 47320 | L23: 48661 | M23: 49100 | N23: 50708 | O23: 52949 | P23: 56501 | Q23: 60873 | R23: 65688 | S23: 69805 | T23: 72748
E24: v tom | F24: střední vzdělávání | J24: 217 | K24: 361 | L24: 511 | M24: 585 | N24: 577 | O24: 600 | P24: 664 | Q24: 687 | R24: 733 | S24: 773 | T24: 724
F25: střední vzdělávání s výučním listem | J25: 8682 | K25: 8792 | L25: 8963 | M25: 8548 | N25: 8867 | O25: 8855 | P25: 8786 | Q25: 8950 | R25: 9461 | S25: 9798 | T25: 9899
F26: střední vzdělávání s maturitní zkouškou | J26: 35724 | K26: 36986 | L26: 38082 | M26: 38967 | N26: 40296 | O26: 42412 | P26: 45764 | Q26: 49934 | R26: 54147 | S26: 57980 | T26: 60881
F27: nástavbové studium | J27: 1276 | K27: 1181 | L27: 1105 | M27: 1000 | N27: 968 | O27: 1082 | P27: 1287 | Q27: 1302 | R27: 1347 | S27: 1254 | T27: 1244
E28: Církev | J28: 9484 | K28: 9631 | L28: 9766 | M28: 9748 | N28: 9755 | O28: 9962 | P28: 10334 | Q28: 10751 | R28: 11098 | S28: 11362 | T28: 11587
E29: v tom | F29: střední vzdělávání | J29: 231 | K29: 259 | L29: 257 | M29: 220 | N29: 249 | O29: 233 | P29: 234 | Q29: 248 | R29: 254 | S29: 264 | T29: 276
F30: střední vzdělávání s výučním listem | J30: 306 | K30: 295 | L30: 288 | M30: 301 | N30: 348 | O30: 370 | P30: 438 | Q30: 501 | R30: 593 | S30: 637 | T30: 651
F31: střední vzdělávání s maturitní zkouškou | J31: 8860 | K31: 8993 | L31: 9147 | M31: 9147 | N31: 9061 | O31: 9269 | P31: 9558 | Q31: 9894 | R31: 10158 | S31: 10376 | T31: 10549
F32: nástavbové studium | J32: 87 | K32: 84 | L32: 74 | M32: 80 | N32: 97 | O32: 90 | P32: 104 | Q32: 108 | R32: 93 | S32: 85 | T32: 111
D33: Nově přijatí
E34: Celkem | J34: 108053 | K34: 107399 | L34: 107316 | M34: 107509 | N34: 110095 | O34: 112295 | P34: 118401 | Q34: 127446 | R34: 133942 | S34: 134552 | T34: 136194
E35: v tom | F35: střední vzdělávání | J35: 922 | K35: 1078 | L35: 1082 | M35: 993 | N35: 934 | O35: 944 | P35: 909 | Q35: 990 | R35: 1056 | S35: 1086 | T35: 1116
F36: střední vzdělávání s výučním listem1) | J36: 31173 | K36: 30177 | L36: 30328 | M36: 30435 | N36: 31902 | O36: 31590 | P36: 31313 | Q36: 36474 | R36: 38604 | S36: 37701 | T36: 38192
F37: střední vzdělávání s maturitní zkouškou1) | J37: 70156 | K37: 70700 | L37: 70796 | M37: 71224 | N37: 72593 | O37: 74771 | P37: 80525 | Q37: 84521 | R37: 88791 | S37: 90371 | T37: 91067
F38: nástavbové studium | J38: 5802 | K38: 5444 | L38: 5110 | M38: 4857 | N38: 4666 | O38: 4990 | P38: 5654 | Q38: 5461 | R38: 5491 | S38: 5394 | T38: 5819
E39: Veřejný | J39: 93218 | K39: 92269 | L39: 92026 | M39: 92271 | N39: 94021 | O39: 95619 | P39: 100037 | Q39: 107300 | R39: 112695 | S39: 113123 | T39: 113780
E40: v tom | F40: střední vzdělávání | J40: 744 | K40: 734 | L40: 730 | M40: 741 | N40: 687 | O40: 670 | P40: 662 | Q40: 664 | R40: 747 | S40: 732 | T40: 763
F41: střední vzdělávání s výučním listem | J41: 27931 | K41: 26872 | L41: 26893 | M41: 27156 | N41: 28351 | O41: 28266 | P41: 28137 | Q41: 32769 | R41: 34587 | S41: 33950 | T41: 34226
F42: střední vzdělávání s maturitní zkouškou | J42: 59465 | K42: 59895 | L42: 59943 | M42: 60115 | N42: 60901 | O42: 62392 | P42: 66379 | Q42: 69186 | R42: 72632 | S42: 73759 | T42: 73711
F43: nástavbové studium | J43: 5078 | K43: 4768 | L43: 4460 | M43: 4259 | N43: 4082 | O43: 4291 | P43: 4859 | Q43: 4681 | R43: 4729 | S43: 4682 | T43: 5080
E44: Privátní sektor | J44: 12913 | K44: 13149 | L44: 13347 | M44: 13297 | N44: 14010 | O44: 14637 | P44: 16144 | Q44: 17787 | R44: 18884 | S44: 19002 | T44: 19949
E45: v tom | F45: střední vzdělávání | J45: 88 | K45: 216 | L45: 257 | M45: 168 | N45: 150 | O45: 187 | P45: 159 | Q45: 227 | R45: 211 | S45: 247 | T45: 249
F46: střední vzdělávání s výučním listem | J46: 3142 | K46: 3209 | L46: 3341 | M46: 3171 | N46: 3399 | O46: 3201 | P46: 3007 | Q46: 3498 | R46: 3783 | S46: 3521 | T46: 3726
F47: střední vzdělávání s maturitní zkouškou | J47: 9012 | K47: 9097 | L47: 9139 | M47: 9414 | N47: 9928 | O47: 10593 | P47: 12244 | Q47: 13343 | R47: 14167 | S47: 14579 | T47: 15307
F48: nástavbové studium | J48: 671 | K48: 627 | L48: 610 | M48: 544 | N48: 533 | O48: 656 | P48: 734 | Q48: 719 | R48: 723 | S48: 655 | T48: 667
E49: Církev | J49: 1922 | K49: 1981 | L49: 1943 | M49: 1941 | N49: 2064 | O49: 2039 | P49: 2220 | Q49: 2359 | R49: 2363 | S49: 2427 | T49: 2465
E50: v tom | F50: střední vzdělávání | J50: 90 | K50: 128 | L50: 95 | M50: 84 | N50: 97 | O50: 87 | P50: 88 | Q50: 99 | R50: 98 | S50: 107 | T50: 104
F51: střední vzdělávání s výučním listem | J51: 100 | K51: 96 | L51: 94 | M51: 108 | N51: 152 | O51: 123 | P51: 169 | Q51: 207 | R51: 234 | S51: 230 | T51: 240
F52: střední vzdělávání s maturitní zkouškou | J52: 1679 | K52: 1708 | L52: 1714 | M52: 1695 | N52: 1764 | O52: 1786 | P52: 1902 | Q52: 1992 | R52: 1992 | S52: 2033 | T52: 2049
F53: nástavbové studium | J53: 53 | K53: 49 | L53: 40 | M53: 54 | N53: 51 | O53: 43 | P53: 61 | Q53: 61 | R53: 39 | S53: 57 | T53: 72
D54: Absolventi
E55: Celkem | J55: 74303 | K55: 74363 | L55: 74271 | M55: 75432 | N55: 80350 | O55: 85489 | P55: 81729 | Q55: 85597 | R55: 91796 | S55: 100227 | T55: .
E56: v tom | F56: střední vzdělávání | J56: 632 | K56: 604 | L56: 605 | M56: 635 | N56: 684 | O56: 588 | P56: 693 | Q56: 686 | R56: 714 | S56: 813 | T56: .
F57: střední vzdělávání s výučním listem1) | J57: 21335 | K57: 21304 | L57: 20902 | M57: 20263 | N57: 22094 | O57: 22897 | P57: 22187 | Q57: 22645 | R57: 24417 | S57: 29177 | T57: .
F58: střední vzdělávání s maturitní zkouškou1) | J58: 50782 | K58: 50810 | L58: 51154 | M58: 52933 | N58: 55629 | O58: 59694 | P58: 56673 | Q58: 59617 | R58: 63699 | S58: 67385 | T58: .
F59: nástavbové studium | J59: 1554 | K59: 1645 | L59: 1610 | M59: 1601 | N59: 1943 | O59: 2310 | P59: 2176 | Q59: 2649 | R59: 2966 | S59: 2852 | T59: .
E60: Veřejný | J60: 65288 | K60: 65162 | L60: 64545 | M60: 65493 | N60: 69655 | O60: 73904 | P60: 70210 | Q60: 73375 | R60: 78322 | S60: 84662 | T60: .
E61: v tom | F61: střední vzdělávání | J61: 508 | K61: 483 | L61: 472 | M61: 506 | N61: 510 | O61: 471 | P61: 499 | Q61: 520 | R61: 490 | S61: 547 | T61: .
F62: střední vzdělávání s výučním listem | J62: 19065 | K62: 18928 | L62: 18579 | M62: 18113 | N62: 19718 | O62: 20482 | P62: 19749 | Q62: 20275 | R62: 22099 | S62: 26177 | T62: .
F63: střední vzdělávání s maturitní zkouškou | J63: 44414 | K63: 44341 | L63: 44130 | M63: 45489 | N63: 47750 | O63: 50934 | P63: 48142 | Q63: 50371 | R63: 53263 | S63: 55550 | T63: .
F64: nástavbové studium | J64: 1301 | K64: 1410 | L64: 1364 | M64: 1385 | N64: 1677 | O64: 2017 | P64: 1820 | Q64: 2209 | R64: 2470 | S64: 2388 | T64: .
E65: Privátní sektor | J65: 7545 | K65: 7779 | L65: 8198 | M65: 8504 | N65: 9158 | O65: 9949 | P65: 9892 | Q65: 10511 | R65: 11600 | S65: 13670 | T65: .
E66: v tom | F66: střední vzdělávání | J66: 62 | K66: 62 | L66: 54 | M66: 87 | N66: 99 | O66: 62 | P66: 140 | Q66: 116 | R66: 164 | S66: 209 | T66: .
F67: střední vzdělávání s výučním listem | J67: 2170 | K67: 2292 | L67: 2238 | M67: 2067 | N67: 2289 | O67: 2320 | P67: 2310 | Q67: 2258 | R67: 2186 | S67: 2806 | T67: .
F68: střední vzdělávání s maturitní zkouškou | J68: 5082 | K68: 5205 | L68: 5679 | M68: 6145 | N68: 6524 | O68: 7314 | P68: 7114 | Q68: 7730 | R68: 8783 | S68: 10210 | T68: .
F69: nástavbové studium | J69: 231 | K69: 220 | L69: 227 | M69: 205 | N69: 246 | O69: 253 | P69: 328 | Q69: 407 | R69: 467 | S69: 445 | T69: .
E70: Církev | J70: 1470 | K70: 1422 | L70: 1528 | M70: 1435 | N70: 1537 | O70: 1636 | P70: 1627 | Q70: 1711 | R70: 1874 | S70: 1895 | T70: .
E71: v tom | F71: střední vzdělávání | J71: 62 | K71: 59 | L71: 79 | M71: 42 | N71: 75 | O71: 55 | P71: 54 | Q71: 50 | R71: 60 | S71: 57 | T71: .
F72: střední vzdělávání s výučním listem | J72: 100 | K72: 84 | L72: 85 | M72: 83 | N72: 87 | O72: 95 | P72: 128 | Q72: 112 | R72: 132 | S72: 194 | T72: .
F73: střední vzdělávání s maturitní zkouškou | J73: 1286 | K73: 1264 | L73: 1345 | M73: 1299 | N73: 1355 | O73: 1446 | P73: 1417 | Q73: 1516 | R73: 1653 | S73: 1625 | T73: .
F74: nástavbové studium | J74: 22 | K74: 15 | L74: 19 | M74: 11 | N74: 20 | O74: 40 | P74: 28 | Q74: 33 | R74: 29 | S74: 19 | T74: .
D75: Komentáře: | T75: Zdroj: databáze MŠMT
D76: 1) | E76: Údaje za střední vzdělávání s výučním listem a za střední vzdělávání s maturitní zkouškou jsou včetně zkráceného studia, komentář platí pro všechny zřizovatele.

Sheet B5.1.10
D4: Tab. B5.1.10: | H4: Střední školy, ostatní formy vzdělávání – žáci, nově přijatí a absolventi
B5: 18 | D5: ve školním roce 2015/16 až 2025/26 – podle zřizovatele a druhu vzdělávání
D7: Zřizovatel Druh vzdělávání | J7: 2015/16 | K7: 2016/17 | L7: 2017/18 | M7: 2018/19 | N7: 2019/20 | O7: 2020/21 | P7: 2021/22 | Q7: 2022/23 | R7: 2023/24 | S7: 2024/25 | T7: 2025/26
D12: Žáci
E13: Celkem | J13: 21476 | K13: 20762 | L13: 18517 | M13: 16857 | N13: 15750 | O13: 15604 | P13: 16038 | Q13: 15404 | R13: 15522 | S13: 15418 | T13: 15434
E14: v tom | F14: střední vzdělávání | J14: 39 | K14: 35 | L14: 33 | M14: 33 | N14: 22 | O14: 31 | P14: 38 | Q14: 29 | R14: 26 | S14: 25 | T14: 25
F15: střední vzdělávání s výučním listem1) | J15: 2187 | K15: 2503 | L15: 2573 | M15: 2588 | N15: 2708 | O15: 2748 | P15: 2693 | Q15: 2804 | R15: 2772 | S15: 2811 | T15: 2733
F16: střední vzdělávání s maturitní zkouškou1) | J16: 9069 | K16: 8991 | L16: 8509 | M16: 8085 | N16: 7859 | O16: 7961 | P16: 8143 | Q16: 7944 | R16: 8244 | S16: 8303 | T16: 8492
F17: nástavbové studium | J17: 10181 | K17: 9233 | L17: 7402 | M17: 6151 | N17: 5161 | O17: 4864 | P17: 5164 | Q17: 4627 | R17: 4480 | S17: 4279 | T17: 4184
E18: Veřejný | J18: 12050 | K18: 11033 | L18: 9168 | M18: 7752 | N18: 6713 | O18: 6368 | P18: 6442 | Q18: 5688 | R18: 5473 | S18: 5206 | T18: 4907
E19: v tom | F19: střední vzdělávání | J19: 0 | K19: 0 | L19: 0 | M19: 0 | N19: 0 | O19: 0 | P19: 0 | Q19: 0 | R19: 0 | S19: 0 | T19: 0
F20: střední vzdělávání s výučním listem | J20: 1394 | K20: 1551 | L20: 1602 | M20: 1622 | N20: 1731 | O20: 1736 | P20: 1699 | Q20: 1770 | R20: 1708 | S20: 1612 | T20: 1449
F21: střední vzdělávání s maturitní zkouškou | J21: 4164 | K21: 3666 | L21: 3205 | M21: 2731 | N21: 2434 | O21: 2333 | P21: 2254 | Q21: 1962 | R21: 1926 | S21: 1932 | T21: 1743
F22: nástavbové studium | J22: 6492 | K22: 5816 | L22: 4361 | M22: 3399 | N22: 2548 | O22: 2299 | P22: 2489 | Q22: 1956 | R22: 1839 | S22: 1662 | T22: 1715
E23: Privátní sektor | J23: 9058 | K23: 9344 | L23: 9032 | M23: 8756 | N23: 8731 | O23: 8906 | P23: 9251 | Q23: 9359 | R23: 9735 | S23: 9894 | T23: 10252
E24: v tom | F24: střední vzdělávání | J24: 39 | K24: 35 | L24: 33 | M24: 33 | N24: 22 | O24: 31 | P24: 38 | Q24: 29 | R24: 26 | S24: 25 | T24: 25
F25: střední vzdělávání s výučním listem | J25: 793 | K25: 933 | L25: 954 | M25: 941 | N25: 965 | O25: 997 | P25: 994 | Q25: 1020 | R25: 1051 | S25: 1175 | T25: 1284
F26: střední vzdělávání s maturitní zkouškou | J26: 4537 | K26: 4959 | L26: 5004 | M26: 5030 | N26: 5131 | O26: 5313 | P26: 5544 | Q26: 5639 | R26: 6017 | S26: 6077 | T26: 6474
F27: nástavbové studium | J27: 3689 | K27: 3417 | L27: 3041 | M27: 2752 | N27: 2613 | O27: 2565 | P27: 2675 | Q27: 2671 | R27: 2641 | S27: 2617 | T27: 2469
E28: Církev | J28: 368 | K28: 385 | L28: 317 | M28: 349 | N28: 306 | O28: 330 | P28: 345 | Q28: 357 | R28: 314 | S28: 318 | T28: 275
E29: v tom | F29: střední vzdělávání | J29: 0 | K29: 0 | L29: 0 | M29: 0 | N29: 0 | O29: 0 | P29: 0 | Q29: 0 | R29: 0 | S29: 0 | T29: 0
F30: střední vzdělávání s výučním listem | J30: 0 | K30: 19 | L30: 17 | M30: 25 | N30: 12 | O30: 15 | P30: 0 | Q30: 14 | R30: 13 | S30: 24 | T30: 0
F31: střední vzdělávání s maturitní zkouškou | J31: 368 | K31: 366 | L31: 300 | M31: 324 | N31: 294 | O31: 315 | P31: 345 | Q31: 343 | R31: 301 | S31: 294 | T31: 275
F32: nástavbové studium | J32: 0 | K32: 0 | L32: 0 | M32: 0 | N32: 0 | O32: 0 | P32: 0 | Q32: 0 | R32: 0 | S32: 0 | T32: 0
D33: Nově přijatí
E34: Celkem | J34: 8024 | K34: 8218 | L34: 6725 | M34: 6004 | N34: 6088 | O34: 5998 | P34: 6766 | Q34: 5970 | R34: 5974 | S34: 6061 | T34: 5963
E35: v tom | F35: střední vzdělávání | J35: 21 | K35: 20 | L35: 16 | M35: 17 | N35: 8 | O35: 22 | P35: 17 | Q35: 17 | R35: 16 | S35: 14 | T35: 13
F36: střední vzdělávání s výučním listem1) | J36: 837 | K36: 935 | L36: 1048 | M36: 1089 | N36: 1097 | O36: 1149 | P36: 1074 | Q36: 1093 | R36: 1139 | S36: 1131 | T36: 1097
F37: střední vzdělávání s maturitní zkouškou1) | J37: 2771 | K37: 2845 | L37: 2711 | M37: 2460 | N37: 2639 | O37: 2669 | P37: 2959 | Q37: 2746 | R37: 2649 | S37: 2784 | T37: 2892
F38: nástavbové studium | J38: 4395 | K38: 4418 | L38: 2950 | M38: 2438 | N38: 2344 | O38: 2158 | P38: 2716 | Q38: 2114 | R38: 2170 | S38: 2132 | T38: 1961
E39: Veřejný | J39: 4718 | K39: 4554 | L39: 3353 | M39: 2726 | N39: 2699 | O39: 2418 | P39: 2874 | Q39: 2138 | R39: 2099 | S39: 2082 | T39: 1850
E40: v tom | F40: střední vzdělávání | J40: 0 | K40: 0 | L40: 0 | M40: 0 | N40: 0 | O40: 0 | P40: 0 | Q40: 0 | R40: 0 | S40: 0 | T40: 0
F41: střední vzdělávání s výučním listem | J41: 552 | K41: 618 | L41: 706 | M41: 726 | N41: 788 | O41: 769 | P41: 744 | Q41: 700 | R41: 714 | S41: 647 | T41: 560
F42: střední vzdělávání s maturitní zkouškou | J42: 1382 | K42: 1107 | L42: 1013 | M42: 755 | N42: 785 | O42: 712 | P42: 843 | Q42: 624 | R42: 555 | S42: 658 | T42: 499
F43: nástavbové studium | J43: 2784 | K43: 2829 | L43: 1634 | M43: 1245 | N43: 1126 | O43: 937 | P43: 1287 | Q43: 814 | R43: 830 | S43: 777 | T43: 791
E44: Privátní sektor | J44: 3168 | K44: 3541 | L44: 3262 | M44: 3144 | N44: 3271 | O44: 3460 | P44: 3745 | Q44: 3683 | R44: 3761 | S44: 3866 | T44: 3969
E45: v tom | F45: střední vzdělávání | J45: 21 | K45: 20 | L45: 16 | M45: 17 | N45: 8 | O45: 22 | P45: 17 | Q45: 17 | R45: 16 | S45: 14 | T45: 13
F46: střední vzdělávání s výučním listem | J46: 285 | K46: 298 | L46: 342 | M46: 351 | N46: 309 | O46: 380 | P46: 330 | Q46: 379 | R46: 425 | S46: 484 | T46: 537
F47: střední vzdělávání s maturitní zkouškou | J47: 1251 | K47: 1634 | L47: 1588 | M47: 1583 | N47: 1736 | O47: 1837 | P47: 1969 | Q47: 1987 | R47: 1980 | S47: 2013 | T47: 2249
F48: nástavbové studium | J48: 1611 | K48: 1589 | L48: 1316 | M48: 1193 | N48: 1218 | O48: 1221 | P48: 1429 | Q48: 1300 | R48: 1340 | S48: 1355 | T48: 1170
E49: Církev | J49: 138 | K49: 123 | L49: 110 | M49: 134 | N49: 118 | O49: 120 | P49: 147 | Q49: 149 | R49: 114 | S49: 113 | T49: 144
E50: v tom | F50: střední vzdělávání | J50: 0 | K50: 0 | L50: 0 | M50: 0 | N50: 0 | O50: 0 | P50: 0 | Q50: 0 | R50: 0 | S50: 0 | T50: 0
F51: střední vzdělávání s výučním listem | J51: 0 | K51: 19 | L51: 0 | M51: 12 | N51: 0 | O51: 0 | P51: 0 | Q51: 14 | R51: 0 | S51: 0 | T51: 0
F52: střední vzdělávání s maturitní zkouškou | J52: 138 | K52: 104 | L52: 110 | M52: 122 | N52: 118 | O52: 120 | P52: 147 | Q52: 135 | R52: 114 | S52: 113 | T52: 144
F53: nástavbové studium | J53: 0 | K53: 0 | L53: 0 | M53: 0 | N53: 0 | O53: 0 | P53: 0 | Q53: 0 | R53: 0 | S53: 0 | T53: 0
D54: Absolventi
E55: Celkem | J55: 4082 | K55: 4239 | L55: 3785 | M55: 4045 | N55: 4112 | O55: 4523 | P55: 3763 | Q55: 3687 | R55: 3995 | S55: 3869 | T55: .
E56: v tom | F56: střední vzdělávání | J56: 13 | K56: 10 | L56: 13 | M56: 11 | N56: 9 | O56: 7 | P56: 17 | Q56: 10 | R56: 10 | S56: 9 | T56: .
F57: střední vzdělávání s výučním listem1) | J57: 760 | K57: 940 | L57: 1015 | M57: 1068 | N57: 1146 | O57: 1111 | P57: 1082 | Q57: 1113 | R57: 1084 | S57: 1148 | T57: .
F58: střední vzdělávání s maturitní zkouškou1) | J58: 1924 | K58: 2210 | L58: 1844 | M58: 1990 | N58: 2101 | O58: 2365 | P58: 1977 | Q58: 1818 | R58: 2044 | S58: 2039 | T58: .
F59: nástavbové studium | J59: 1385 | K59: 1079 | L59: 913 | M59: 976 | N59: 856 | O59: 1040 | P59: 687 | Q59: 746 | R59: 857 | S59: 673 | T59: .
E60: Veřejný | J60: 1987 | K60: 1953 | L60: 1607 | M60: 1827 | N60: 1596 | O60: 1785 | P60: 1402 | Q60: 1354 | R60: 1338 | S60: 1354 | T60: .
E61: v tom | F61: střední vzdělávání | J61: 0 | K61: 0 | L61: 0 | M61: 0 | N61: 0 | O61: 0 | P61: 0 | Q61: 0 | R61: 0 | S61: 0 | T61: .
F62: střední vzdělávání s výučním listem | J62: 541 | K62: 661 | L62: 648 | M62: 756 | N62: 770 | O62: 736 | P62: 717 | Q62: 757 | R62: 689 | S62: 712 | T62: .
F63: střední vzdělávání s maturitní zkouškou | J63: 631 | K63: 709 | L63: 492 | M63: 573 | N63: 495 | O63: 609 | P63: 410 | Q63: 364 | R63: 357 | S63: 429 | T63: .
F64: nástavbové studium | J64: 815 | K64: 583 | L64: 467 | M64: 498 | N64: 331 | O64: 440 | P64: 275 | Q64: 233 | R64: 292 | S64: 213 | T64: .
E65: Privátní sektor | J65: 2010 | K65: 2144 | L65: 2116 | M65: 2109 | N65: 2440 | O65: 2636 | P65: 2284 | Q65: 2213 | R65: 2537 | S65: 2372 | T65: .
E66: v tom | F66: střední vzdělávání | J66: 13 | K66: 10 | L66: 13 | M66: 11 | N66: 9 | O66: 7 | P66: 17 | Q66: 10 | R66: 10 | S66: 9 | T66: .
F67: střední vzdělávání s výučním listem | J67: 219 | K67: 279 | L67: 367 | M67: 298 | N67: 376 | O67: 364 | P67: 365 | Q67: 356 | R67: 395 | S67: 415 | T67: .
F68: střední vzdělávání s maturitní zkouškou | J68: 1208 | K68: 1359 | L68: 1290 | M68: 1322 | N68: 1530 | O68: 1665 | P68: 1490 | Q68: 1334 | R68: 1567 | S68: 1488 | T68: .
F69: nástavbové studium | J69: 570 | K69: 496 | L69: 446 | M69: 478 | N69: 525 | O69: 600 | P69: 412 | Q69: 513 | R69: 565 | S69: 460 | T69: .
E70: Církev | J70: 85 | K70: 142 | L70: 62 | M70: 109 | N70: 76 | O70: 102 | P70: 77 | Q70: 120 | R70: 120 | S70: 143 | T70: .
E71: v tom | F71: střední vzdělávání | J71: 0 | K71: 0 | L71: 0 | M71: 0 | N71: 0 | O71: 0 | P71: 0 | Q71: 0 | R71: 0 | S71: 0 | T71: .
F72: střední vzdělávání s výučním listem | J72: 0 | K72: 0 | L72: 0 | M72: 14 | N72: 0 | O72: 11 | P72: 0 | Q72: 0 | R72: 0 | S72: 21 | T72: .
F73: střední vzdělávání s maturitní zkouškou | J73: 85 | K73: 142 | L73: 62 | M73: 95 | N73: 76 | O73: 91 | P73: 77 | Q73: 120 | R73: 120 | S73: 122 | T73: .
F74: nástavbové studium | J74: 0 | K74: 0 | L74: 0 | M74: 0 | N74: 0 | O74: 0 | P74: 0 | Q74: 0 | R74: 0 | S74: 0 | T74: .
D75: Komentáře: | T75: Zdroj: databáze MŠMT
D76: 1) | E76: Údaje za střední vzdělávání s výučním listem a za střední vzdělávání s maturitní zkouškou jsou včetně zkráceného studia, komentář platí pro všechny zřizovatele.

Sheet B5.1.11
D4: Tab. B5.1.11: | H4: Střední školy – počet podaných přihlášek v 1. kole přijímacího řízení do denní formy
B5: 6 | D5: vzdělávání ve školním roce 2015/16 až 2025/26 – podle zřizovatele a druhu vzdělávání
D7: Zřizovatel Druh vzdělávání | J7: 2015/16 | K7: 2016/17 | L7: 2017/18 | M7: 2018/19 | N7: 2019/20 | O7: 2020/21 | P7: 2021/22 | Q7: 2022/23 | R7: 2023/24 | S7: 2024/25 | T7: 2025/26
J11: 3) | K11: 3) | L11: 3) | M11: 3) | N11: 3) | O11: 3) | P11: 4) | Q11: 4) | R11: 4) | S11: 4) | T11: 4)
D12: Počet podaných přihlášek v prvním kole přijímacího řízení do denní formy vzdělávání1)
E13: Celkem | J13: 185375 | K13: 190000 | L13: 197182 | M13: 203219 | N13: 212963 | O13: . | P13: . | Q13: . | R13: . | S13: . | T13: .
E14: v tom | F14: střední vzdělávání s maturitní zkouškou | J14: 138712 | K14: 143434 | L14: 150682 | M14: 155738 | N14: 163130 | O14: . | P14: . | Q14: . | R14: . | S14: . | T14: .
G15: z toho víceletá gymnázia | J15: 30383 | K15: 32583 | L15: 37308 | M15: 40587 | N15: 43789 | O15: . | P15: . | Q15: . | R15: . | S15: . | T15: .
F16: bez maturitní zkoušky2) | J16: 46663 | K16: 46566 | L16: 46500 | M16: 47481 | N16: 49833 | O16: . | P16: . | Q16: . | R16: . | S16: . | T16: .
E17: Veřejný | J17: 162983 | K17: 166551 | L17: 174198 | M17: 179160 | N17: 187239 | O17: . | P17: . | Q17: . | R17: . | S17: . | T17: .
E18: v tom | F18: střední vzdělávání s maturitní zkouškou | J18: 120624 | K18: 124552 | L18: 132224 | M18: 136317 | N18: 142351 | O18: . | P18: . | Q18: . | R18: . | S18: . | T18: .
G19: z toho víceletá gymnázia | J19: 26345 | K19: 28039 | L19: 32081 | M19: 34950 | N19: 37884 | O19: . | P19: . | Q19: . | R19: . | S19: . | T19: .
F20: bez maturitní zkoušky2) | J20: 42359 | K20: 41999 | L20: 41974 | M20: 42843 | N20: 44888 | O20: . | P20: . | Q20: . | R20: . | S20: . | T20: .
E21: Privátní sektor | J21: 18146 | K21: 19029 | L21: 18416 | M21: 19266 | N21: 20857 | O21: . | P21: . | Q21: . | R21: . | S21: . | T21: .
E22: v tom | F22: střední vzdělávání s maturitní zkouškou | J22: 14099 | K22: 14686 | L22: 14121 | M22: 14863 | N22: 16202 | O22: . | P22: . | Q22: . | R22: . | S22: . | T22: .
G23: z toho víceletá gymnázia | J23: 2047 | K23: 2364 | L23: 2769 | M23: 2976 | N23: 3226 | O23: . | P23: . | Q23: . | R23: . | S23: . | T23: .
F24: bez maturity2) | J24: 4047 | K24: 4343 | L24: 4295 | M24: 4403 | N24: 4655 | O24: . | P24: . | Q24: . | R24: . | S24: . | T24: .
E25: Církev | J25: 4246 | K25: 4420 | L25: 4568 | M25: 4793 | N25: 4867 | O25: . | P25: . | Q25: . | R25: . | S25: . | T25: .
E26: v tom | F26: střední vzdělávání s maturitní zkouškou | J26: 3989 | K26: 4196 | L26: 4337 | M26: 4558 | N26: 4577 | O26: . | P26: . | Q26: . | R26: . | S26: . | T26: .
G27: z toho víceletá gymnázia | J27: 1991 | K27: 2180 | L27: 2458 | M27: 2661 | N27: 2679 | O27: . | P27: . | Q27: . | R27: . | S27: . | T27: .
F28: bez maturitní zkoušky2) | J28: 257 | K28: 224 | L28: 231 | M28: 235 | N28: 290 | O28: . | P28: . | Q28: . | R28: . | S28: . | T28: .
D29: Komentáře: | T29: Zdroj: databáze MŠMT
D30: 1) | E30: Data bez nástavbového a zkráceného studia.
D31: 2) | E31: Střední vzdělávání a střední vzdělávání s výučním listem.
D32: 3) | E32: Od školního roku 2012/13 v rámci prvního kola přijímacího řízení byl systém přijímacího řízení změněn a žáci si mohli podat pouze 2 přihlášky.
D33: 4) | E33: Výkaz S 5-01 se v roce 2020 a 2021 nepředával z důvodu pandemie COVID-19 a v roce 2022 byl zrušen.

Sheet B5.1.12
D4: Tab. B5.1.12: | H4: Střední školy – počet přijatých přihlášek v 1. kole přijímacího řízení do denní
B5: 6 | D5: formy vzdělávání ve školním roce 2015/16 až 2025/26 – podle zřizovatele a druhu vzdělávání
D7: Zřizovatel Druh vzdělávání | J7: 2015/16 | K7: 2016/17 | L7: 2017/18 | M7: 2018/19 | N7: 2019/20 | O7: 2020/21 | P7: 2021/22 | Q7: 2022/23 | R7: 2023/24 | S7: 2024/25 | T7: 2025/26
J11: 3) | K11: 3) | L11: 3) | M11: 3) | N11: 3) | O11: 3) | P11: 4) | Q11: 4) | R11: 4) | S11: 4) | T11: 4)
D12: Počet přijatých přihlášek v prvním kole přijímacího řízení (červen) do denní formy vzdělávání1)
E13: Celkem | J13: 135382 | K13: 137653 | L13: 138787 | M13: 140239 | N13: 143568 | O13: . | P13: . | Q13: . | R13: . | S13: . | T13: .
E14: v tom | F14: střední vzdělávání s maturitní zkouškou | J14: 94372 | K14: 96318 | L14: 97595 | M14: 98278 | N14: 100042 | O14: . | P14: . | Q14: . | R14: . | S14: . | T14: .
G15: z toho víceletá gymnázia | J15: 13032 | K15: 13226 | L15: 14336 | M15: 14680 | N15: 15215 | O15: . | P15: . | Q15: . | R15: . | S15: . | T15: .
F16: bez maturitní zkoušky2) | J16: 41010 | K16: 41335 | L16: 41192 | M16: 41961 | N16: 43526 | O16: . | P16: . | Q16: . | R16: . | S16: . | T16: .
E17: Veřejný | J17: 118741 | K17: 120371 | L17: 122204 | M17: 123113 | N17: 125879 | O17: . | P17: . | Q17: . | R17: . | S17: . | T17: .
E18: v tom | F18: střední vzdělávání s maturitní zkouškou | J18: 81286 | K18: 82904 | L18: 84736 | M18: 84972 | N18: 86355 | O18: . | P18: . | Q18: . | R18: . | S18: . | T18: .
G19: z toho víceletá gymnázia | J19: 10910 | K19: 10971 | L19: 11851 | M19: 12269 | N19: 12760 | O19: . | P19: . | Q19: . | R19: . | S19: . | T19: .
F20: bez maturity2) | J20: 37455 | K20: 37467 | L20: 37468 | M20: 38141 | N20: 39524 | O20: . | P20: . | Q20: . | R20: . | S20: . | T20: .
E21: Privátní sektor | J21: 14307 | K21: 14961 | L21: 14326 | M21: 14787 | N21: 15242 | O21: . | P21: . | Q21: . | R21: . | S21: . | T21: .
E22: v tom | F22: střední vzdělávání s maturitní zkouškou | J22: 10979 | K22: 11305 | L22: 10796 | M22: 11187 | N22: 11502 | O22: . | P22: . | Q22: . | R22: . | S22: . | T22: .
G23: z toho víceletá gymnázia | J23: 1348 | K23: 1432 | L23: 1614 | M23: 1554 | N23: 1546 | O23: . | P23: . | Q23: . | R23: . | S23: . | T23: .
F24: bez maturitní zkoušky2) | J24: 3328 | K24: 3656 | L24: 3530 | M24: 3600 | N24: 3740 | O24: . | P24: . | Q24: . | R24: . | S24: . | T24: .
E25: Církev | J25: 2334 | K25: 2321 | L25: 2257 | M25: 2339 | N25: 2447 | O25: . | P25: . | Q25: . | R25: . | S25: . | T25: .
E26: v tom | F26: střední vzdělávání s maturitní zkouškou | J26: 2107 | K26: 2109 | L26: 2063 | M26: 2119 | N26: 2185 | O26: . | P26: . | Q26: . | R26: . | S26: . | T26: .
G27: z toho víceletá gymnázia | J27: 774 | K27: 823 | L27: 871 | M27: 857 | N27: 909 | O27: . | P27: . | Q27: . | R27: . | S27: . | T27: .
F28: bez maturitní zkoušky2) | J28: 227 | K28: 212 | L28: 194 | M28: 220 | N28: 262 | O28: . | P28: . | Q28: . | R28: . | S28: . | T28: .
D29: Komentáře: | T29: Zdroj: databáze MŠMT
D30: 1) | E30: Data bez nástavbového a zkráceného studia.
D31: 2) | E31: Střední vzdělávání a střední vzdělávání s výučním listem.
D32: 3) | E32: Od školního roku 2012/13 v rámci prvního kola přijímacího řízení byl systém přijímacího řízení změněn a žáci si mohli podat pouze 2 přihlášky.
D33: 4) | E33: Výkaz S 5-01 se v roce 2020 a 2021 nepředával z důvodu pandemie COVID-19 a v roce 2022 byl zrušen.

Sheet B5.1.13
D4: Tab. B5.1.13: | H4: Střední školy – úspěšnost v 1. kole přijímacího řízení do denní
B5: 6 | D5: formy vzdělávání ve školním roce 2015/16 až 2025/26 – podle zřizovatele a druhu vzdělávání
D7: Zřizovatel Druh vzdělávání | J7: 2015/16 | K7: 2016/17 | L7: 2017/18 | M7: 2018/19 | N7: 2019/20 | O7: 2020/21 | P7: 2021/22 | Q7: 2022/23 | R7: 2023/24 | S7: 2024/25 | T7: 2025/26
J11: 3) | K11: 3) | L11: 3) | M11: 3) | N11: 3) | O11: 3) | P11: 4) | Q11: 4) | R11: 4) | S11: 4) | T11: 4)
D12: Úspěšnost v prvním kole přijímacího řízení do denní formy vzdělávání1)
E13: Celkem | J13: 0.73031423 | K13: 0.72448947 | L13: 0.70385228 | M13: 0.69008803 | N13: 0.67414527 | O13: . | P13: . | Q13: . | R13: . | S13: . | T13: .
E14: v tom | F14: střední vzdělávání s maturitní zkouškou | J14: 0.68034489 | K14: 0.67151442 | L14: 0.64768851 | M14: 0.63104701 | N14: 0.61326549 | O14: . | P14: . | Q14: . | R14: . | S14: . | T14: .
G15: z toho víceletá gymnázia | J15: 0.42892407 | K15: 0.4059172 | L15: 0.38426075 | M15: 0.36169217 | N15: 0.34746169 | O15: . | P15: . | Q15: . | R15: . | S15: . | T15: .
F16: bez maturitní zkoušky2) | J16: 0.87885477 | K16: 0.88766482 | L16: 0.88584946 | M16: 0.88374297 | N16: 0.87343728 | O16: . | P16: . | Q16: . | R16: . | S16: . | T16: .
E17: Veřejný | J17: 0.72854838 | K17: 0.72272757 | L17: 0.70152355 | M17: 0.68716789 | N17: 0.6722905 | O17: . | P17: . | Q17: . | R17: . | S17: . | T17: .
E18: v tom | F18: střední vzdělávání s maturitní zkouškou | J18: 0.67387916 | K18: 0.66561757 | L18: 0.64085189 | M18: 0.62334118 | N18: 0.60663431 | O18: . | P18: . | Q18: . | R18: . | S18: . | T18: .
G19: z toho víceletá gymnázia | J19: 0.41412033 | K19: 0.39127644 | L19: 0.36940868 | M19: 0.35104435 | N19: 0.33681765 | O19: . | P19: . | Q19: . | R19: . | S19: . | T19: .
F20: bez maturity2) | J20: 0.88422767 | K20: 0.89209267 | L20: 0.89264783 | M20: 0.89025045 | N20: 0.88050258 | O20: . | P20: . | Q20: . | R20: . | S20: . | T20: .
E21: Privátní sektor | J21: 0.78843822 | K21: 0.78622103 | L21: 0.77791051 | M21: 0.76751791 | N21: 0.73078583 | O21: . | P21: . | Q21: . | R21: . | S21: . | T21: .
E22: v tom | F22: střední vzdělávání s maturitní zkouškou | J22: 0.77870771 | K22: 0.76978074 | L22: 0.76453509 | M22: 0.75267443 | N22: 0.70991236 | O22: . | P22: . | Q22: . | R22: . | S22: . | T22: .
G23: z toho víceletá gymnázia | J23: 0.65852467 | K23: 0.60575296 | L23: 0.58288191 | M23: 0.52217742 | N23: 0.47923125 | O23: . | P23: . | Q23: . | R23: . | S23: . | T23: .
F24: bez maturitní zkoušky2) | J24: 0.82233753 | K24: 0.84181441 | L24: 0.82188591 | M24: 0.81762435 | N24: 0.80343716 | O24: . | P24: . | Q24: . | R24: . | S24: . | T24: .
E25: Církev | J25: 0.54969383 | K25: 0.52511312 | L25: 0.49408932 | M25: 0.48800334 | N25: 0.50277378 | O25: . | P25: . | Q25: . | R25: . | S25: . | T25: .
E26: v tom | F26: střední vzdělávání s maturitní zkouškou | J26: 0.52820256 | K26: 0.50262154 | L26: 0.47567443 | M26: 0.46489688 | N26: 0.47738693 | O26: . | P26: . | Q26: . | R26: . | S26: . | T26: .
G27: z toho víceletá gymnázia | J27: 0.38874937 | K27: 0.37752294 | L27: 0.35435313 | M27: 0.32205938 | N27: 0.33930571 | O27: . | P27: . | Q27: . | R27: . | S27: . | T27: .
F28: bez maturitní zkoušky2) | J28: 0.88326848 | K28: 0.94642857 | L28: 0.83982684 | M28: 0.93617021 | N28: 0.90344828 | O28: . | P28: . | Q28: . | R28: . | S28: . | T28: .
D29: Komentáře: | T29: Zdroj: databáze MŠMT
D30: 1) | E30: Data bez nástavbového a zkráceného studia.
D31: 2) | E31: Střední vzdělávání a střední vzdělávání s výučním listem.
D32: 3) | E32: Od školního roku 2012/13 v rámci prvního kola přijímacího řízení byl systém přijímacího řízení změněn a žáci si mohli podat pouze 2 přihlášky.
D33: 4) | E33: Výkaz S 5-01 se v roce 2020 a 2021 nepředával z důvodu pandemie COVID-19 a v roce 2022 byl zrušen.

Sheet B5.1.14
D4: Tab. B5.1.14: | H4: Střední školy – žáci
B5: 18 | D5: ve školním roce 2015/16 až 2025/26 – podle území a formy vzdělávání
D7: Území Forma vzdělávání | J7: 2015/16 | K7: 2016/17 | L7: 2017/18 | M7: 2018/19 | N7: 2019/20 | O7: 2020/21 | P7: 2021/22 | Q7: 2022/23 | R7: 2023/24 | S7: 2024/25 | T7: 2025/26
D12: Všechny formy vzdělávání
E13: Česká republika | H13: CZ0 | J13: 427107 | K13: 424849 | L13: 421535 | M13: 420814 | N13: 423838 | O13: 432906 | P13: 446254 | Q13: 463200 | R13: 484758 | S13: 503189 | T13: 514881
E14: Praha | H14: CZ01 | J14: 61598 | K14: 63262 | L14: 64060 | M14: 65022 | N14: 66762 | O14: 68651 | P14: 71376 | Q14: 73984 | R14: 76845 | S14: 80073 | T14: 82684
F15: Hlavní město Praha | H15: CZ010 | J15: 61598 | K15: 63262 | L15: 64060 | M15: 65022 | N15: 66762 | O15: 68651 | P15: 71376 | Q15: 73984 | R15: 76845 | S15: 80073 | T15: 82684
E16: Střední Čechy | H16: CZ02 | J16: 40067 | K16: 39885 | L16: 39468 | M16: 39506 | N16: 39706 | O16: 40588 | P16: 42592 | Q16: 45157 | R16: 48501 | S16: 51203 | T16: 52731
F17: Středočeský kraj | H17: CZ020 | J17: 40067 | K17: 39885 | L17: 39468 | M17: 39506 | N17: 39706 | O17: 40588 | P17: 42592 | Q17: 45157 | R17: 48501 | S17: 51203 | T17: 52731
E18: Jihozápad | H18: CZ03 | J18: 49335 | K18: 49006 | L18: 48642 | M18: 48623 | N18: 49243 | O18: 50099 | P18: 52102 | Q18: 54321 | R18: 56940 | S18: 59594 | T18: 61275
F19: Jihočeský kraj | H19: CZ031 | J19: 27586 | K19: 27076 | L19: 26583 | M19: 26633 | N19: 26940 | O19: 27250 | P19: 28319 | Q19: 29356 | R19: 30440 | S19: 31744 | T19: 32471
F20: Plzeňský kraj | H20: CZ032 | J20: 21749 | K20: 21930 | L20: 22059 | M20: 21990 | N20: 22303 | O20: 22849 | P20: 23783 | Q20: 24965 | R20: 26500 | S20: 27850 | T20: 28804
E21: Severozápad | H21: CZ04 | J21: 44463 | K21: 43985 | L21: 43131 | M21: 42692 | N21: 42613 | O21: 43417 | P21: 44412 | Q21: 45875 | R21: 47832 | S21: 49399 | T21: 50324
F22: Karlovarský kraj | H22: CZ041 | J22: 10989 | K22: 10994 | L22: 10743 | M22: 10541 | N22: 10492 | O22: 10512 | P22: 10682 | Q22: 10987 | R22: 11471 | S22: 11863 | T22: 12247
F23: Ústecký kraj | H23: CZ042 | J23: 33474 | K23: 32991 | L23: 32388 | M23: 32151 | N23: 32121 | O23: 32905 | P23: 33730 | Q23: 34888 | R23: 36361 | S23: 37536 | T23: 38077
E24: Severovýchod | H24: CZ05 | J24: 61517 | K24: 61180 | L24: 60442 | M24: 59975 | N24: 60255 | O24: 61763 | P24: 63383 | Q24: 65994 | R24: 69207 | S24: 71659 | T24: 73160
F25: Liberecký kraj | H25: CZ051 | J25: 15916 | K25: 15699 | L25: 15462 | M25: 15583 | N25: 15758 | O25: 16274 | P25: 16581 | Q25: 17328 | R25: 18242 | S25: 18994 | T25: 19446
F26: Královéhradecký kraj | H26: CZ052 | J26: 23881 | K26: 23652 | L26: 23184 | M26: 22522 | N26: 22455 | O26: 22956 | P26: 23655 | Q26: 24609 | R26: 25868 | S26: 26811 | T26: 27466
F27: Pardubický kraj | H27: CZ053 | J27: 21720 | K27: 21829 | L27: 21796 | M27: 21870 | N27: 22042 | O27: 22533 | P27: 23147 | Q27: 24057 | R27: 25097 | S27: 25854 | T27: 26248
E28: Jihovýchod | H28: CZ06 | J28: 68671 | K28: 67729 | L28: 67194 | M28: 66942 | N28: 67162 | O28: 68706 | P28: 70221 | Q28: 72841 | R28: 76046 | S28: 78983 | T28: 81052
F29: Kraj Vysočina | H29: CZ063 | J29: 21976 | K29: 21545 | L29: 21274 | M29: 21331 | N29: 21407 | O29: 21944 | P29: 22243 | Q29: 22978 | R29: 24000 | S29: 24777 | T29: 25464
F30: Jihomoravský kraj | H30: CZ064 | J30: 46695 | K30: 46184 | L30: 45920 | M30: 45611 | N30: 45755 | O30: 46762 | P30: 47978 | Q30: 49863 | R30: 52046 | S30: 54206 | T30: 55588
E31: Střední Morava | H31: CZ07 | J31: 51588 | K31: 51275 | L31: 50936 | M31: 50896 | N31: 50911 | O31: 51845 | P31: 53147 | Q31: 54679 | R31: 57034 | S31: 58494 | T31: 59405
F32: Olomoucký kraj | H32: CZ071 | J32: 27437 | K32: 27158 | L32: 26880 | M32: 26754 | N32: 26742 | O32: 27266 | P32: 27965 | Q32: 28853 | R32: 30154 | S32: 31038 | T32: 31582
F33: Zlínský kraj | H33: CZ072 | J33: 24151 | K33: 24117 | L33: 24056 | M33: 24142 | N33: 24169 | O33: 24579 | P33: 25182 | Q33: 25826 | R33: 26880 | S33: 27456 | T33: 27823
E34: Moravskoslezsko | H34: CZ08 | J34: 49868 | K34: 48527 | L34: 47662 | M34: 47158 | N34: 47186 | O34: 47837 | P34: 49021 | Q34: 50349 | R34: 52353 | S34: 53784 | T34: 54250
F35: Moravskoslezský kraj | H35: CZ080 | J35: 49868 | K35: 48527 | L35: 47662 | M35: 47158 | N35: 47186 | O35: 47837 | P35: 49021 | Q35: 50349 | R35: 52353 | S35: 53784 | T35: 54250
D36: Denní forma vzdělávání
E37: Česká republika | H37: CZ0 | J37: 405631 | K37: 404087 | L37: 403018 | M37: 403957 | N37: 408088 | O37: 417302 | P37: 430216 | Q37: 447796 | R37: 469236 | S37: 487771 | T37: 499447
E38: Praha | H38: CZ01 | J38: 56901 | K38: 58270 | L38: 59460 | M38: 60643 | N38: 62441 | O38: 64470 | P38: 67161 | Q38: 69687 | R38: 72434 | S38: 75501 | T38: 77876
F39: Hlavní město Praha | H39: CZ010 | J39: 56901 | K39: 58270 | L39: 59460 | M39: 60643 | N39: 62441 | O39: 64470 | P39: 67161 | Q39: 69687 | R39: 72434 | S39: 75501 | T39: 77876
E40: Střední Čechy | H40: CZ02 | J40: 37534 | K40: 37328 | L40: 37350 | M40: 37477 | N40: 37868 | O40: 38773 | P40: 40588 | Q40: 43224 | R40: 46495 | S40: 49371 | T40: 50952
F41: Středočeský kraj | H41: CZ020 | J41: 37534 | K41: 37328 | L41: 37350 | M41: 37477 | N41: 37868 | O41: 38773 | P41: 40588 | Q41: 43224 | R41: 46495 | S41: 49371 | T41: 50952
E42: Jihozápad | H42: CZ03 | J42: 47321 | K42: 47206 | L42: 46982 | M42: 47119 | N42: 47803 | O42: 48770 | P42: 50647 | Q42: 52948 | R42: 55543 | S42: 58090 | T42: 59741
F43: Jihočeský kraj | H43: CZ031 | J43: 26432 | K43: 26127 | L43: 25822 | M43: 25939 | N43: 26291 | O43: 26670 | P43: 27620 | Q43: 28758 | R43: 29863 | S43: 31196 | T43: 31925
F44: Plzeňský kraj | H44: CZ032 | J44: 20889 | K44: 21079 | L44: 21160 | M44: 21180 | N44: 21512 | O44: 22100 | P44: 23027 | Q44: 24190 | R44: 25680 | S44: 26894 | T44: 27816
E45: Severozápad | H45: CZ04 | J45: 42364 | K45: 42011 | L45: 41438 | M45: 41124 | N45: 41267 | O45: 41961 | P45: 42920 | Q45: 44500 | R45: 46425 | S45: 48095 | T45: 49086
F46: Karlovarský kraj | H46: CZ041 | J46: 10634 | K46: 10615 | L46: 10460 | M46: 10271 | N46: 10274 | O46: 10292 | P46: 10442 | Q46: 10783 | R46: 11254 | S46: 11686 | T46: 12039
F47: Ústecký kraj | H47: CZ042 | J47: 31730 | K47: 31396 | L47: 30978 | M47: 30853 | N47: 30993 | O47: 31669 | P47: 32478 | Q47: 33717 | R47: 35171 | S47: 36409 | T47: 37047
E48: Severovýchod | H48: CZ05 | J48: 59253 | K48: 59018 | L48: 58540 | M48: 58206 | N48: 58596 | O48: 59993 | P48: 61798 | Q48: 64479 | R48: 67742 | S48: 70209 | T48: 71750
F49: Liberecký kraj | H49: CZ051 | J49: 15409 | K49: 15184 | L49: 15042 | M49: 15195 | N49: 15410 | O49: 15923 | P49: 16282 | Q49: 17046 | R49: 17982 | S49: 18736 | T49: 19202
F50: Královéhradecký kraj | H50: CZ052 | J50: 23120 | K50: 23008 | L50: 22696 | M50: 22069 | N50: 22076 | O50: 22524 | P50: 23287 | Q50: 24314 | R50: 25524 | S50: 26492 | T50: 27108
F51: Pardubický kraj | H51: CZ053 | J51: 20724 | K51: 20826 | L51: 20802 | M51: 20942 | N51: 21110 | O51: 21546 | P51: 22229 | Q51: 23119 | R51: 24236 | S51: 24981 | T51: 25440
E52: Jihovýchod | H52: CZ06 | J52: 65346 | K52: 64566 | L52: 64289 | M52: 64403 | N52: 64787 | O52: 66408 | P52: 67897 | Q52: 70656 | R52: 73891 | S52: 76795 | T52: 78779
F53: Kraj Vysočina | H53: CZ063 | J53: 20343 | K53: 19900 | L53: 19673 | M53: 19796 | N53: 19896 | O53: 20438 | P53: 20719 | Q53: 21484 | R53: 22515 | S53: 23314 | T53: 23960
F54: Jihomoravský kraj | H54: CZ064 | J54: 45003 | K54: 44666 | L54: 44616 | M54: 44607 | N54: 44891 | O54: 45970 | P54: 47178 | Q54: 49172 | R54: 51376 | S54: 53481 | T54: 54819
E55: Střední Morava | H55: CZ07 | J55: 49677 | K55: 49440 | L55: 49247 | M55: 49345 | N55: 49499 | O55: 50460 | P55: 51704 | Q55: 53329 | R55: 55730 | S55: 57244 | T55: 58223
F56: Olomoucký kraj | H56: CZ071 | J56: 26303 | K56: 26094 | L56: 25940 | M56: 25976 | N56: 26054 | O56: 26554 | P56: 27259 | Q56: 28210 | R56: 29538 | S56: 30472 | T56: 31035
F57: Zlínský kraj | H57: CZ072 | J57: 23374 | K57: 23346 | L57: 23307 | M57: 23369 | N57: 23445 | O57: 23906 | P57: 24445 | Q57: 25119 | R57: 26192 | S57: 26772 | T57: 27188
E58: Moravskoslezsko | H58: CZ08 | J58: 47235 | K58: 46248 | L58: 45712 | M58: 45640 | N58: 45827 | O58: 46467 | P58: 47501 | Q58: 48973 | R58: 50976 | S58: 52466 | T58: 53040
F59: Moravskoslezský kraj | H59: CZ080 | J59: 47235 | K59: 46248 | L59: 45712 | M59: 45640 | N59: 45827 | O59: 46467 | P59: 47501 | Q59: 48973 | R59: 50976 | S59: 52466 | T59: 53040
D60: Ostatní formy vzdělávání
E61: Česká republika | H61: CZ0 | J61: 21476 | K61: 20762 | L61: 18517 | M61: 16857 | N61: 15750 | O61: 15604 | P61: 16038 | Q61: 15404 | R61: 15522 | S61: 15418 | T61: 15434
E62: Praha | H62: CZ01 | J62: 4697 | K62: 4992 | L62: 4600 | M62: 4379 | N62: 4321 | O62: 4181 | P62: 4215 | Q62: 4297 | R62: 4411 | S62: 4572 | T62: 4808
F63: Hlavní město Praha | H63: CZ010 | J63: 4697 | K63: 4992 | L63: 4600 | M63: 4379 | N63: 4321 | O63: 4181 | P63: 4215 | Q63: 4297 | R63: 4411 | S63: 4572 | T63: 4808
E64: Střední Čechy | H64: CZ02 | J64: 2533 | K64: 2557 | L64: 2118 | M64: 2029 | N64: 1838 | O64: 1815 | P64: 2004 | Q64: 1933 | R64: 2006 | S64: 1832 | T64: 1779
F65: Středočeský kraj | H65: CZ020 | J65: 2533 | K65: 2557 | L65: 2118 | M65: 2029 | N65: 1838 | O65: 1815 | P65: 2004 | Q65: 1933 | R65: 2006 | S65: 1832 | T65: 1779
E66: Jihozápad | H66: CZ03 | J66: 2014 | K66: 1800 | L66: 1660 | M66: 1504 | N66: 1440 | O66: 1329 | P66: 1455 | Q66: 1373 | R66: 1397 | S66: 1504 | T66: 1534
F67: Jihočeský kraj | H67: CZ031 | J67: 1154 | K67: 949 | L67: 761 | M67: 694 | N67: 649 | O67: 580 | P67: 699 | Q67: 598 | R67: 577 | S67: 548 | T67: 546
F68: Plzeňský kraj | H68: CZ032 | J68: 860 | K68: 851 | L68: 899 | M68: 810 | N68: 791 | O68: 749 | P68: 756 | Q68: 775 | R68: 820 | S68: 956 | T68: 988
E69: Severozápad | H69: CZ04 | J69: 2099 | K69: 1974 | L69: 1693 | M69: 1568 | N69: 1346 | O69: 1456 | P69: 1492 | Q69: 1375 | R69: 1407 | S69: 1304 | T69: 1238
F70: Karlovarský kraj | H70: CZ041 | J70: 355 | K70: 379 | L70: 283 | M70: 270 | N70: 218 | O70: 220 | P70: 240 | Q70: 204 | R70: 217 | S70: 177 | T70: 208
F71: Ústecký kraj | H71: CZ042 | J71: 1744 | K71: 1595 | L71: 1410 | M71: 1298 | N71: 1128 | O71: 1236 | P71: 1252 | Q71: 1171 | R71: 1190 | S71: 1127 | T71: 1030
E72: Severovýchod | H72: CZ05 | J72: 2264 | K72: 2162 | L72: 1902 | M72: 1769 | N72: 1659 | O72: 1770 | P72: 1585 | Q72: 1515 | R72: 1465 | S72: 1450 | T72: 1410
F73: Liberecký kraj | H73: CZ051 | J73: 507 | K73: 515 | L73: 420 | M73: 388 | N73: 348 | O73: 351 | P73: 299 | Q73: 282 | R73: 260 | S73: 258 | T73: 244
F74: Královéhradecký kraj | H74: CZ052 | J74: 761 | K74: 644 | L74: 488 | M74: 453 | N74: 379 | O74: 432 | P74: 368 | Q74: 295 | R74: 344 | S74: 319 | T74: 358
F75: Pardubický kraj | H75: CZ053 | J75: 996 | K75: 1003 | L75: 994 | M75: 928 | N75: 932 | O75: 987 | P75: 918 | Q75: 938 | R75: 861 | S75: 873 | T75: 808
E76: Jihovýchod | H76: CZ06 | J76: 3325 | K76: 3163 | L76: 2905 | M76: 2539 | N76: 2375 | O76: 2298 | P76: 2324 | Q76: 2185 | R76: 2155 | S76: 2188 | T76: 2273
F77: Kraj Vysočina | H77: CZ063 | J77: 1633 | K77: 1645 | L77: 1601 | M77: 1535 | N77: 1511 | O77: 1506 | P77: 1524 | Q77: 1494 | R77: 1485 | S77: 1463 | T77: 1504
F78: Jihomoravský kraj | H78: CZ064 | J78: 1692 | K78: 1518 | L78: 1304 | M78: 1004 | N78: 864 | O78: 792 | P78: 800 | Q78: 691 | R78: 670 | S78: 725 | T78: 769
E79: Střední Morava | H79: CZ07 | J79: 1911 | K79: 1835 | L79: 1689 | M79: 1551 | N79: 1412 | O79: 1385 | P79: 1443 | Q79: 1350 | R79: 1304 | S79: 1250 | T79: 1182
F80: Olomoucký kraj | H80: CZ071 | J80: 1134 | K80: 1064 | L80: 940 | M80: 778 | N80: 688 | O80: 712 | P80: 706 | Q80: 643 | R80: 616 | S80: 566 | T80: 547
F81: Zlínský kraj | H81: CZ072 | J81: 777 | K81: 771 | L81: 749 | M81: 773 | N81: 724 | O81: 673 | P81: 737 | Q81: 707 | R81: 688 | S81: 684 | T81: 635
E82: Moravskoslezsko | H82: CZ08 | J82: 2633 | K82: 2279 | L82: 1950 | M82: 1518 | N82: 1359 | O82: 1370 | P82: 1520 | Q82: 1376 | R82: 1377 | S82: 1318 | T82: 1210
F83: Moravskoslezský kraj | H83: CZ080 | J83: 2633 | K83: 2279 | L83: 1950 | M83: 1518 | N83: 1359 | O83: 1370 | P83: 1520 | Q83: 1376 | R83: 1377 | S83: 1318 | T83: 1210
D84: Komentáře: | T84: Zdroj: databáze MŠMT
E85: Údaje včetně nástavbového a zkráceného studia.

Sheet B5.1.15
D4: Tab. B5.1.15: | H4: Střední školy – nově přijatí
B5: 18 | D5: ve školním roce 2015/16 až 2025/26 – podle území a formy vzdělávání
D7: Území Forma vzdělávání | J7: 2015/16 | K7: 2016/17 | L7: 2017/18 | M7: 2018/19 | N7: 2019/20 | O7: 2020/21 | P7: 2021/22 | Q7: 2022/23 | R7: 2023/24 | S7: 2024/25 | T7: 2025/26
D12: Všechny formy vzdělávání
E13: Česká republika | H13: CZ0 | J13: 116077 | K13: 115617 | L13: 114041 | M13: 113513 | N13: 116183 | O13: 118293 | P13: 125167 | Q13: 133416 | R13: 139916 | S13: 140613 | T13: 142157
E14: Praha | H14: CZ01 | J14: 16508 | K14: 17030 | L14: 17006 | M14: 16928 | N14: 17983 | O14: 18304 | P14: 19036 | Q14: 20009 | R14: 20934 | S14: 21443 | T14: 21923
F15: Hlavní město Praha | H15: CZ010 | J15: 16508 | K15: 17030 | L15: 17006 | M15: 16928 | N15: 17983 | O15: 18304 | P15: 19036 | Q15: 20009 | R15: 20934 | S15: 21443 | T15: 21923
E16: Střední Čechy | H16: CZ02 | J16: 10887 | K16: 10939 | L16: 10986 | M16: 10960 | N16: 10950 | O16: 11357 | P16: 12710 | Q16: 13702 | R16: 14700 | S16: 14778 | T16: 14788
F17: Středočeský kraj | H17: CZ020 | J17: 10887 | K17: 10939 | L17: 10986 | M17: 10960 | N17: 10950 | O17: 11357 | P17: 12710 | Q17: 13702 | R17: 14700 | S17: 14778 | T17: 14788
E18: Jihozápad | H18: CZ03 | J18: 13253 | K18: 13364 | L18: 13068 | M18: 13160 | N18: 13527 | O18: 13700 | P18: 14985 | Q18: 15944 | R18: 16725 | S18: 17030 | T18: 17371
F19: Jihočeský kraj | H19: CZ031 | J19: 7357 | K19: 7205 | L19: 7060 | M19: 7173 | N19: 7341 | O19: 7344 | P19: 8103 | Q19: 8536 | R19: 8878 | S19: 8889 | T19: 9123
F20: Plzeňský kraj | H20: CZ032 | J20: 5896 | K20: 6159 | L20: 6008 | M20: 5987 | N20: 6186 | O20: 6356 | P20: 6882 | Q20: 7408 | R20: 7847 | S20: 8141 | T20: 8248
E21: Severozápad | H21: CZ04 | J21: 12502 | K21: 12573 | L21: 12096 | M21: 11773 | N21: 12221 | O21: 12153 | P21: 12694 | Q21: 13713 | R21: 14341 | S21: 14067 | T21: 14212
F22: Karlovarský kraj | H22: CZ041 | J22: 2972 | K22: 3055 | L22: 2922 | M22: 2683 | N22: 2892 | O22: 2715 | P22: 2919 | Q22: 3192 | R22: 3312 | S22: 3275 | T22: 3438
F23: Ústecký kraj | H23: CZ042 | J23: 9530 | K23: 9518 | L23: 9174 | M23: 9090 | N23: 9329 | O23: 9438 | P23: 9775 | Q23: 10521 | R23: 11029 | S23: 10792 | T23: 10774
E24: Severovýchod | H24: CZ05 | J24: 16646 | K24: 16471 | L24: 16137 | M24: 16024 | N24: 16591 | O24: 16914 | P24: 17541 | Q24: 19119 | R24: 20081 | S24: 19854 | T24: 20046
F25: Liberecký kraj | H25: CZ051 | J25: 4369 | K25: 4347 | L25: 4281 | M25: 4485 | N25: 4472 | O25: 4663 | P25: 4642 | Q25: 5278 | R25: 5439 | S25: 5499 | T25: 5435
F26: Královéhradecký kraj | H26: CZ052 | J26: 6316 | K26: 6276 | L26: 5974 | M26: 5726 | N26: 6046 | O26: 6170 | P26: 6476 | Q26: 6893 | R26: 7463 | S26: 7326 | T26: 7443
F27: Pardubický kraj | H27: CZ053 | J27: 5961 | K27: 5848 | L27: 5882 | M27: 5813 | N27: 6073 | O27: 6081 | P27: 6423 | Q27: 6948 | R27: 7179 | S27: 7029 | T27: 7168
E28: Jihovýchod | H28: CZ06 | J28: 18572 | K28: 18202 | L28: 18065 | M28: 18217 | N28: 18349 | O28: 18723 | P28: 19587 | Q28: 21061 | R28: 21909 | S28: 22289 | T28: 22568
F29: Kraj Vysočina | H29: CZ063 | J29: 5759 | K29: 5730 | L29: 5628 | M29: 5753 | N29: 5762 | O29: 6032 | P29: 6097 | Q29: 6642 | R29: 6990 | S29: 6932 | T29: 7168
F30: Jihomoravský kraj | H30: CZ064 | J30: 12813 | K30: 12472 | L30: 12437 | M30: 12464 | N30: 12587 | O30: 12691 | P30: 13490 | Q30: 14419 | R30: 14919 | S30: 15357 | T30: 15400
E31: Střední Morava | H31: CZ07 | J31: 13837 | K31: 13791 | L31: 13565 | M31: 13615 | N31: 13557 | O31: 14005 | P31: 14780 | Q31: 15450 | R31: 16241 | S31: 16257 | T31: 16207
F32: Olomoucký kraj | H32: CZ071 | J32: 7297 | K32: 7320 | L32: 7167 | M32: 7144 | N32: 7141 | O32: 7364 | P32: 7883 | Q32: 8192 | R32: 8615 | S32: 8736 | T32: 8689
F33: Zlínský kraj | H33: CZ072 | J33: 6540 | K33: 6471 | L33: 6398 | M33: 6471 | N33: 6416 | O33: 6641 | P33: 6897 | Q33: 7258 | R33: 7626 | S33: 7521 | T33: 7518
E34: Moravskoslezsko | H34: CZ08 | J34: 13872 | K34: 13247 | L34: 13118 | M34: 12836 | N34: 13005 | O34: 13137 | P34: 13834 | Q34: 14418 | R34: 14985 | S34: 14895 | T34: 15042
F35: Moravskoslezský kraj | H35: CZ080 | J35: 13872 | K35: 13247 | L35: 13118 | M35: 12836 | N35: 13005 | O35: 13137 | P35: 13834 | Q35: 14418 | R35: 14985 | S35: 14895 | T35: 15042
D36: Denní forma vzdělávání
E37: Česká republika | H37: CZ0 | J37: 108053 | K37: 107399 | L37: 107316 | M37: 107509 | N37: 110095 | O37: 112295 | P37: 118401 | Q37: 127446 | R37: 133942 | S37: 134552 | T37: 136194
E38: Praha | H38: CZ01 | J38: 14841 | K38: 15125 | L38: 15313 | M38: 15336 | N38: 16321 | O38: 16639 | P38: 17291 | Q38: 18260 | R38: 19296 | S38: 19655 | T38: 20112
F39: Hlavní město Praha | H39: CZ010 | J39: 14841 | K39: 15125 | L39: 15313 | M39: 15336 | N39: 16321 | O39: 16639 | P39: 17291 | Q39: 18260 | R39: 19296 | S39: 19655 | T39: 20112
E40: Střední Čechy | H40: CZ02 | J40: 9822 | K40: 9944 | L40: 10080 | M40: 10166 | N40: 10172 | O40: 10569 | P40: 11748 | Q40: 12927 | R40: 13875 | S40: 14054 | T40: 14115
F41: Středočeský kraj | H41: CZ020 | J41: 9822 | K41: 9944 | L41: 10080 | M41: 10166 | N41: 10172 | O41: 10569 | P41: 11748 | Q41: 12927 | R41: 13875 | S41: 14054 | T41: 14115
E42: Jihozápad | H42: CZ03 | J42: 12482 | K42: 12605 | L42: 12343 | M42: 12649 | N42: 12856 | O42: 13126 | P42: 14212 | Q42: 15337 | R42: 16116 | S42: 16332 | T42: 16652
F43: Jihočeský kraj | H43: CZ031 | J43: 6935 | K43: 6868 | L43: 6761 | M43: 6945 | N43: 7043 | O43: 7109 | P43: 7709 | Q43: 8260 | R43: 8625 | S43: 8625 | T43: 8859
F44: Plzeňský kraj | H44: CZ032 | J44: 5547 | K44: 5737 | L44: 5582 | M44: 5704 | N44: 5813 | O44: 6017 | P44: 6503 | Q44: 7077 | R44: 7491 | S44: 7707 | T44: 7793
E45: Severozápad | H45: CZ04 | J45: 11749 | K45: 11645 | L45: 11571 | M45: 11177 | N45: 11712 | O45: 11592 | P45: 12057 | Q45: 13217 | R45: 13841 | S45: 13616 | T45: 13774
F46: Karlovarský kraj | H46: CZ041 | J46: 2871 | K46: 2854 | L46: 2875 | M46: 2607 | N46: 2813 | O46: 2660 | P46: 2804 | Q46: 3145 | R46: 3244 | S46: 3223 | T46: 3354
F47: Ústecký kraj | H47: CZ042 | J47: 8878 | K47: 8791 | L47: 8696 | M47: 8570 | N47: 8899 | O47: 8932 | P47: 9253 | Q47: 10072 | R47: 10597 | S47: 10393 | T47: 10420
E48: Severovýchod | H48: CZ05 | J48: 15919 | K48: 15637 | L48: 15568 | M48: 15419 | N48: 16026 | O48: 16323 | P48: 16981 | Q48: 18625 | R48: 19539 | S48: 19335 | T48: 19590
F49: Liberecký kraj | H49: CZ051 | J49: 4200 | K49: 4112 | L49: 4114 | M49: 4343 | N49: 4318 | O49: 4513 | P49: 4537 | Q49: 5159 | R49: 5319 | S49: 5394 | T49: 5354
F50: Královéhradecký kraj | H50: CZ052 | J50: 6103 | K50: 6013 | L50: 5878 | M50: 5575 | N50: 5935 | O50: 6058 | P50: 6332 | Q50: 6816 | R50: 7344 | S50: 7224 | T50: 7331
F51: Pardubický kraj | H51: CZ053 | J51: 5616 | K51: 5512 | L51: 5576 | M51: 5501 | N51: 5773 | O51: 5752 | P51: 6112 | Q51: 6650 | R51: 6876 | S51: 6717 | T51: 6905
E52: Jihovýchod | H52: CZ06 | J52: 17295 | K52: 16975 | L52: 17085 | M52: 17342 | N52: 17482 | O52: 17883 | P52: 18619 | Q52: 20189 | R52: 21025 | S52: 21401 | T52: 21571
F53: Kraj Vysočina | H53: CZ063 | J53: 5143 | K53: 5041 | L53: 5054 | M53: 5171 | N53: 5203 | O53: 5476 | P53: 5476 | Q53: 6030 | R53: 6388 | S53: 6360 | T53: 6467
F54: Jihomoravský kraj | H54: CZ064 | J54: 12152 | K54: 11934 | L54: 12031 | M54: 12171 | N54: 12279 | O54: 12407 | P54: 13143 | Q54: 14159 | R54: 14637 | S54: 15041 | T54: 15104
E55: Střední Morava | H55: CZ07 | J55: 13144 | K55: 13081 | L55: 12921 | M55: 13097 | N55: 13015 | O55: 13530 | P55: 14226 | Q55: 14957 | R55: 15733 | S55: 15777 | T55: 15771
F56: Olomoucký kraj | H56: CZ071 | J56: 6826 | K56: 6906 | L56: 6860 | M56: 6908 | N56: 6883 | O56: 7111 | P56: 7602 | Q56: 7985 | R56: 8364 | S56: 8521 | T56: 8477
F57: Zlínský kraj | H57: CZ072 | J57: 6318 | K57: 6175 | L57: 6061 | M57: 6189 | N57: 6132 | O57: 6419 | P57: 6624 | Q57: 6972 | R57: 7369 | S57: 7256 | T57: 7294
E58: Moravskoslezsko | H58: CZ08 | J58: 12801 | K58: 12387 | L58: 12435 | M58: 12323 | N58: 12511 | O58: 12633 | P58: 13267 | Q58: 13934 | R58: 14517 | S58: 14382 | T58: 14609
F59: Moravskoslezský kraj | H59: CZ080 | J59: 12801 | K59: 12387 | L59: 12435 | M59: 12323 | N59: 12511 | O59: 12633 | P59: 13267 | Q59: 13934 | R59: 14517 | S59: 14382 | T59: 14609
D60: Ostatní formy vzdělávání
E61: Česká republika | H61: CZ0 | J61: 8024 | K61: 8218 | L61: 6725 | M61: 6004 | N61: 6088 | O61: 5998 | P61: 6766 | Q61: 5970 | R61: 5974 | S61: 6061 | T61: 5963
E62: Praha | H62: CZ01 | J62: 1667 | K62: 1905 | L62: 1693 | M62: 1592 | N62: 1662 | O62: 1665 | P62: 1745 | Q62: 1749 | R62: 1638 | S62: 1788 | T62: 1811
F63: Hlavní město Praha | H63: CZ010 | J63: 1667 | K63: 1905 | L63: 1693 | M63: 1592 | N63: 1662 | O63: 1665 | P63: 1745 | Q63: 1749 | R63: 1638 | S63: 1788 | T63: 1811
E64: Střední Čechy | H64: CZ02 | J64: 1065 | K64: 995 | L64: 906 | M64: 794 | N64: 778 | O64: 788 | P64: 962 | Q64: 775 | R64: 825 | S64: 724 | T64: 673
F65: Středočeský kraj | H65: CZ020 | J65: 1065 | K65: 995 | L65: 906 | M65: 794 | N65: 778 | O65: 788 | P65: 962 | Q65: 775 | R65: 825 | S65: 724 | T65: 673
E66: Jihozápad | H66: CZ03 | J66: 771 | K66: 759 | L66: 725 | M66: 511 | N66: 671 | O66: 574 | P66: 773 | Q66: 607 | R66: 609 | S66: 698 | T66: 719
F67: Jihočeský kraj | H67: CZ031 | J67: 422 | K67: 337 | L67: 299 | M67: 228 | N67: 298 | O67: 235 | P67: 394 | Q67: 276 | R67: 253 | S67: 264 | T67: 264
F68: Plzeňský kraj | H68: CZ032 | J68: 349 | K68: 422 | L68: 426 | M68: 283 | N68: 373 | O68: 339 | P68: 379 | Q68: 331 | R68: 356 | S68: 434 | T68: 455
E69: Severozápad | H69: CZ04 | J69: 753 | K69: 928 | L69: 525 | M69: 596 | N69: 509 | O69: 561 | P69: 637 | Q69: 496 | R69: 500 | S69: 451 | T69: 438
F70: Karlovarský kraj | H70: CZ041 | J70: 101 | K70: 201 | L70: 47 | M70: 76 | N70: 79 | O70: 55 | P70: 115 | Q70: 47 | R70: 68 | S70: 52 | T70: 84
F71: Ústecký kraj | H71: CZ042 | J71: 652 | K71: 727 | L71: 478 | M71: 520 | N71: 430 | O71: 506 | P71: 522 | Q71: 449 | R71: 432 | S71: 399 | T71: 354
E72: Severovýchod | H72: CZ05 | J72: 727 | K72: 834 | L72: 569 | M72: 605 | N72: 565 | O72: 591 | P72: 560 | Q72: 494 | R72: 542 | S72: 519 | T72: 456
F73: Liberecký kraj | H73: CZ051 | J73: 169 | K73: 235 | L73: 167 | M73: 142 | N73: 154 | O73: 150 | P73: 105 | Q73: 119 | R73: 120 | S73: 105 | T73: 81
F74: Královéhradecký kraj | H74: CZ052 | J74: 213 | K74: 263 | L74: 96 | M74: 151 | N74: 111 | O74: 112 | P74: 144 | Q74: 77 | R74: 119 | S74: 102 | T74: 112
F75: Pardubický kraj | H75: CZ053 | J75: 345 | K75: 336 | L75: 306 | M75: 312 | N75: 300 | O75: 329 | P75: 311 | Q75: 298 | R75: 303 | S75: 312 | T75: 263
E76: Jihovýchod | H76: CZ06 | J76: 1277 | K76: 1227 | L76: 980 | M76: 875 | N76: 867 | O76: 840 | P76: 968 | Q76: 872 | R76: 884 | S76: 888 | T76: 997
F77: Kraj Vysočina | H77: CZ063 | J77: 616 | K77: 689 | L77: 574 | M77: 582 | N77: 559 | O77: 556 | P77: 621 | Q77: 612 | R77: 602 | S77: 572 | T77: 701
F78: Jihomoravský kraj | H78: CZ064 | J78: 661 | K78: 538 | L78: 406 | M78: 293 | N78: 308 | O78: 284 | P78: 347 | Q78: 260 | R78: 282 | S78: 316 | T78: 296
E79: Střední Morava | H79: CZ07 | J79: 693 | K79: 710 | L79: 644 | M79: 518 | N79: 542 | O79: 475 | P79: 554 | Q79: 493 | R79: 508 | S79: 480 | T79: 436
F80: Olomoucký kraj | H80: CZ071 | J80: 471 | K80: 414 | L80: 307 | M80: 236 | N80: 258 | O80: 253 | P80: 281 | Q80: 207 | R80: 251 | S80: 215 | T80: 212
F81: Zlínský kraj | H81: CZ072 | J81: 222 | K81: 296 | L81: 337 | M81: 282 | N81: 284 | O81: 222 | P81: 273 | Q81: 286 | R81: 257 | S81: 265 | T81: 224
E82: Moravskoslezsko | H82: CZ08 | J82: 1071 | K82: 860 | L82: 683 | M82: 513 | N82: 494 | O82: 504 | P82: 567 | Q82: 484 | R82: 468 | S82: 513 | T82: 433
F83: Moravskoslezský kraj | H83: CZ080 | J83: 1071 | K83: 860 | L83: 683 | M83: 513 | N83: 494 | O83: 504 | P83: 567 | Q83: 484 | R83: 468 | S83: 513 | T83: 433
D84: Komentáře: | T84: Zdroj: databáze MŠMT
E85: Údaje včetně nástavbového a zkráceného studia.

Sheet B5.1.16
D4: Tab. B5.1.16: | H4: Střední školy – absolventi
B5: 18 | D5: ve školním roce 2015/16 až 2025/26 – podle území a formy vzdělávání
D7: Území Forma vzdělávání | J7: 2015/16 | K7: 2016/17 | L7: 2017/18 | M7: 2018/19 | N7: 2019/20 | O7: 2020/21 | P7: 2021/22 | Q7: 2022/23 | R7: 2023/24 | S7: 2024/25 | T7: 2025/26
D12: Všechny formy vzdělávání
E13: Česká republika | H13: CZ0 | J13: 78385 | K13: 78602 | L13: 78056 | M13: 79477 | N13: 84462 | O13: 90012 | P13: 85492 | Q13: 89284 | R13: 95791 | S13: 104096 | T13: .
E14: Praha | H14: CZ01 | J14: 10155 | K14: 10481 | L14: 10697 | M14: 11433 | N14: 12589 | O14: 13376 | P14: 12859 | Q14: 13667 | R14: 14616 | S14: 15990 | T14: .
F15: Hlavní město Praha | H15: CZ010 | J15: 10155 | K15: 10481 | L15: 10697 | M15: 11433 | N15: 12589 | O15: 13376 | P15: 12859 | Q15: 13667 | R15: 14616 | S15: 15990 | T15: .
E16: Střední Čechy | H16: CZ02 | J16: 7372 | K16: 7675 | L16: 7251 | M16: 7268 | N16: 7901 | O16: 8385 | P16: 8059 | Q16: 8350 | R16: 9001 | S16: 9940 | T16: .
F17: Středočeský kraj | H17: CZ020 | J17: 7372 | K17: 7675 | L17: 7251 | M17: 7268 | N17: 7901 | O17: 8385 | P17: 8059 | Q17: 8350 | R17: 9001 | S17: 9940 | T17: .
E18: Jihozápad | H18: CZ03 | J18: 8995 | K18: 8921 | L18: 8947 | M18: 9201 | N18: 9963 | O18: 10491 | P18: 10194 | Q18: 10571 | R18: 11355 | S18: 12512 | T18: .
F19: Jihočeský kraj | H19: CZ031 | J19: 5114 | K19: 5077 | L19: 4959 | M19: 5112 | N19: 5516 | O19: 5695 | P19: 5610 | Q19: 5903 | R19: 6172 | S19: 6818 | T19: .
F20: Plzeňský kraj | H20: CZ032 | J20: 3881 | K20: 3844 | L20: 3988 | M20: 4089 | N20: 4447 | O20: 4796 | P20: 4584 | Q20: 4668 | R20: 5183 | S20: 5694 | T20: .
E21: Severozápad | H21: CZ04 | J21: 7092 | K21: 7182 | L21: 7026 | M21: 7386 | N21: 7767 | O21: 8557 | P21: 7962 | Q21: 8418 | R21: 8706 | S21: 9672 | T21: .
F22: Karlovarský kraj | H22: CZ041 | J22: 1713 | K22: 1801 | L22: 1685 | M22: 1782 | N22: 1856 | O22: 2075 | P22: 1856 | Q22: 1905 | R22: 1969 | S22: 2277 | T22: .
F23: Ústecký kraj | H23: CZ042 | J23: 5379 | K23: 5381 | L23: 5341 | M23: 5604 | N23: 5911 | O23: 6482 | P23: 6106 | Q23: 6513 | R23: 6737 | S23: 7395 | T23: .
E24: Severovýchod | H24: CZ05 | J24: 11338 | K24: 11395 | L24: 11524 | M24: 11427 | N24: 11977 | O24: 12659 | P24: 11847 | Q24: 12611 | R24: 13500 | S24: 14738 | T24: .
F25: Liberecký kraj | H25: CZ051 | J25: 2818 | K25: 2727 | L25: 2852 | M25: 2819 | N25: 3026 | O25: 3207 | P25: 3030 | Q25: 3197 | R25: 3591 | S25: 3883 | T25: .
F26: Královéhradecký kraj | H26: CZ052 | J26: 4548 | K26: 4536 | L26: 4600 | M26: 4429 | N26: 4592 | O26: 4712 | P26: 4448 | Q26: 4872 | R26: 5086 | S26: 5337 | T26: .
F27: Pardubický kraj | H27: CZ053 | J27: 3972 | K27: 4132 | L27: 4072 | M27: 4179 | N27: 4359 | O27: 4740 | P27: 4369 | Q27: 4542 | R27: 4823 | S27: 5518 | T27: .
E28: Jihovýchod | H28: CZ06 | J28: 13670 | K28: 13540 | L28: 13415 | M28: 13483 | N28: 13860 | O28: 15057 | P28: 14230 | Q28: 14856 | R28: 16116 | S28: 17144 | T28: .
F29: Kraj Vysočina | H29: CZ063 | J29: 4846 | K29: 4675 | L29: 4631 | M29: 4569 | N29: 4755 | O29: 5081 | P29: 4767 | Q29: 4892 | R29: 5262 | S29: 5447 | T29: .
F30: Jihomoravský kraj | H30: CZ064 | J30: 8824 | K30: 8865 | L30: 8784 | M30: 8914 | N30: 9105 | O30: 9976 | P30: 9463 | Q30: 9964 | R30: 10854 | S30: 11697 | T30: .
E31: Střední Morava | H31: CZ07 | J31: 10274 | K31: 10190 | L31: 10133 | M31: 10200 | N31: 10871 | O31: 11409 | P31: 11027 | Q31: 11169 | R31: 12144 | S31: 12617 | T31: .
F32: Olomoucký kraj | H32: CZ071 | J32: 5315 | K32: 5255 | L32: 5200 | M32: 5198 | N32: 5507 | O32: 5929 | P32: 5588 | Q32: 5620 | R32: 6174 | S32: 6320 | T32: .
F33: Zlínský kraj | H33: CZ072 | J33: 4959 | K33: 4935 | L33: 4933 | M33: 5002 | N33: 5364 | O33: 5480 | P33: 5439 | Q33: 5549 | R33: 5970 | S33: 6297 | T33: .
E34: Moravskoslezsko | H34: CZ08 | J34: 9489 | K34: 9218 | L34: 9063 | M34: 9079 | N34: 9534 | O34: 10078 | P34: 9314 | Q34: 9642 | R34: 10353 | S34: 11483 | T34: .
F35: Moravskoslezský kraj | H35: CZ080 | J35: 9489 | K35: 9218 | L35: 9063 | M35: 9079 | N35: 9534 | O35: 10078 | P35: 9314 | Q35: 9642 | R35: 10353 | S35: 11483 | T35: .
D36: Denní forma vzdělávání
E37: Česká republika | H37: CZ0 | J37: 74303 | K37: 74363 | L37: 74271 | M37: 75432 | N37: 80350 | O37: 85489 | P37: 81729 | Q37: 85597 | R37: 91796 | S37: 100227 | T37: .
E38: Praha | H38: CZ01 | J38: 9347 | K38: 9457 | L38: 9686 | M38: 10334 | N38: 11372 | O38: 12092 | P38: 11828 | Q38: 12762 | R38: 13518 | S38: 14912 | T38: .
F39: Hlavní město Praha | H39: CZ010 | J39: 9347 | K39: 9457 | L39: 9686 | M39: 10334 | N39: 11372 | O39: 12092 | P39: 11828 | Q39: 12762 | R39: 13518 | S39: 14912 | T39: .
E40: Střední Čechy | H40: CZ02 | J40: 6781 | K40: 6969 | L40: 6764 | M40: 6682 | N40: 7303 | O40: 7816 | P40: 7523 | Q40: 7821 | R40: 8413 | S40: 9425 | T40: .
F41: Středočeský kraj | H41: CZ020 | J41: 6781 | K41: 6969 | L41: 6764 | M41: 6682 | N41: 7303 | O41: 7816 | P41: 7523 | Q41: 7821 | R41: 8413 | S41: 9425 | T41: .
E42: Jihozápad | H42: CZ03 | J42: 8667 | K42: 8592 | L42: 8642 | M42: 8851 | N42: 9595 | O42: 10069 | P42: 9827 | Q42: 10189 | R42: 10913 | S42: 12056 | T42: .
F43: Jihočeský kraj | H43: CZ031 | J43: 4967 | K43: 4915 | L43: 4848 | M43: 5003 | N43: 5401 | O43: 5534 | P43: 5465 | Q43: 5783 | R43: 6015 | S43: 6697 | T43: .
F44: Plzeňský kraj | H44: CZ032 | J44: 3700 | K44: 3677 | L44: 3794 | M44: 3848 | N44: 4194 | O44: 4535 | P44: 4362 | Q44: 4406 | R44: 4898 | S44: 5359 | T44: .
E45: Severozápad | H45: CZ04 | J45: 6756 | K45: 6944 | L45: 6797 | M45: 7138 | N45: 7537 | O45: 8218 | P45: 7717 | Q45: 8135 | R45: 8426 | S45: 9389 | T45: .
F46: Karlovarský kraj | H46: CZ041 | J46: 1655 | K46: 1771 | L46: 1666 | M46: 1739 | N46: 1839 | O46: 2024 | P46: 1836 | Q46: 1888 | R46: 1933 | S46: 2252 | T46: .
F47: Ústecký kraj | H47: CZ042 | J47: 5101 | K47: 5173 | L47: 5131 | M47: 5399 | N47: 5698 | O47: 6194 | P47: 5881 | Q47: 6247 | R47: 6493 | S47: 7137 | T47: .
E48: Severovýchod | H48: CZ05 | J48: 10916 | K48: 11041 | L48: 11180 | M48: 11103 | N48: 11671 | O48: 12216 | P48: 11596 | Q48: 12309 | R48: 13213 | S48: 14460 | T48: .
F49: Liberecký kraj | H49: CZ051 | J49: 2743 | K49: 2671 | L49: 2799 | M49: 2748 | N49: 2955 | O49: 3119 | P49: 2978 | Q49: 3132 | R49: 3537 | S49: 3839 | T49: .
F50: Královéhradecký kraj | H50: CZ052 | J50: 4360 | K50: 4405 | L50: 4491 | M50: 4322 | N50: 4520 | O50: 4579 | P50: 4374 | Q50: 4819 | R50: 4997 | S50: 5269 | T50: .
F51: Pardubický kraj | H51: CZ053 | J51: 3813 | K51: 3965 | L51: 3890 | M51: 4033 | N51: 4196 | O51: 4518 | P51: 4244 | Q51: 4358 | R51: 4679 | S51: 5352 | T51: .
E52: Jihovýchod | H52: CZ06 | J52: 12833 | K52: 12702 | L52: 12603 | M52: 12706 | N52: 13059 | O52: 14258 | P52: 13495 | Q52: 14147 | R52: 15409 | S52: 16467 | T52: .
F53: Kraj Vysočina | H53: CZ063 | J53: 4239 | K53: 4112 | L53: 4042 | M53: 4031 | N53: 4165 | O53: 4486 | P53: 4198 | Q53: 4353 | R53: 4709 | S53: 4940 | T53: .
F54: Jihomoravský kraj | H54: CZ064 | J54: 8594 | K54: 8590 | L54: 8561 | M54: 8675 | N54: 8894 | O54: 9772 | P54: 9297 | Q54: 9794 | R54: 10700 | S54: 11527 | T54: .
E55: Střední Morava | H55: CZ07 | J55: 9857 | K55: 9806 | L55: 9813 | M55: 9820 | N55: 10549 | O55: 11030 | P55: 10644 | Q55: 10832 | R55: 11795 | S55: 12307 | T55: .
F56: Olomoucký kraj | H56: CZ071 | J56: 5106 | K56: 5097 | L56: 5050 | M56: 5020 | N56: 5390 | O56: 5761 | P56: 5458 | Q56: 5493 | R56: 6077 | S56: 6222 | T56: .
F57: Zlínský kraj | H57: CZ072 | J57: 4751 | K57: 4709 | L57: 4763 | M57: 4800 | N57: 5159 | O57: 5269 | P57: 5186 | Q57: 5339 | R57: 5718 | S57: 6085 | T57: .
E58: Moravskoslezsko | H58: CZ08 | J58: 9146 | K58: 8852 | L58: 8786 | M58: 8798 | N58: 9264 | O58: 9790 | P58: 9099 | Q58: 9402 | R58: 10109 | S58: 11211 | T58: .
F59: Moravskoslezský kraj | H59: CZ080 | J59: 9146 | K59: 8852 | L59: 8786 | M59: 8798 | N59: 9264 | O59: 9790 | P59: 9099 | Q59: 9402 | R59: 10109 | S59: 11211 | T59: .
D60: Ostatní formy vzdělávání
E61: Česká republika | H61: CZ0 | J61: 4082 | K61: 4239 | L61: 3785 | M61: 4045 | N61: 4112 | O61: 4523 | P61: 3763 | Q61: 3687 | R61: 3995 | S61: 3869 | T61: .
E62: Praha | H62: CZ01 | J62: 808 | K62: 1024 | L62: 1011 | M62: 1099 | N62: 1217 | O62: 1284 | P62: 1031 | Q62: 905 | R62: 1098 | S62: 1078 | T62: .
F63: Hlavní město Praha | H63: CZ010 | J63: 808 | K63: 1024 | L63: 1011 | M63: 1099 | N63: 1217 | O63: 1284 | P63: 1031 | Q63: 905 | R63: 1098 | S63: 1078 | T63: .
E64: Střední Čechy | H64: CZ02 | J64: 591 | K64: 706 | L64: 487 | M64: 586 | N64: 598 | O64: 569 | P64: 536 | Q64: 529 | R64: 588 | S64: 515 | T64: .
F65: Středočeský kraj | H65: CZ020 | J65: 591 | K65: 706 | L65: 487 | M65: 586 | N65: 598 | O65: 569 | P65: 536 | Q65: 529 | R65: 588 | S65: 515 | T65: .
E66: Jihozápad | H66: CZ03 | J66: 328 | K66: 329 | L66: 305 | M66: 350 | N66: 368 | O66: 422 | P66: 367 | Q66: 382 | R66: 442 | S66: 456 | T66: .
F67: Jihočeský kraj | H67: CZ031 | J67: 147 | K67: 162 | L67: 111 | M67: 109 | N67: 115 | O67: 161 | P67: 145 | Q67: 120 | R67: 157 | S67: 121 | T67: .
F68: Plzeňský kraj | H68: CZ032 | J68: 181 | K68: 167 | L68: 194 | M68: 241 | N68: 253 | O68: 261 | P68: 222 | Q68: 262 | R68: 285 | S68: 335 | T68: .
E69: Severozápad | H69: CZ04 | J69: 336 | K69: 238 | L69: 229 | M69: 248 | N69: 230 | O69: 339 | P69: 245 | Q69: 283 | R69: 280 | S69: 283 | T69: .
F70: Karlovarský kraj | H70: CZ041 | J70: 58 | K70: 30 | L70: 19 | M70: 43 | N70: 17 | O70: 51 | P70: 20 | Q70: 17 | R70: 36 | S70: 25 | T70: .
F71: Ústecký kraj | H71: CZ042 | J71: 278 | K71: 208 | L71: 210 | M71: 205 | N71: 213 | O71: 288 | P71: 225 | Q71: 266 | R71: 244 | S71: 258 | T71: .
E72: Severovýchod | H72: CZ05 | J72: 422 | K72: 354 | L72: 344 | M72: 324 | N72: 306 | O72: 443 | P72: 251 | Q72: 302 | R72: 287 | S72: 278 | T72: .
F73: Liberecký kraj | H73: CZ051 | J73: 75 | K73: 56 | L73: 53 | M73: 71 | N73: 71 | O73: 88 | P73: 52 | Q73: 65 | R73: 54 | S73: 44 | T73: .
F74: Královéhradecký kraj | H74: CZ052 | J74: 188 | K74: 131 | L74: 109 | M74: 107 | N74: 72 | O74: 133 | P74: 74 | Q74: 53 | R74: 89 | S74: 68 | T74: .
F75: Pardubický kraj | H75: CZ053 | J75: 159 | K75: 167 | L75: 182 | M75: 146 | N75: 163 | O75: 222 | P75: 125 | Q75: 184 | R75: 144 | S75: 166 | T75: .
E76: Jihovýchod | H76: CZ06 | J76: 837 | K76: 838 | L76: 812 | M76: 777 | N76: 801 | O76: 799 | P76: 735 | Q76: 709 | R76: 707 | S76: 677 | T76: .
F77: Kraj Vysočina | H77: CZ063 | J77: 607 | K77: 563 | L77: 589 | M77: 538 | N77: 590 | O77: 595 | P77: 569 | Q77: 539 | R77: 553 | S77: 507 | T77: .
F78: Jihomoravský kraj | H78: CZ064 | J78: 230 | K78: 275 | L78: 223 | M78: 239 | N78: 211 | O78: 204 | P78: 166 | Q78: 170 | R78: 154 | S78: 170 | T78: .
E79: Střední Morava | H79: CZ07 | J79: 417 | K79: 384 | L79: 320 | M79: 380 | N79: 322 | O79: 379 | P79: 383 | Q79: 337 | R79: 349 | S79: 310 | T79: .
F80: Olomoucký kraj | H80: CZ071 | J80: 209 | K80: 158 | L80: 150 | M80: 178 | N80: 117 | O80: 168 | P80: 130 | Q80: 127 | R80: 97 | S80: 98 | T80: .
F81: Zlínský kraj | H81: CZ072 | J81: 208 | K81: 226 | L81: 170 | M81: 202 | N81: 205 | O81: 211 | P81: 253 | Q81: 210 | R81: 252 | S81: 212 | T81: .
E82: Moravskoslezsko | H82: CZ08 | J82: 343 | K82: 366 | L82: 277 | M82: 281 | N82: 270 | O82: 288 | P82: 215 | Q82: 240 | R82: 244 | S82: 272 | T82: .
F83: Moravskoslezský kraj | H83: CZ080 | J83: 343 | K83: 366 | L83: 277 | M83: 281 | N83: 270 | O83: 288 | P83: 215 | Q83: 240 | R83: 244 | S83: 272 | T83: .
D84: Komentáře: | T84: Zdroj: databáze MŠMT
E85: Údaje včetně nástavbového a zkráceného studia.

Sheet B5.1.17
D4: Tab. B5.1.17: | H4: Střední školy – učitelé (přepočtené počty), z toho ženy
B5: 12 | D5: ve školním roce 2015/16 až 2025/26 – podle zřizovatele
D7: Zřizovatel | J7: 2015/16 | K7: 2016/17 | L7: 2017/18 | M7: 2018/19 | N7: 2019/20 | O7: 2020/21 | P7: 2021/22 | Q7: 2022/23 | R7: 2023/24 | S7: 2024/25 | T7: 2025/26
D12: Učitelé (přepočtené počty – celkem)
E13: Celkem | J13: 38385.9 | K13: 38069.6 | L13: 38114.9 | M13: 38223.4 | N13: 39133.3 | O13: 40193.3 | P13: 41305.8 | Q13: 42488.4 | R13: 43963.4 | S13: 45385.5 | T13: 46370.62
E14: v tom | F14: veřejný | J14: 33036.6 | K14: 32630.9 | L14: 32568.2 | M14: 32616.4 | N14: 33454.2 | O14: 34326.3 | P14: 35209.1 | Q14: 36084.3 | R14: 37154.8 | S14: 38114.3 | T14: 38896.97
F15: v tom | G15: MŠMT | J15: 297.4 | K15: 289 | L15: 278 | M15: 271.6 | N15: 279.6 | O15: 276.7 | P15: 281 | Q15: 273.8 | R15: 276.8 | S15: 279.8 | T15: 274.93
G16: obec | J16: 320.4 | K16: 322 | L16: 333.3 | M16: 336.9 | N16: 347.5 | O16: 350 | P16: 367.2 | Q16: 395.6 | R16: 411.9 | S16: 432.8 | T16: 453.11
G17: kraj | J17: 32279.2 | K17: 31880.5 | L17: 31791.5 | M17: 31823.7 | N17: 32633.9 | O17: 33498.4 | P17: 34349.9 | Q17: 35206 | R17: 36247.9 | S17: 37182.5 | T17: 37924.93
G18: jiný resort | J18: 139.6 | K18: 139.4 | L18: 165.4 | M18: 184.2 | N18: 193.2 | O18: 201.2 | P18: 211 | Q18: 208.9 | R18: 218.2 | S18: 219.2 | T18: 244
F19: neveřejný | J19: 5349.3 | K19: 5438.7 | L19: 5546.7 | M19: 5607 | N19: 5679.1 | O19: 5867 | P19: 6096.7 | Q19: 6404.1 | R19: 6808.6 | S19: 7271.2 | T19: 7473.65
F20: v tom | G20: privátní sektor | J20: 4528.9 | K20: 4618.4 | L20: 4711.1 | M20: 4764.4 | N20: 4845.2 | O20: 5004.1 | P20: 5186 | Q20: 5478.4 | R20: 5863.2 | S20: 6290.8 | T20: 6468.4
G21: církev | J21: 820.4 | K21: 820.3 | L21: 835.6 | M21: 842.6 | N21: 833.9 | O21: 862.9 | P21: 910.7 | Q21: 925.7 | R21: 945.4 | S21: 980.4 | T21: 1005.25
D22: Z toho ženy (přepočtené počty)
E23: Celkem | J23: 23052.7 | K23: 22896.9 | L23: 22985.4 | M23: 23021.6 | N23: 23604.4 | O23: 24171 | P23: 24800.2 | Q23: 25471 | R23: 26390.4 | S23: 27181 | T23: 27797.96
E24: v tom | F24: veřejný | J24: 19696.3 | K24: 19462.3 | L24: 19488.6 | M24: 19536.9 | N24: 20044.4 | O24: 20504.2 | P24: 20987.9 | Q24: 21521.5 | R24: 22130.5 | S24: 22626.6 | T24: 23144.15
F25: v tom | G25: MŠMT | J25: 165.8 | K25: 161.6 | L25: 161.6 | M25: 155.3 | N25: 157.4 | O25: 152.9 | P25: 154.2 | Q25: 149.6 | R25: 149.8 | S25: 152.9 | T25: 145.94
G26: obec | J26: 202.8 | K26: 204.5 | L26: 214.9 | M26: 224.7 | N26: 224.2 | O26: 229.2 | P26: 242.5 | Q26: 269.5 | R26: 276.3 | S26: 299.2 | T26: 309.21
G27: kraj | J27: 19275.1 | K27: 19047.8 | L27: 19053.7 | M27: 19090.3 | N27: 19586.2 | O27: 20040.5 | P27: 20490.2 | Q27: 21000.4 | R27: 21600.2 | S27: 22101.3 | T27: 22578
G28: jiný resort | J28: 52.6 | K28: 48.4 | L28: 58.4 | M28: 66.6 | N28: 76.6 | O28: 81.6 | P28: 101 | Q28: 102 | R28: 104.2 | S28: 73.2 | T28: 111
F29: neveřejný | J29: 3356.4 | K29: 3434.6 | L29: 3496.8 | M29: 3484.7 | N29: 3560 | O29: 3666.8 | P29: 3812.3 | Q29: 3949.5 | R29: 4259.9 | S29: 4554.4 | T29: 4653.81
F30: v tom | G30: privátní sektor | J30: 2765.1 | K30: 2849.9 | L30: 2903.6 | M30: 2888.6 | N30: 2951.8 | O30: 3043.4 | P30: 3165 | Q30: 3299.8 | R30: 3601.3 | S30: 3864.6 | T30: 3943.39
G31: církev | J31: 591.3 | K31: 584.7 | L31: 593.2 | M31: 596.1 | N31: 608.2 | O31: 623.4 | P31: 647.3 | Q31: 649.7 | R31: 658.6 | S31: 689.8 | T31: 710.42
T32: Zdroj: databáze MŠMT

Sheet B5.1.18
D4: Tab. B5.1.18: | H4: SŠ včetně konzervatoří – struktura učitelů
D5: v letech 2015 až 2025 – podle nejvyššího dosaženého vzdělání
D7: Nejvyšší dosažené vzdělání | J7: 2015 | K7: 2016 | L7: 2017 | M7: 2018 | N7: 2019 | O7: 2020 | P7: 2021 | Q7: 2022 | R7: 2023 | S7: 2024 | T7: 2025
D12: Učitelé (bez ředitelů a zástupců ředitele/řídících pracovníků)
E13: Střední a střední vzdělání s výučním listem | J13: 0.021880048 | K13: 0.021303695 | L13: 0.020200765 | M13: 0.019166849 | N13: 0.020524182 | O13: 0.022219978 | P13: 0.024819367 | Q13: 0.026891271 | R13: 0.029546529 | S13: 0.031743051 | T13: 0.034973897
E14: Střední vzdělání s maturitní zkouškou | J14: 0.17451639 | K14: 0.16648365 | L14: 0.16045516 | M14: 0.15466667 | N14: 0.15238102 | O14: 0.1520846 | P14: 0.14994742 | Q14: 0.14947053 | R14: 0.14874909 | S14: 0.14988158 | T14: 0.14912307
E15: Vyšší odborné vzdělání | J15: 0.015783946 | K15: 0.01509576 | L15: 0.015232598 | M15: 0.013716814 | N15: 0.0137888 | O15: 0.014085888 | P15: 0.014027887 | Q15: 0.014878586 | R15: 0.014283748 | S15: 0.013774212 | T15: 0.013708753
E16: Vysokoškolské – bakalářské | J16: 0.0507876 | K16: 0.049484092 | L16: 0.050014923 | M16: 0.050148365 | N16: 0.052211742 | O16: 0.053880227 | P16: 0.055743195 | Q16: 0.058303317 | R16: 0.061356905 | S16: 0.063776198 | T16: 0.065398344
E17: Vysokoškolské – magisterské | J17: 0.71774396 | K17: 0.72692999 | L17: 0.73172056 | M17: 0.73850474 | N17: 0.73717281 | O17: 0.73347572 | P17: 0.73069839 | Q17: 0.72415203 | R17: 0.71886949 | S17: 0.7125704 | T17: 0.70810983
E18: Vysokoškolské – doktorské | J18: 0.019288056 | K18: 0.02070281 | L18: 0.022375996 | M18: 0.02379656 | N18: 0.023921449 | O18: 0.024253589 | P18: 0.024763734 | Q18: 0.026304265 | R18: 0.027194241 | S18: 0.028254556 | T18: 0.028686108
T19: Zdroj: databáze MŠMT

Sheet B5.1.19
D4: Tab. B5.1.19: | H4: SŠ včetně konzervatoří – struktura učitelů
D5: v letech 2015 až 2025 – podle věku
D7: Věk | J7: 2015 | K7: 2016 | L7: 2017 | M7: 2018 | N7: 2019 | O7: 2020 | P7: 2021 | Q7: 2022 | R7: 2023 | S7: 2024 | T7: 2025
D12: Učitelé (bez ředitelů a zástupců ředitele/řídících pracovníků)
E13: do 24 let | J13: 0.0036410432 | K13: 0.0032629132 | L13: 0.0041990599 | M13: 0.0049340745 | N13: 0.005781993 | O13: 0.006413811 | P13: 0.0073633426 | Q13: 0.0084671739 | R13: 0.0092512495 | S13: 0.010960756 | T13: 0.0118727
E14: 25–29 let | J14: 0.038302977 | K14: 0.036059112 | L14: 0.035315171 | M14: 0.033924749 | N14: 0.034721852 | O14: 0.036118287 | P14: 0.038677729 | Q14: 0.042596783 | R14: 0.044438121 | S14: 0.048017372 | T14: 0.052686172
E15: 30–34 let | J15: 0.071493091 | K15: 0.064552669 | L15: 0.057658179 | M15: 0.05303401 | N15: 0.051321095 | O15: 0.051484702 | P15: 0.051398103 | Q15: 0.049873489 | R15: 0.052244829 | S15: 0.053609292 | T15: 0.054560077
E16: 35–39 let | J16: 0.1198585 | K16: 0.1123984 | L16: 0.10426737 | M16: 0.097960354 | N16: 0.089770415 | O16: 0.086672082 | P16: 0.085337005 | Q16: 0.083431099 | R16: 0.080889894 | S16: 0.07692185 | T16: 0.073746504
E17: 40–44 let | J17: 0.12609873 | K17: 0.13623795 | L17: 0.14460582 | M17: 0.14806711 | N17: 0.14901032 | O17: 0.14654185 | P17: 0.1402944 | Q17: 0.13250687 | R17: 0.12905032 | S17: 0.12433673 | T17: 0.12044172
E18: 45–49 let | J18: 0.13452979 | K18: 0.13036658 | L18: 0.13010403 | M18: 0.13259451 | N18: 0.13773264 | O18: 0.14523054 | P18: 0.15538476 | Q18: 0.16557391 | R18: 0.1727074 | S18: 0.17428708 | T18: 0.16900641
E19: 50–54 let | J19: 0.18692292 | K19: 0.1810344 | L19: 0.17073578 | M19: 0.15928443 | N19: 0.14683336 | O19: 0.13859714 | P19: 0.13621541 | Q19: 0.13747088 | R19: 0.13979399 | S19: 0.14707825 | T19: 0.15636966
E20: 55–59 let | J20: 0.19337038 | K20: 0.19829423 | L20: 0.19881491 | M20: 0.19926887 | N20: 0.19930048 | O20: 0.19033399 | P20: 0.18069575 | Q20: 0.16917922 | R20: 0.15706275 | S20: 0.14381008 | T20: 0.13602226
E21: 60–64 let | J21: 0.098574837 | K21: 0.10715852 | L21: 0.11829394 | M21: 0.12953989 | N21: 0.13921281 | O21: 0.14651244 | P21: 0.14888341 | Q21: 0.14956744 | R21: 0.14808159 | S21: 0.15193911 | T21: 0.1528416
E22: 65 a více let | J22: 0.027207731 | K22: 0.030635232 | L22: 0.036009445 | M22: 0.041391999 | N22: 0.046315053 | O22: 0.052095155 | P22: 0.05575009 | Q22: 0.061333142 | R22: 0.066479853 | S22: 0.069039492 | T22: 0.07245289
T23: Zdroj: databáze MŠMT

Sheet B5.1.20
D4: Tab. B5.1.20: | H4: Střední školy včetně konzervatoří a VOŠ – přepočtené počty
B5: 93 | D5: zaměstnanců v letech 2015 až 2025
J7: 2015 | K7: 2016 | L7: 2017 | M7: 2018 | N7: 2019 | O7: 2020 | P7: 2021 | Q7: 2022 | R7: 2023 | S7: 2024 | T7: 2025
D12: SŠ včetně konzervatoří a VOŠ
D13: Všichni zřizovatelé (bez jiných resortů)
E14: Zaměstnanci celkem | J14: 52635.552 | K14: 51783.095 | L14: 51748.787 | M14: 51807.185 | N14: 52262.954 | O14: 53174.426 | P14: 54312.322 | Q14: 55830.111 | R14: 57556.036 | S14: 59159.613 | T14: 60214.927
F15: z toho učitelé1) | J15: 34420.605 | K15: 33798.402 | L15: 33756.559 | M15: 33738.188 | N15: 34052.874 | O15: 34878.464 | P15: 35760.566 | Q15: 36764.723 | R15: 37958.854 | S15: 39150.09 | T15: 40078.129
E16: v tom | F16: Střední školy2)
F17: Všichni zřizovatelé (bez jiných resortů)
F18: Zaměstnanci celkem | J18: 49823.91 | K18: 49090.108 | L18: 49160.959 | M18: 49310.738 | N18: 49855.625 | O18: 50836.247 | P18: 51945.783 | Q18: 53455.916 | R18: 55169.307 | S18: 56737.143 | T18: 57784.734
G19: z toho učitelé1) | J19: 32219.581 | K19: 31689.78 | L19: 31728.979 | M19: 31789.6 | N19: 32191.696 | O19: 33055.966 | P19: 33903.658 | Q19: 34912.089 | R19: 36105.714 | S19: 37271.585 | T19: 38163.584
F20: Konzervatoře
F21: Všichni zřizovatelé (bez jiných resortů)
F22: Zaměstnanci celkem | J22: 1136.138 | K22: 1131.525 | L22: 1129.084 | M22: 1123.029 | N22: 1148.0791 | O22: 1162.8705 | P22: 1191.7932 | Q22: 1192.5795 | R22: 1211.7698 | S22: 1240.3187 | T22: 1251.7932
G23: z toho učitelé1) | J23: 938.542 | K23: 933.767 | L23: 931.994 | M23: 922.7445 | N23: 940.2609 | O23: 965.6507 | P23: 994.6516 | Q23: 990.6859 | R23: 1006.7313 | S23: 1033.2599 | T23: 1041.5463
F24: VOŠ
F25: Všichni zřizovatelé (bez jiných resortů)
F26: Zaměstnanci celkem | J26: 1675.504 | K26: 1561.462 | L26: 1458.744 | M26: 1373.4183 | N26: 1259.2501 | O26: 1175.3082 | P26: 1174.7451 | Q26: 1181.6148 | R26: 1174.9586 | S26: 1182.151 | T26: 1178.3999
G27: z toho učitelé1) | J27: 1262.482 | K27: 1174.855 | L27: 1095.586 | M27: 1025.8434 | N27: 920.9169 | O27: 856.8472 | P27: 862.2567 | Q27: 861.9482 | R27: 846.4089 | S27: 845.2459 | T27: 872.9978
D28: Komentáře: | T28: Zdroj: databáze MŠMT
D29: 1) | E29: Včetně vedoucích zaměstnanců.

Sheet B5.1.21
D4: Tab. B5.1.21: | H4: Střední školy včetně konzervatoří a VOŠ – průměrné měsíční mzdy
B5: 168 | D5: zaměstnanců v letech 2015 až 2025
J7: 2015 | K7: 2016 | L7: 2017 | M7: 2018 | N7: 2019 | O7: 2020 | P7: 2021 | Q7: 2022 | R7: 2023 | S7: 2024 | T7: 2025
D12: Střední školy včetně konzervatoří a VOŠ za všechny zřizovatele (bez jiných resortů)
D13: Nominální mzda (v běžných cenách)
E14: Zaměstnanci celkem | J14: 26302.462 | K14: 27490.245 | L14: 29745.208 | M14: 33128.742 | N14: 37811.598 | O14: 41876.22 | P14: 45404.357 | Q14: 46532.451 | R14: 48635.927 | S14: 49842.261 | T14: 52969.67
F15: z toho učitelé1) | J15: 31100.885 | K15: 32677.579 | L15: 33267.032 | M15: 37023.228 | N15: 42389.097 | O15: 46897.308 | P15: 50958.732 | Q15: 52117.215 | R15: 53997.07 | S15: 55226.825 | T15: 58435.349
D16: Reálná mzda (ve stálých cenách roku 2015)
E17: Zaměstnanci celkem | J17: 26302.462 | K17: 27299.151 | L17: 28850.832 | M17: 31461.293 | N17: 34913.756 | O17: 37456.369 | P17: 39447.747 | Q17: 35739.21 | R17: 34518.046 | S17: 34781.759 | T17: 36330.364
F18: z toho učitelé1) | J18: 31100.885 | K18: 32450.426 | L18: 32266.762 | M18: 35159.76 | N18: 39140.44 | O18: 41947.503 | P18: 44273.442 | Q18: 40028.583 | R18: 38322.974 | S18: 38539.306 | T18: 40079.115
E19: z toho | F19: Střední školy2)
F20: Všichni zřizovatelé (bez jiných resortů)
F21: Nominální mzda (v běžných cenách)
F22: Zaměstnanci celkem | J22: 26222.87 | K22: 27409.145 | L22: 29680.347 | M22: 33076.259 | N22: 37785.25 | O22: 41831.485 | P22: 45378.181 | Q22: 46478.755 | R22: 48587.825 | S22: 49782.508 | T22: 52894.331
G23: z toho učitelé1) | J23: 31184.116 | K23: 32773.683 | L23: 33261.383 | M23: 37037.272 | N23: 42438.181 | O23: 46930.777 | P23: 51017.823 | Q23: 52121.884 | R23: 53992.049 | S23: 55197.351 | T23: 58434.343
F24: Reálná mzda (ve stálých cenách roku 2015)
F25: Zaměstnanci celkem | J25: 26222.87 | K25: 27218.614 | L25: 28787.921 | M25: 31411.452 | N25: 34889.428 | O25: 37416.355 | P25: 39425.006 | Q25: 35697.968 | R25: 34483.907 | S25: 34740.061 | T25: 36278.691
G26: z toho učitelé1) | J26: 31184.116 | K26: 32545.862 | L26: 32261.283 | M26: 35173.098 | N26: 39185.763 | O26: 41977.439 | P26: 44324.781 | Q26: 40032.169 | R26: 38319.41 | S26: 38518.738 | T26: 40078.425
F27: Konzervatoře
F28: Všichni zřizovatelé (bez jiných resortů)
F29: Nominální mzda (v běžných cenách)
F30: Zaměstnanci celkem | J30: 27444.167 | K30: 28562.105 | L30: 30879.989 | M30: 34168 | N30: 38879.156 | O30: 42752.681 | P30: 45699.503 | Q30: 46764.502 | R30: 48702.383 | S30: 50042.463 | T30: 52922.546
G31: z toho učitelé1) | J31: 29018.52 | K31: 30310.194 | L31: 32645.163 | M31: 36118.9 | N31: 41349.927 | O31: 45278.319 | P31: 48563.508 | Q31: 49645.628 | R31: 51327.418 | S31: 52565.937 | T31: 55483.375
F32: Reálná mzda (ve stálých cenách roku 2015)
F33: Zaměstnanci celkem | J33: 27444.167 | K33: 28363.56 | L33: 29951.492 | M33: 32448.243 | N33: 35899.498 | O33: 38240.323 | P33: 39704.173 | Q33: 35917.437 | R33: 34565.211 | S33: 34921.467 | T33: 36298.042
G34: z toho učitelé1) | J34: 29018.52 | K34: 30099.498 | L34: 31663.591 | M34: 34300.95 | N34: 38180.911 | O34: 40499.391 | P34: 42192.449 | Q34: 38130.282 | R34: 36428.26 | S34: 36682.441 | T34: 38054.441
F35: VOŠ
F36: Všichni zřizovatelé (bez jiných resortů)
F37: Nominální mzda (v běžných cenách)
F38: Zaměstnanci celkem | J38: 27895.062 | K38: 29263.196 | L38: 31052.76 | M38: 34163.295 | N38: 37881.437 | O38: 42944.008 | P38: 46262.38 | Q38: 48727.443 | R38: 50826.005 | S38: 52500.06 | T38: 56714.099
G39: z toho učitelé1) | J39: 30524.818 | K39: 31966.908 | L39: 33959.633 | M39: 37401.457 | N39: 41734.304 | O39: 47430.685 | P39: 51398.297 | Q39: 54768.828 | R39: 57386.575 | S39: 59779.281 | T39: 62001.256
F40: Reálná mzda (ve stálých cenách roku 2015)
F41: Zaměstnanci celkem | J41: 27895.062 | K41: 29059.777 | L41: 30119.069 | M41: 32443.775 | N41: 34978.243 | O41: 38411.456 | P41: 40193.206 | Q41: 37425.072 | R41: 36072.395 | S41: 36636.469 | T41: 38898.559
G42: z toho učitelé1) | J42: 30524.818 | K42: 31744.696 | L42: 32938.538 | M42: 35518.952 | N42: 38535.83 | O42: 42424.584 | P42: 44655.34 | Q42: 42065.152 | R42: 40728.584 | S42: 41716.176 | T42: 42524.867
D43: Index spotřebitelských cen a meziroční inflace
E44: Index spotřebitelských cen (rok 2015 = 100) | J44: 100 | K44: 100.7 | L44: 103.1 | M44: 105.3 | N44: 108.3 | O44: 111.8 | P44: 115.1 | Q44: 130.2 | R44: 140.9 | S44: 143.3 | T44: 145.8
E45: meziroční inflace | J45: 0.003 | K45: 0.007 | L45: 0.025 | M45: 0.021 | N45: 0.028 | O45: 0.032 | P45: 0.038 | Q45: 0.151 | R45: 0.107 | S45: 0.024 | T45: 0.025
D46: Komentáře: | T46: Zdroj: databáze MŠMT, ČSÚ
D47: 1) | E47: Včetně vedoucích zaměstnanců.

Sheet GB1
D4: Obr. B1: | H4: SŠ, denní forma vzdělávání – žáci na úrovni středního vzdělávání vzhledem k populaci 15–18letých ve školním roce 2015/16 až 2025/26
K10: 2015/16 | L10: 2016/17 | M10: 2017/18 | N10: 2018/19 | O10: 2019/20 | P10: 2020/21 | Q10: 2021/22 | R10: 2022/23 | S10: 2023/24 | T10: 2024/25 | U10: 2025/26
J11: střední vzdělávání s maturitní zkouškou | K11: 262810 | L11: 263844 | M11: 265064 | N11: 266849 | O11: 268855 | P11: 276135 | Q11: 287488 | R11: 301263 | S11: 317244 | T11: 331649 | U11: 341689
J12: střední vzdělávání s výučním listem | K12: 88543 | L12: 85985 | M12: 83763 | N12: 82963 | O12: 85074 | P12: 86793 | Q12: 87415 | R12: 90911 | S12: 96563 | T12: 100721 | U12: 101849
J13: střední vzdělávání | K13: 2162 | L13: 2369 | M13: 2579 | N13: 2690 | O13: 2697 | P13: 2689 | Q13: 2725 | R13: 2733 | S13: 2815 | T13: 2934 | U13: 2894
J14: populace 15–18letých | K14: 364651 | L14: 365542 | M14: 369401 | N14: 375247 | O14: 383634 | P14: 394812 | Q14: 406410 | R14: 453010 | S14: 482414 | T14: 501921 | U14: 514344
J15: podíl na přísl. populaci | K15: 0.96946121 | L15: 0.9634953 | M15: 0.951286 | N15: 0.93938659 | O15: 0.92959957 | P15: 0.92605341 | Q15: 0.92917989 | R15: 0.87174014 | S15: 0.86361922 | T15: 0.86727593 | U15: 0.86796385
D38: Komentáře: | U38: Zdroj: databáze MŠMT, ČSÚ
E39: Střední vzdělávání s výučním listem a střední vzdělávání s maturitní zkouškou je bez zkráceného studia.

Sheet GB2
D4: Obr. B2: | H4: Střední školy – struktura škol ve školním roce 2015/16 až 2025/26 – podle zřizovatele
K10: 2015/16 | L10: 2016/17 | M10: 2017/18 | N10: 2018/19 | O10: 2019/20 | P10: 2020/21 | Q10: 2021/22 | R10: 2022/23 | S10: 2023/24 | T10: 2024/25 | U10: 2025/26
J11: veřejný | K11: 0.74539877 | L11: 0.74445295 | M11: 0.7469419 | N11: 0.74573643 | O11: 0.74688474 | P11: 0.7453125 | Q11: 0.74241245 | R11: 0.73647604 | S11: 0.73236196 | T11: 0.72734196 | U11: 0.72063253
J12: privátní sektor | K12: 0.22469325 | L12: 0.22494262 | M12: 0.22247706 | N12: 0.22170543 | O12: 0.22040498 | P12: 0.221875 | Q12: 0.2233463 | R12: 0.22874807 | S12: 0.23312883 | T12: 0.23762376 | U12: 0.24472892
J13: církev | K13: 0.029907975 | L13: 0.030604438 | M13: 0.03058104 | N13: 0.03255814 | O13: 0.03271028 | P13: 0.0328125 | Q13: 0.034241245 | R13: 0.034775889 | S13: 0.034509202 | T13: 0.035034273 | U13: 0.034638554
D36: Komentáře: | U36: Zdroj: databáze MŠMT
E37: Údaje za všechny formy vzdělávání a včetně nástavbového a zkráceného studia.

Sheet GB3
D4: Obr. B3: | H4: Střední školy – struktura žáků ve školním roce 2015/16 až 2025/26
K10: 2015/16 | L10: 2016/17 | M10: 2017/18 | N10: 2018/19 | O10: 2019/20 | P10: 2020/21 | Q10: 2021/22 | R10: 2022/23 | S10: 2023/24 | T10: 2024/25 | U10: 2025/26
J11: všeobecné vzdělávání na SŠ | K11: 0.29979607 | L11: 0.30362317 | M11: 0.30733866 | N11: 0.30924114 | O11: 0.30843152 | P11: 0.30445177 | Q11: 0.29875587 | R11: 0.29345639 | S11: 0.2856745 | T11: 0.28126608 | U11: 0.27988992
J12: odborné vzdělávání na SŠ s maturitní zkouškou | K12: 0.43217039 | L12: 0.43546295 | M12: 0.43993025 | N12: 0.44334314 | O12: 0.44378041 | P12: 0.44861471 | Q12: 0.45705361 | R12: 0.4641494 | S12: 0.47141873 | T12: 0.47680891 | U12: 0.48085868
J13: odborné vzdělávání na SŠ bez maturitní zkoušky | K13: 0.2201837 | L13: 0.21624389 | M13: 0.21362164 | N13: 0.21223866 | O13: 0.21588909 | P13: 0.21566114 | Q13: 0.21068495 | R13: 0.21117444 | S13: 0.21331675 | T13: 0.21392757 | U13: 0.21118472
J14: nástavbové studium | K14: 0.047849836 | L14: 0.044669989 | M14: 0.039109445 | N14: 0.035177062 | O14: 0.03189898 | P14: 0.031272378 | Q14: 0.033505582 | R14: 0.031219775 | S14: 0.029590022 | T14: 0.027997432 | U14: 0.028066679
K16: 427107 | L16: 424849 | M16: 421535 | N16: 420814 | O16: 423838 | P16: 432906 | Q16: 446254 | R16: 463200 | S16: 484758 | T16: 503189 | U16: 514881
K17: 128045 | L17: 128994 | M17: 129554 | N17: 130133 | O17: 130725 | P17: 131799 | Q17: 133321 | R17: 135929 | S17: 138483 | T17: 141530 | U17: 144110
K18: 184583 | L18: 185006 | M18: 185446 | N18: 186565 | O18: 188091 | P18: 194208 | Q18: 203962 | R18: 214994 | S18: 228524 | T18: 239925 | U18: 247585
K19: 94042 | L19: 91871 | M19: 90049 | N19: 89313 | O19: 91502 | P19: 93361 | Q19: 94019 | R19: 97816 | S19: 103407 | T19: 107646 | U19: 108735
K20: 20437 | L20: 18978 | M20: 16486 | N20: 14803 | O20: 13520 | P20: 13538 | Q20: 14952 | R20: 14461 | S20: 14344 | T20: 14088 | U20: 14451
D36: Komentáře: | U36: Zdroj: databáze MŠMT
D37: 1) | E37: Do odborného vzdělávání na SŠ jsou zahrnuta lycea. Údaje za všechny formy vzdělávání a včetně zkráceného studia.

Sheet GB4
D4: Obr. B4: | H4: Střední školy – struktura nově přijatých do oborů středního vzdělávání s maturitní zkouškou a oborů středního
D5: vzdělávání a středního vzdělávání s výučním listem ve školním roce 2015/16 až 2025/26
K10: 2015/16 | L10: 2016/17 | M10: 2017/18 | N10: 2018/19 | O10: 2019/20 | P10: 2020/21 | Q10: 2021/22 | R10: 2022/23 | S10: 2023/24 | T10: 2024/25 | U10: 2025/26
J11: obory středního vzdělávání s maturitní zkouškou | K11: 72927 | L11: 73545 | M11: 73507 | N11: 73684 | O11: 75232 | P11: 77440 | Q11: 83484 | R11: 87267 | S11: 91440 | T11: 93155 | U11: 93959
J12: obory středního vzdělávání a středního vzdělávání s výučním listem | K12: 32953 | L12: 32210 | M12: 32474 | N12: 32534 | O12: 33941 | P12: 33705 | Q12: 33313 | R12: 38574 | S12: 40815 | T12: 39932 | U12: 40418
J13: obory středního vzdělávání s maturitní zkouškou | K13: 0.68877031 | L13: 0.69542811 | M13: 0.69358659 | N13: 0.6937054 | O13: 0.68910811 | P13: 0.69674749 | Q13: 0.71477863 | R13: 0.69347033 | S13: 0.69139163 | T13: 0.69995567 | U13: 0.69921936
J14: obory středního vzdělávání a středního vzdělávání s výučním listem | K14: 0.31122969 | L14: 0.30457189 | M14: 0.30641341 | N14: 0.3062946 | O14: 0.31089189 | P14: 0.30325251 | Q14: 0.28522137 | R14: 0.30652967 | S14: 0.30860837 | T14: 0.30004433 | U14: 0.30078064
D37: Komentáře: | U37: Zdroj: databáze MŠMT
E38: Bez nástavbového studia.
E39: Obory středního vzdělávání s výučním listem a středního vzdělávání s maturitní zkouškou včetně zkráceného studia.

Sheet GB5
D4: Obr. B5: | H4: Střední školy včetně VOŠ a konzervatoří – všichni zřizovatelé – přepočtené počty
D5: zaměstnanců a učitelů a jejich průměrné měsíční nominální a reálné mzdy v letech 2015 až 2025
J10: zam.
K11: 2015 | L11: 2016 | M11: 2017 | N11: 2018 | O11: 2019 | P11: 2020 | Q11: 2021 | R11: 2022 | S11: 2023 | T11: 2024 | U11: 2025
J12: nominální mzdy | K12: 26302.462 | L12: 27490.245 | M12: 29745.208 | N12: 33128.742 | O12: 37811.598 | P12: 41876.22 | Q12: 45404.357 | R12: 46532.451 | S12: 48635.927 | T12: 49842.261 | U12: 52969.67
J13: reálné mzdy | K13: 26302.462 | L13: 27299.151 | M13: 28850.832 | N13: 31461.293 | O13: 34913.756 | P13: 37456.369 | Q13: 39447.747 | R13: 35739.21 | S13: 34518.046 | T13: 34781.759 | U13: 36330.364
J14: počty | K14: 52.635552 | L14: 51.783095 | M14: 51.748787 | N14: 51.807185 | O14: 52.262954 | P14: 53.174426 | Q14: 54.312322 | R14: 55.830111 | S14: 57.556036 | T14: 59.159613 | U14: 60.214927
J16: učitelé
K17: 2015 | L17: 2016 | M17: 2017 | N17: 2018 | O17: 2019 | P17: 2020 | Q17: 2021 | R17: 2022 | S17: 2023 | T17: 2024 | U17: 2025
J18: nominální mzdy | K18: 31100.885 | L18: 32677.579 | M18: 33267.032 | N18: 37023.228 | O18: 42389.097 | P18: 46897.308 | Q18: 50958.732 | R18: 52117.215 | S18: 53997.07 | T18: 55226.825 | U18: 58435.349
J19: reálné mzdy | K19: 31100.885 | L19: 32450.426 | M19: 32266.762 | N19: 35159.76 | O19: 39140.44 | P19: 41947.503 | Q19: 44273.442 | R19: 40028.583 | S19: 38322.974 | T19: 38539.306 | U19: 40079.115
J20: počty | K20: 34.420605 | L20: 33.798402 | M20: 33.756559 | N20: 33.738188 | O20: 34.052874 | P20: 34.878464 | Q20: 35.760566 | R20: 36.764723 | S20: 37.958854 | T20: 39.15009 | U20: 40.078129
D45: Komentáře: | U45: Zdroj: databáze MŠMT, ČSÚ
E46: Průměrná reálná měsíční mzda ve stálých cenách roku 2015.
D47: 1) | E47: Učitelé včetně vedoucích zaměstnanců.
