Workbook
Name data_1: 'B5.1.1'!$J$12:$T$16
Name data_10: #REF!
Name data_10: #REF!
Name data_10: #REF!
Name data_11: #REF!
Name data_11: #REF!
Name data_11: #REF!
Name data_11: 'B5.1.11'!$J$12:$T$28
Name data_12: #REF!
Name data_12: #REF!
Name data_12: #REF!
Name data_12: 'B5.1.17'!$J$14:$T$31
Name data_13: #REF!
Name data_13: #REF!
Name data_13: #REF!
Name data_13: #REF!
Name data_13: #REF!
Name data_13: #REF!
Name data_13: 'B5.1.12'!$J$12:$T$28
Name data_14: #REF!
Name data_14: #REF!
Name data_14: #REF!
Name data_14: #REF!
Name data_14: #REF!
Name data_14: #REF!
Name data_14: 'B5.1.13'!$J$12:$T$28
Name data_15: #REF!
Name data_15: #REF!
Name data_15: #REF!
Name data_15: #REF!
Name data_15: #REF!
Name data_15: #REF!
Name data_16: #REF!
Name data_16: #REF!
Name data_16: #REF!
Name data_16: #REF!
Name data_16: #REF!
Name data_16: 'GB1'!$J$12:$N$37
Name data_16: 'GB2'!$J$12:$N$35
Name data_16: 'GB3'!$J$13:$N$35
Name data_16: 'GB4'!$J$12:$N$36
Name data_16: 'GB5'!$J$12:$U$44
Name data_16: #REF!
Name data_17: #REF!
Name data_17: #REF!
Name data_17: #REF!
Name data_17: #REF!
Name data_17: #REF!
Name data_17: #REF!
Name data_18: #REF!
Name data_18: #REF!
Name data_18: #REF!
Name data_18: #REF!
Name data_18: #REF!
Name data_18: #REF!
Name data_18: 'B5.1.20'!#REF!
Name data_19: #REF!
Name data_19: #REF!
Name data_19: #REF!
Name data_19: #REF!

Sheet Obsah
C2: 100
A4: B5.1 Střední školy celkem
A5: Zdroje dat jsou uvedeny v zápatí jednotlivých tabulek
B6: Ekonomické ukazatele budou doplněny.
A7: Text | C7: Obsah
A9: Tabulka 1 | C9: ='B5.1.1'!H4&" "&'B5.1.1'!D5 -> Střední vzdělávání – žáci, podíl na odpovídající věkové populaci ve školním roce 2015/16 až 2025/26
A11: Tabulka 2 | C11: ='B5.1.2'!H4&" "&'B5.1.2'!D5 -> Střední školy – školy ve školním roce 2015/16 až 2025/26 – podle formy vzdělávání a zřizovatele
A13: Tabulka 3 | C13: ='B5.1.3'!H4&" "&'B5.1.3'!D5 -> Střední školy – školy ve školním roce 2015/16 až 2025/26 – podle území
A15: Tabulka 4 | C15: ='B5.1.4'!H4&" "&'B5.1.4'!D5 -> Střední školy, denní forma vzdělávání – třídy ve školním roce 2015/16 až 2025/26 – podle druhu vzdělávání a zřizovatele
A17: Tabulka 5 | C17: ='B5.1.5'!H4&" "&'B5.1.5'!D5 -> Střední školy – žáci, nově přijatí a absolventi ve školním roce 2015/16 až 2025/26 – podle formy vzdělávání a zřizovatele
A19: Tabulka 6 | C19: ='B5.1.6'!H4&" "&'B5.1.6'!D5 -> Střední školy – žáci, nově přijatí a absolventi ve školním roce 2015/16 až 2025/26 – podle zřizovatele
A21: Tabulka 7 | C21: ='B5.1.7'!H4&" "&'B5.1.7'!D5 -> Střední školy – žáci, nově přijatí a absolventi ve školním roce 2015/16 až 2025/26 – podle zřizovatele a druhu vzdělávání
A23: Tabulka 8 | C23: ='B5.1.8'!H4&" "&'B5.1.8'!D5 -> Střední školy – dívky, nově přijaté a absolventky ve školním roce 2015/16 až 2025/26 – podle zřizovatele a druhu vzdělávání
A25: Tabulka 9 | C25: ='B5.1.9'!H4&" "&'B5.1.9'!D5 -> Střední školy, denní forma vzdělávání – žáci, nově přijatí a absolventi ve školním roce 2015/16 až 2025/26 – podle zřizovatele a druhu vzdělávání
A27: Tabulka 10 | C27: ='B5.1.10'!H4&" "&'B5.1.10'!D5 -> Střední školy, ostatní formy vzdělávání – žáci, nově přijatí a absolventi ve školním roce 2015/16 až 2025/26 – podle zřizovatele a druhu vzdělávání
A29: Tabulka 11 | C29: ='B5.1.11'!H4&" "&'B5.1.11'!D5 -> Střední školy – počet podaných přihlášek v 1. kole přijímacího řízení do denní formy vzdělávání ve školním roce 2015/16 až 2025/26 – podle zřizovatele a druhu vzdělávání
A31: Tabulka 12 | C31: ='B5.1.12'!H4&" "&'B5.1.12'!D5 -> Střední školy – počet přijatých přihlášek v 1. kole přijímacího řízení do denní formy vzdělávání ve školním roce 2015/16 až 2025/26 – podle zřizovatele a druhu vzdělávání
A33: Tabulka 13 | C33: ='B5.1.13'!H4&" "&'B5.1.13'!D5 -> Střední školy – úspěšnost v 1. kole přijímacího řízení do denní formy vzdělávání ve školním roce 2015/16 až 2025/26 – podle zřizovatele a druhu vzdělávání
A35: Tabulka 14 | C35: ='B5.1.14'!H4&" "&'B5.1.14'!D5 -> Střední školy – žáci ve školním roce 2015/16 až 2025/26 – podle území a formy vzdělávání
A37: Tabulka 15 | C37: ='B5.1.15'!H4&" "&'B5.1.15'!D5 -> Střední školy – nově přijatí ve školním roce 2015/16 až 2025/26 – podle území a formy vzdělávání
A39: Tabulka 16 | C39: ='B5.1.16'!H4&" "&'B5.1.16'!D5 -> Střední školy – absolventi ve školním roce 2015/16 až 2025/26 – podle území a formy vzdělávání
A41: Tabulka 17 | C41: ='B5.1.17'!H4&" "&'B5.1.17'!D5 -> Střední školy – učitelé (přepočtené počty), z toho ženy ve školním roce 2015/16 až 2025/26 – podle zřizovatele
A43: Tabulka 18 | C43: ='B5.1.18'!H4&" "&'B5.1.18'!D5 -> SŠ včetně konzervatoří – struktura učitelů v letech 2015 až 2025 – podle nejvyššího dosaženého vzdělání
A45: Tabulka 19 | C45: ='B5.1.19'!H4&" "&'B5.1.19'!D5 -> SŠ včetně konzervatoří – struktura učitelů v letech 2015 až 2025 – podle věku
A47: Tabulka 20 | C47: ='B5.1.20'!H4&" "&'B5.1.20'!D5 -> Střední školy včetně konzervatoří a VOŠ – přepočtené počty zaměstnanců v letech 2015 až 2025
A49: Tabulka 21 | C49: ='B5.1.21'!H4&" "&'B5.1.21'!D5 -> Střední školy včetně konzervatoří a VOŠ – průměrné měsíční mzdy zaměstnanců v letech 2015 až 2025
A52: Graf 1 | C52: ='GB1'!$H$4&" "&'GB1'!$D$5 -> SŠ, denní forma vzdělávání – žáci na úrovni středního vzdělávání vzhledem k populaci 15–18letých ve školním roce 2015/16 až 2025/26
A54: Graf 2 | C54: ='GB2'!$H$4&" "&'GB2'!$D$5 -> Střední školy – struktura škol ve školním roce 2015/16 až 2025/26 – podle zřizovatele
A56: Graf 3 | C56: ='GB3'!$H$4&" "&'GB3'!$D$5 -> Střední školy – struktura žáků ve školním roce 2015/16 až 2025/26
A58: Graf 4 | C58: ='GB4'!$H$4&" "&'GB4'!$D$5 -> Střední školy – struktura nově přijatých do oborů středního vzdělávání s maturitní zkouškou a oborů středního vzdělávání a středního vzdělávání s výučním listem ve školním roce 2015/16 až 2025/26
A60: Graf 5 | C60: ='GB5'!$H$4&" "&'GB5'!$D$5 -> Střední školy včetně VOŠ a konzervatoří – všichni zřizovatelé – přepočtené počty zaměstnanců a učitelů a jejich průměrné měsíční nominální a reálné mzdy v letech 2015 až 2025

Sheet B5.1.1
D4: Tab. B5.1.1: | H4: Střední vzdělávání – žáci, podíl na odpovídající věkové populaci
D5: ve školním roce 2015/16 až 2025/26
J7: 2015/16 | K7: 2016/17 | L7: 2017/18 | M7: 2018/19 | N7: 2019/20 | O7: 2020/21 | P7: 2021/22 | Q7: 2022/23 | R7: 2023/24 | S7: 2024/25 | T7: 2025/26
E12: Žáci v oborech středního vzdělávání s maturitní zkouškou | J12: 303305 | K12: 304824 | L12: 306324 | M12: 308460 | N12: 310852 | O12: 317933 | P12: 329054 | Q12: 342922 | R12: 358722 | S12: 373105 | T12: 383164
F13: z toho nižší stupeň víceletých gymnázií | J13: 40495 | K13: 40980 | L13: 41260 | M13: 41611 | N13: 41997 | O13: 41798 | P13: 41566 | Q13: 41659 | R13: 41478 | S13: 41456 | T13: 41475
E14: Žáci ve stř. vzděl. a stř. vzděl. s výučním listem | J14: 90705 | K14: 88354 | L14: 86342 | M14: 85653 | N14: 87771 | O14: 89482 | P14: 90140 | Q14: 93644 | R14: 99378 | S14: 103655 | T14: 104743
E15: Žáci v ročnících odpovídajících střední škole celkem | J15: 353515 | K15: 352198 | L15: 351406 | M15: 352502 | N15: 356626 | O15: 365617 | P15: 377628 | Q15: 394907 | R15: 416622 | S15: 435304 | T15: 446432
E16: Podíl na populaci 15–18letých | J16: 0.96946121 | K16: 0.9634953 | L16: 0.951286 | M16: 0.93938659 | N16: 0.92959957 | O16: 0.92605341 | P16: 0.92917989 | Q16: 0.87174014 | R16: 0.86361922 | S16: 0.86727593 | T16: 0.86796385
D17: Komentáře: | T17: Zdroj: databáze MŠMT, ČSÚ
E18: Údaje za denní formu vzdělávání a bez zkráceného a nástavbového studia.

Sheet B5.1.2
D4: Tab. B5.1.2: | H4: Střední školy – školy
B5: 0 | D5: ve školním roce 2015/16 až 2025/26 – podle formy vzdělávání a zřizovatele
D7: Forma vzdělávání Zřizovatel | J7: 2015/16 | K7: 2016/17 | L7: 2017/18 | M7: 2018/19 | N7: 2019/20 | O7: 2020/21 | P7: 2021/22 | Q7: 2022/23 | R7: 2023/24 | S7: 2024/25 | T7: 2025/26
E12: Celkem | J12: 1304 | K12: 1307 | L12: 1308 | M12: 1290 | N12: 1284 | O12: 1280 | P12: 1285 | Q12: 1294 | R12: 1304 | S12: 1313 | T12: 1328
E13: v tom | F13: veřejný | J13: 972 | K13: 973 | L13: 977 | M13: 962 | N13: 959 | O13: 954 | P13: 954 | Q13: 953 | R13: 955 | S13: 955 | T13: 957
F14: v tom | G14: MŠMT | J14: 31 | K14: 30 | L14: 30 | M14: 29 | N14: 29 | O14: 29 | P14: 29 | Q14: 29 | R14: 29 | S14: 29 | T14: 29
G15: obec | J15: 27 | K15: 27 | L15: 28 | M15: 28 | N15: 28 | O15: 28 | P15: 29 | Q15: 31 | R15: 31 | S15: 32 | T15: 34
G16: kraj | J16: 911 | K16: 912 | L16: 915 | M16: 901 | N16: 898 | O16: 893 | P16: 892 | Q16: 889 | R16: 890 | S16: 889 | T16: 889
G17: jiný resort | J17: 3 | K17: 4 | L17: 4 | M17: 4 | N17: 4 | O17: 4 | P17: 4 | Q17: 4 | R17: 5 | S17: 5 | T17: 5
F18: neveřejný | J18: 332 | K18: 334 | L18: 331 | M18: 328 | N18: 325 | O18: 326 | P18: 331 | Q18: 341 | R18: 349 | S18: 358 | T18: 371
F19: v tom | G19: privátní sektor | J19: 293 | K19: 294 | L19: 291 | M19: 286 | N19: 283 | O19: 284 | P19: 287 | Q19: 296 | R19: 304 | S19: 312 | T19: 325
G20: církev | J20: 39 | K20: 40 | L20: 40 | M20: 42 | N20: 42 | O20: 42 | P20: 44 | Q20: 45 | R20: 45 | S20: 46 | T20: 46
E21: Denní forma vzdělávání | J21: 1294 | K21: 1297 | L21: 1297 | M21: 1279 | N21: 1273 | O21: 1269 | P21: 1274 | Q21: 1284 | R21: 1293 | S21: 1301 | T21: 1317
E22: v tom | F22: veřejný | J22: 971 | K22: 972 | L22: 975 | M22: 960 | N22: 957 | O22: 952 | P22: 952 | Q22: 951 | R22: 953 | S22: 953 | T22: 955
F23: v tom | G23: MŠMT | J23: 31 | K23: 30 | L23: 30 | M23: 29 | N23: 29 | O23: 29 | P23: 29 | Q23: 29 | R23: 29 | S23: 29 | T23: 29
G24: obec | J24: 27 | K24: 27 | L24: 27 | M24: 27 | N24: 27 | O24: 27 | P24: 28 | Q24: 30 | R24: 30 | S24: 31 | T24: 33
G25: kraj | J25: 911 | K25: 912 | L25: 915 | M25: 901 | N25: 898 | O25: 893 | P25: 892 | Q25: 889 | R25: 890 | S25: 889 | T25: 889
G26: jiný resort | J26: 2 | K26: 3 | L26: 3 | M26: 3 | N26: 3 | O26: 3 | P26: 3 | Q26: 3 | R26: 4 | S26: 4 | T26: 4
F27: neveřejný | J27: 323 | K27: 325 | L27: 322 | M27: 319 | N27: 316 | O27: 317 | P27: 322 | Q27: 333 | R27: 340 | S27: 348 | T27: 362
F28: v tom | G28: privátní sektor | J28: 284 | K28: 285 | L28: 282 | M28: 277 | N28: 274 | O28: 275 | P28: 278 | Q28: 288 | R28: 295 | S28: 302 | T28: 316
G29: církev | J29: 39 | K29: 40 | L29: 40 | M29: 42 | N29: 42 | O29: 42 | P29: 44 | Q29: 45 | R29: 45 | S29: 46 | T29: 46
E30: Ostatní formy vzdělávání | J30: 371 | K30: 340 | L30: 319 | M30: 302 | N30: 260 | O30: 238 | P30: 230 | Q30: 208 | R30: 205 | S30: 197 | T30: 190
E31: v tom | F31: veřejný | J31: 225 | K31: 201 | L31: 188 | M31: 178 | N31: 146 | O31: 130 | P31: 126 | Q31: 110 | R31: 109 | S31: 99 | T31: 95
F32: v tom | G32: MŠMT | J32: 0 | K32: 0 | L32: 0 | M32: 0 | N32: 0 | O32: 0 | P32: 0 | Q32: 0 | R32: 0 | S32: 0 | T32: 0
G33: obec | J33: 2 | K33: 2 | L33: 2 | M33: 2 | N33: 2 | O33: 2 | P33: 2 | Q33: 2 | R33: 2 | S33: 2 | T33: 2
G34: kraj | J34: 221 | K34: 197 | L34: 184 | M34: 174 | N34: 142 | O34: 126 | P34: 122 | Q34: 106 | R34: 104 | S34: 94 | T34: 90
G35: jiný resort | J35: 2 | K35: 2 | L35: 2 | M35: 2 | N35: 2 | O35: 2 | P35: 2 | Q35: 2 | R35: 3 | S35: 3 | T35: 3
F36: neveřejný | J36: 146 | K36: 139 | L36: 131 | M36: 124 | N36: 114 | O36: 108 | P36: 104 | Q36: 98 | R36: 96 | S36: 98 | T36: 95
F37: v tom | G37: privátní sektor | J37: 138 | K37: 130 | L37: 123 | M37: 117 | N37: 107 | O37: 102 | P37: 98 | Q37: 91 | R37: 89 | S37: 91 | T37: 90
G38: církev | J38: 8 | K38: 9 | L38: 8 | M38: 7 | N38: 7 | O38: 6 | P38: 6 | Q38: 7 | R38: 7 | S38: 7 | T38: 5
D39: Komentáře: | T39: Zdroj: databáze MŠMT
E40: Údaje včetně nástavbového a zkráceného studia.

Sheet B5.1.3
D4: Tab. B5.1.3: | H4: Střední školy – školy
B5: 0 | D5: ve školním roce 2015/16 až 2025/26 – podle území
D7: Území | J7: 2015/16 | K7: 2016/17 | L7: 2017/18 | M7: 2018/19 | N7: 2019/20 | O7: 2020/21 | P7: 2021/22 | Q7: 2022/23 | R7: 2023/24 | S7: 2024/25 | T7: 2025/26
E12: Česká republika | H12: CZ0 | J12: 1304 | K12: 1307 | L12: 1308 | M12: 1290 | N12: 1284 | O12: 1280 | P12: 1285 | Q12: 1294 | R12: 1304 | S12: 1313 | T12: 1328
E13: Praha | H13: CZ01 | J13: 188 | K13: 185 | L13: 183 | M13: 185 | N13: 185 | O13: 186 | P13: 187 | Q13: 190 | R13: 193 | S13: 201 | T13: 207
F14: Hlavní město Praha | H14: CZ010 | J14: 188 | K14: 185 | L14: 183 | M14: 185 | N14: 185 | O14: 186 | P14: 187 | Q14: 190 | R14: 193 | S14: 201 | T14: 207
E15: Střední Čechy | H15: CZ02 | J15: 152 | K15: 153 | L15: 153 | M15: 152 | N15: 150 | O15: 149 | P15: 148 | Q15: 146 | R15: 147 | S15: 147 | T15: 150
F16: Středočeský kraj | H16: CZ020 | J16: 152 | K16: 153 | L16: 153 | M16: 152 | N16: 150 | O16: 149 | P16: 148 | Q16: 146 | R16: 147 | S16: 147 | T16: 150
E17: Jihozápad | H17: CZ03 | J17: 144 | K17: 145 | L17: 144 | M17: 144 | N17: 144 | O17: 143 | P17: 143 | Q17: 145 | R17: 145 | S17: 145 | T17: 147
F18: Jihočeský kraj | H18: CZ031 | J18: 90 | K18: 90 | L18: 89 | M18: 89 | N18: 89 | O18: 88 | P18: 88 | Q18: 89 | R18: 89 | S18: 89 | T18: 90
F19: Plzeňský kraj | H19: CZ032 | J19: 54 | K19: 55 | L19: 55 | M19: 55 | N19: 55 | O19: 55 | P19: 55 | Q19: 56 | R19: 56 | S19: 56 | T19: 57
E20: Severozápad | H20: CZ04 | J20: 131 | K20: 133 | L20: 132 | M20: 127 | N20: 126 | O20: 125 | P20: 125 | Q20: 126 | R20: 126 | S20: 126 | T20: 128
F21: Karlovarský kraj | H21: CZ041 | J21: 37 | K21: 38 | L21: 37 | M21: 32 | N21: 32 | O21: 31 | P21: 31 | Q21: 31 | R21: 31 | S21: 31 | T21: 31
F22: Ústecký kraj | H22: CZ042 | J22: 94 | K22: 95 | L22: 95 | M22: 95 | N22: 94 | O22: 94 | P22: 94 | Q22: 95 | R22: 95 | S22: 95 | T22: 97
E23: Severovýchod | H23: CZ05 | J23: 206 | K23: 206 | L23: 208 | M23: 196 | N23: 196 | O23: 196 | P23: 198 | Q23: 199 | R23: 198 | S23: 198 | T23: 198
F24: Liberecký kraj | H24: CZ051 | J24: 50 | K24: 49 | L24: 49 | M24: 48 | N24: 48 | O24: 48 | P24: 49 | Q24: 49 | R24: 48 | S24: 48 | T24: 48
F25: Královéhradecký kraj | H25: CZ052 | J25: 82 | K25: 83 | L25: 84 | M25: 74 | N25: 74 | O25: 74 | P25: 74 | Q25: 75 | R25: 75 | S25: 75 | T25: 75
F26: Pardubický kraj | H26: CZ053 | J26: 74 | K26: 74 | L26: 75 | M26: 74 | N26: 74 | O26: 74 | P26: 75 | Q26: 75 | R26: 75 | S26: 75 | T26: 75
E27: Jihovýchod | H27: CZ06 | J27: 186 | K27: 188 | L27: 188 | M27: 188 | N27: 187 | O27: 185 | P27: 186 | Q27: 189 | R27: 193 | S27: 194 | T27: 196
F28: Kraj Vysočina | H28: CZ063 | J28: 63 | K28: 63 | L28: 63 | M28: 65 | N28: 65 | O28: 63 | P28: 63 | Q28: 63 | R28: 65 | S28: 65 | T28: 66
F29: Jihomoravský kraj | H29: CZ064 | J29: 123 | K29: 125 | L29: 125 | M29: 123 | N29: 122 | O29: 122 | P29: 123 | Q29: 126 | R29: 128 | S29: 129 | T29: 130
E30: Střední Morava | H30: CZ07 | J30: 160 | K30: 162 | L30: 164 | M30: 163 | N30: 161 | O30: 161 | P30: 162 | Q30: 163 | R30: 165 | S30: 165 | T30: 164
F31: Olomoucký kraj | H31: CZ071 | J31: 93 | K31: 94 | L31: 96 | M31: 94 | N31: 91 | O31: 91 | P31: 92 | Q31: 92 | R31: 92 | S31: 92 | T31: 92
F32: Zlínský kraj | H32: CZ072 | J32: 67 | K32: 68 | L32: 68 | M32: 69 | N32: 70 | O32: 70 | P32: 70 | Q32: 71 | R32: 73 | S32: 73 | T32: 72
E33: Moravskoslezsko | H33: CZ08 | J33: 137 | K33: 135 | L33: 136 | M33: 135 | N33: 135 | O33: 135 | P33: 136 | Q33: 136 | R33: 137 | S33: 137 | T33: 138
F34: Moravskoslezský kraj | H34: CZ080 | J34: 137 | K34: 135 | L34: 136 | M34: 135 | N34: 135 | O34: 135 | P34: 136 | Q34: 136 | R34: 137 | S34: 137 | T34: 138
D35: Komentáře: | T35: Zdroj: databáze MŠMT
E36: Údaje za všechny formy vzdělávání a včetně nástavbového a zkráceného studia.

Sheet B5.1.4
D4: Tab. B5.1.4: | H4: Střední školy, denní forma vzdělávání – třídy
B5: 0 | D5: ve školním roce 2015/16 až 2025/26 – podle druhu vzdělávání a zřizovatele
D7: Druh vzdělávání Zřizovatel | J7: 2015/16 | K7: 2016/17 | L7: 2017/18 | M7: 2018/19 | N7: 2019/20 | O7: 2020/21 | P7: 2021/22 | Q7: 2022/23 | R7: 2023/24 | S7: 2024/25 | T7: 2025/26
E12: Celkem | J12: 18269.16 | K12: 18127.39 | L12: 18088.37 | M12: 18164.14 | N12: 18280.37 | O12: 18595.27 | P12: 19029.02 | Q12: 19446.06 | R12: 20029.96 | S12: 20545.15 | T12: 20915.21
E13: v tom | F13: veřejný | J13: 15240.11 | K13: 15034.38 | L13: 14916.22 | M13: 14970.15 | N13: 15051.29 | O13: 15299.21 | P13: 15638.96 | Q13: 15904.04 | R13: 16327.96 | S13: 16705.12 | T13: 16954.25
F14: v tom | G14: MŠMT | J14: 219.01 | K14: 217 | L14: 213 | M14: 213 | N14: 203 | O14: 206 | P14: 214 | Q14: 205 | R14: 197 | S14: 205.02 | T14: 194
G15: obec | J15: 176 | K15: 178 | L15: 179 | M15: 176.99 | N15: 172.99 | O15: 175.99 | P15: 183.01 | Q15: 194.01 | R15: 204.01 | S15: 210.99 | T15: 219
G16: kraj | J16: 14818.1 | K16: 14608.38 | L16: 14489.22 | M16: 14540.16 | N16: 14629.3 | O16: 14867.22 | P16: 15188.95 | Q16: 15451.03 | R16: 15869.95 | S16: 16230.11 | T16: 16480.25
G17: jiný resort | J17: 27 | K17: 31 | L17: 35 | M17: 40 | N17: 46 | O17: 50 | P17: 53 | Q17: 54 | R17: 57 | S17: 59 | T17: 61
F18: neveřejný | J18: 3029.05 | K18: 3093.01 | L18: 3172.15 | M18: 3193.99 | N18: 3229.08 | O18: 3296.06 | P18: 3390.06 | Q18: 3542.02 | R18: 3702 | S18: 3840.03 | T18: 3960.96
F19: v tom | G19: privátní sektor | J19: 2641.06 | K19: 2697 | L19: 2768.14 | M19: 2789.98 | N19: 2826.08 | O19: 2884.06 | P19: 2967.06 | Q19: 3104.02 | R19: 3252 | S19: 3381.03 | T19: 3493.97
G20: církev | J20: 387.99 | K20: 396.01 | L20: 404.01 | M20: 404.01 | N20: 403 | O20: 412 | P20: 423 | Q20: 438 | R20: 450 | S20: 459 | T20: 466.99
E21: Střední vzdělávání | J21: 309.14 | K21: 329.6 | L21: 361.23 | M21: 380.06 | N21: 360.05 | O21: 362 | P21: 370.15 | Q21: 377.03 | R21: 377.03 | S21: 381.06 | T21: 376.02
E22: v tom | F22: veřejný | J22: 251.14 | K22: 246.59 | L22: 260.22 | M22: 265.05 | N22: 268.04 | O22: 267 | P22: 266.15 | Q22: 266.02 | R22: 265.02 | S22: 265.05 | T22: 267.02
F23: v tom | G23: MŠMT | J23: 25 | K23: 21 | L23: 19 | M23: 20 | N23: 18 | O23: 16 | P23: 14.14 | Q23: 13 | R23: 14 | S23: 13.01 | T23: 13
G24: obec | J24: 10 | K24: 10.04 | L24: 10 | M24: 10 | N24: 10 | O24: 10 | P24: 9 | Q24: 11 | R24: 11 | S24: 12 | T24: 12
G25: kraj | J25: 216.14 | K25: 215.55 | L25: 231.22 | M25: 235.05 | N25: 240.04 | O25: 241 | P25: 243.01 | Q25: 242.02 | R25: 240.02 | S25: 240.04 | T25: 242.02
G26: jiný resort | J26: 0 | K26: 0 | L26: 0 | M26: 0 | N26: 0 | O26: 0 | P26: 0 | Q26: 0 | R26: 0 | S26: 0 | T26: 0
F27: neveřejný | J27: 58 | K27: 83.01 | L27: 101.01 | M27: 115.01 | N27: 92.01 | O27: 95 | P27: 104 | Q27: 111.01 | R27: 112.01 | S27: 116.01 | T27: 109
F28: v tom | G28: privátní sektor | J28: 33 | K28: 53 | L28: 69 | M28: 85.01 | N28: 63.01 | O28: 66 | P28: 76 | Q28: 81 | R28: 80.01 | S28: 83.01 | T28: 74
G29: církev | J29: 25 | K29: 30.01 | L29: 32.01 | M29: 30 | N29: 29 | O29: 29 | P29: 28 | Q29: 30.01 | R29: 32 | S29: 33 | T29: 35
E30: Střední vzdělávání s výučním listem1) | J30: 4731.29 | K30: 4607.33 | L30: 4502.98 | M30: 4491.79 | N30: 4528.05 | O30: 4642.16 | P30: 4722.49 | Q30: 4803.94 | R30: 4998.88 | S30: 5153.04 | T30: 5195.76
E31: v tom | F31: veřejný | J31: 4182.29 | K31: 4042.31 | L31: 3918.89 | M31: 3905.79 | N31: 3940.99 | O31: 4059.11 | P31: 4146.46 | Q31: 4214.94 | R31: 4392.89 | S31: 4536.03 | T31: 4571.21
F32: v tom | G32: MŠMT | J32: 165.01 | K32: 163 | L32: 159 | M32: 157 | N32: 151 | O32: 160 | P32: 168 | Q32: 158 | R32: 149 | S32: 156.01 | T32: 147
G33: obec | J33: 26 | K33: 25.96 | L33: 28 | M33: 28.99 | N33: 24.99 | O33: 25.99 | P33: 26.01 | Q33: 24.01 | R33: 26.01 | S33: 28.99 | T33: 33
G34: kraj | J34: 3991.28 | K34: 3853.35 | L34: 3731.89 | M34: 3719.8 | N34: 3765 | O34: 3873.12 | P34: 3952.45 | Q34: 4032.93 | R34: 4217.88 | S34: 4351.03 | T34: 4391.21
G35: jiný resort | J35: 0 | K35: 0 | L35: 0 | M35: 0 | N35: 0 | O35: 0 | P35: 0 | Q35: 0 | R35: 0 | S35: 0 | T35: 0
F36: neveřejný | J36: 549 | K36: 565.02 | L36: 584.09 | M36: 586 | N36: 587.06 | O36: 583.05 | P36: 576.03 | Q36: 589 | R36: 605.99 | S36: 617.01 | T36: 624.55
F37: v tom | G37: privátní sektor | J37: 534 | K37: 550.02 | L37: 569.09 | M37: 568.99 | N37: 567.06 | O37: 560.05 | P37: 550.03 | Q37: 559.01 | R37: 571.99 | S37: 581.01 | T37: 588.56
G38: církev | J38: 15 | K38: 15 | L38: 15 | M38: 17.01 | N38: 20 | O38: 23 | P38: 26 | Q38: 29.99 | R38: 34 | S38: 36 | T38: 35.99
E39: Střední vzdělávání s maturitní zkouškou1) | J39: 12674.39 | K39: 12662.17 | L39: 12711.41 | M39: 12804.69 | N39: 12940.27 | O39: 13138.06 | P39: 13462.39 | Q39: 13787.08 | R39: 14187.06 | S39: 14551.06 | T39: 14874.43
E40: v tom | F40: veřejný | J40: 10357.5 | K40: 10315.18 | L40: 10322.37 | M40: 10399.72 | N40: 10467.26 | O40: 10600.05 | P40: 10833.35 | Q40: 11027.07 | R40: 11285.06 | S40: 11524.05 | T40: 11721.01
F41: v tom | G41: MŠMT | J41: 28 | K41: 30 | L41: 30 | M41: 32 | N41: 32 | O41: 28 | P41: 28.86 | Q41: 31 | R41: 32 | S41: 35 | T41: 34
G42: obec | J42: 140 | K42: 142 | L42: 141 | M42: 138 | N42: 138 | O42: 140 | P42: 148 | Q42: 159 | R42: 167 | S42: 170 | T42: 174
G43: kraj | J43: 10162.5 | K43: 10112.18 | L43: 10116.37 | M43: 10189.72 | N43: 10251.26 | O43: 10382.05 | P43: 10603.49 | Q43: 10783.07 | R43: 11029.06 | S43: 11260.05 | T43: 11452.01
G44: jiný resort | J44: 27 | K44: 31 | L44: 35 | M44: 40 | N44: 46 | O44: 50 | P44: 53 | Q44: 54 | R44: 57 | S44: 59 | T44: 61
F45: neveřejný | J45: 2316.89 | K45: 2346.99 | L45: 2389.04 | M45: 2404.97 | N45: 2473.01 | O45: 2538.01 | P45: 2629.04 | Q45: 2760.01 | R45: 2902 | S45: 3027.01 | T45: 3153.42
F46: v tom | G46: privátní sektor | J46: 1972.9 | K46: 1999.99 | L46: 2036.04 | M46: 2051.97 | N46: 2123.01 | O46: 2182.01 | P46: 2265.04 | Q46: 2388.01 | R46: 2523 | S46: 2642.01 | T46: 2763.42
G47: církev | J47: 343.99 | K47: 347 | L47: 353 | M47: 353 | N47: 350 | O47: 356 | P47: 364 | Q47: 372 | R47: 379 | S47: 385 | T47: 390
E48: Nástavbové studium | J48: 554.34 | K48: 528.29 | L48: 512.75 | M48: 487.6 | N48: 452 | O48: 453.05 | P48: 473.99 | Q48: 478.01 | R48: 466.99 | S48: 459.99 | T48: 469
...

Sheet B5.1.5
D4: Tab. B5.1.5: | H4: Střední školy – žáci, nově přijatí a absolventi
B5: 18 | D5: ve školním roce 2015/16 až 2025/26 – podle formy vzdělávání a zřizovatele
D7: Forma vzdělávání Zřizovatel | J7: 2015/16 | K7: 2016/17 | L7: 2017/18 | M7: 2018/19 | N7: 2019/20 | O7: 2020/21 | P7: 2021/22 | Q7: 2022/23 | R7: 2023/24 | S7: 2024/25 | T7: 2025/26
D12: Žáci
E13: Celkem | J13: 427107 | K13: 424849 | L13: 421535 | M13: 420814 | N13: 423838 | O13: 432906 | P13: 446254 | Q13: 463200 | R13: 484758 | S13: 503189 | T13: 514881
E14: v tom | F14: veřejný | J14: 362298 | K14: 358169 | L14: 353759 | M14: 352861 | N14: 354338 | O14: 360759 | P14: 369823 | Q14: 381860 | R14: 397923 | S14: 411810 | T14: 420019
F15: v tom | G15: MŠMT | J15: 1223 | K15: 1190 | L15: 1117 | M15: 1110 | N15: 1126 | O15: 1137 | P15: 1115 | Q15: 1158 | R15: 1201 | S15: 1152 | T15: 1155
G16: obec | J16: 3447 | K16: 3437 | L16: 3529 | M16: 3572 | N16: 3649 | O16: 3757 | P16: 3974 | Q16: 4278 | R16: 4557 | S16: 4759 | T16: 4968
G17: kraj | J17: 356388 | K17: 352182 | L17: 347654 | M17: 346595 | N17: 347795 | O17: 353977 | P17: 362756 | Q17: 374379 | R17: 390082 | S17: 403757 | T17: 411733
G18: jiný resort | J18: 1240 | K18: 1360 | L18: 1459 | M18: 1584 | N18: 1768 | O18: 1888 | P18: 1978 | Q18: 2045 | R18: 2083 | S18: 2142 | T18: 2163
F19: neveřejný | J19: 64809 | K19: 66680 | L19: 67776 | M19: 67953 | N19: 69500 | O19: 72147 | P19: 76431 | Q19: 81340 | R19: 86835 | S19: 91379 | T19: 94862
F20: v tom | G20: privátní sektor | J20: 54957 | K20: 56664 | L20: 57693 | M20: 57856 | N20: 59439 | O20: 61855 | P20: 65752 | Q20: 70232 | R20: 75423 | S20: 79699 | T20: 83000
G21: církev | J21: 9852 | K21: 10016 | L21: 10083 | M21: 10097 | N21: 10061 | O21: 10292 | P21: 10679 | Q21: 11108 | R21: 11412 | S21: 11680 | T21: 11862
E22: Denní forma vzdělávání | J22: 405631 | K22: 404087 | L22: 403018 | M22: 403957 | N22: 408088 | O22: 417302 | P22: 430216 | Q22: 447796 | R22: 469236 | S22: 487771 | T22: 499447
E23: v tom | F23: veřejný | J23: 350248 | K23: 347136 | L23: 344591 | M23: 345109 | N23: 347625 | O23: 354391 | P23: 363381 | Q23: 376172 | R23: 392450 | S23: 406604 | T23: 415112
F24: v tom | G24: MŠMT | J24: 1223 | K24: 1190 | L24: 1117 | M24: 1110 | N24: 1126 | O24: 1137 | P24: 1115 | Q24: 1158 | R24: 1201 | S24: 1152 | T24: 1155
G25: obec | J25: 3418 | K25: 3418 | L25: 3461 | M25: 3461 | N25: 3520 | O25: 3629 | P25: 3839 | Q25: 4145 | R25: 4426 | S25: 4630 | T25: 4841
G26: kraj | J26: 344897 | K26: 341739 | L26: 339102 | M26: 339496 | N26: 341805 | O26: 348329 | P26: 357044 | Q26: 369449 | R26: 385334 | S26: 399242 | T26: 407486
G27: jiný resort | J27: 710 | K27: 789 | L27: 911 | M27: 1042 | N27: 1174 | O27: 1296 | P27: 1383 | Q27: 1420 | R27: 1489 | S27: 1580 | T27: 1630
F28: neveřejný | J28: 55383 | K28: 56951 | L28: 58427 | M28: 58848 | N28: 60463 | O28: 62911 | P28: 66835 | Q28: 71624 | R28: 76786 | S28: 81167 | T28: 84335
F29: v tom | G29: privátní sektor | J29: 45899 | K29: 47320 | L29: 48661 | M29: 49100 | N29: 50708 | O29: 52949 | P29: 56501 | Q29: 60873 | R29: 65688 | S29: 69805 | T29: 72748
G30: církev | J30: 9484 | K30: 9631 | L30: 9766 | M30: 9748 | N30: 9755 | O30: 9962 | P30: 10334 | Q30: 10751 | R30: 11098 | S30: 11362 | T30: 11587
E31: Ostatní formy vzdělávání | J31: 21476 | K31: 20762 | L31: 18517 | M31: 16857 | N31: 15750 | O31: 15604 | P31: 16038 | Q31: 15404 | R31: 15522 | S31: 15418 | T31: 15434
E32: v tom | F32: veřejný | J32: 12050 | K32: 11033 | L32: 9168 | M32: 7752 | N32: 6713 | O32: 6368 | P32: 6442 | Q32: 5688 | R32: 5473 | S32: 5206 | T32: 4907
F33: v tom | G33: MŠMT | J33: 0 | K33: 0 | L33: 0 | M33: 0 | N33: 0 | O33: 0 | P33: 0 | Q33: 0 | R33: 0 | S33: 0 | T33: 0
G34: obec | J34: 29 | K34: 19 | L34: 68 | M34: 111 | N34: 129 | O34: 128 | P34: 135 | Q34: 133 | R34: 131 | S34: 129 | T34: 127
G35: kraj | J35: 11491 | K35: 10443 | L35: 8552 | M35: 7099 | N35: 5990 | O35: 5648 | P35: 5712 | Q35: 4930 | R35: 4748 | S35: 4515 | T35: 4247
G36: jiný resort | J36: 530 | K36: 571 | L36: 548 | M36: 542 | N36: 594 | O36: 592 | P36: 595 | Q36: 625 | R36: 594 | S36: 562 | T36: 533
F37: neveřejný | J37: 9426 | K37: 9729 | L37: 9349 | M37: 9105 | N37: 9037 | O37: 9236 | P37: 9596 | Q37: 9716 | R37: 10049 | S37: 10212 | T37: 10527
F38: v tom | G38: privátní sektor | J38: 9058 | K38: 9344 | L38: 9032 | M38: 8756 | N38: 8731 | O38: 8906 | P38: 9251 | Q38: 9359 | R38: 9735 | S38: 9894 | T38: 10252
G39: církev | J39: 368 | K39: 385 | L39: 317 | M39: 349 | N39: 306 | O39: 330 | P39: 345 | Q39: 357 | R39: 314 | S39: 318 | T39: 275
D40: Nově přijatí
E41: Celkem | J41: 116077 | K41: 115617 | L41: 114041 | M41: 113513 | N41: 116183 | O41: 118293 | P41: 125167 | Q41: 133416 | R41: 139916 | S41: 140613 | T41: 142157
E42: v tom | F42: veřejný | J42: 97936 | K42: 96823 | L42: 95379 | M42: 94997 | N42: 96720 | O42: 98037 | P42: 102911 | Q42: 109438 | R42: 114794 | S42: 115205 | T42: 115630
F43: v tom | G43: MŠMT | J43: 454 | K43: 437 | L43: 371 | M43: 395 | N43: 397 | O43: 390 | P43: 398 | Q43: 481 | R43: 444 | S43: 410 | T43: 428
G44: obec | J44: 769 | K44: 764 | L44: 815 | M44: 808 | N44: 844 | O44: 858 | P44: 929 | Q44: 1054 | R44: 1165 | S44: 1187 | T44: 1255
G45: kraj | J45: 96372 | K45: 95270 | L45: 93777 | M45: 93360 | N45: 95004 | O45: 96296 | P45: 101123 | Q45: 107498 | R45: 112665 | S45: 113067 | T45: 113417
G46: jiný resort | J46: 341 | K46: 352 | L46: 416 | M46: 434 | N46: 475 | O46: 493 | P46: 461 | Q46: 405 | R46: 520 | S46: 541 | T46: 530
F47: neveřejný | J47: 18141 | K47: 18794 | L47: 18662 | M47: 18516 | N47: 19463 | O47: 20256 | P47: 22256 | Q47: 23978 | R47: 25122 | S47: 25408 | T47: 26527
F48: v tom | G48: privátní sektor | J48: 16081 | K48: 16690 | L48: 16609 | M48: 16441 | N48: 17281 | O48: 18097 | P48: 19889 | Q48: 21470 | R48: 22645 | S48: 22868 | T48: 23918
...

Sheet B5.1.6
D4: Tab. B5.1.6: | H4: Střední školy – žáci, nově přijatí a absolventi
B5: 18 | D5: ve školním roce 2015/16 až 2025/26 – podle zřizovatele
D7: Zřizovatel | J7: 2015/16 | K7: 2016/17 | L7: 2017/18 | M7: 2018/19 | N7: 2019/20 | O7: 2020/21 | P7: 2021/22 | Q7: 2022/23 | R7: 2023/24 | S7: 2024/25 | T7: 2025/26
D12: Žáci
E13: Celkem | J13: 427107 | K13: 424849 | L13: 421535 | M13: 420814 | N13: 423838 | O13: 432906 | P13: 446254 | Q13: 463200 | R13: 484758 | S13: 503189 | T13: 514881
E14: v tom | F14: všeobecné vzdělávání v oborech gymnázií | J14: 128045 | K14: 128994 | L14: 129554 | M14: 130133 | N14: 130725 | O14: 131799 | P14: 133321 | Q14: 135929 | R14: 138483 | S14: 141530 | T14: 144110
F15: odborné vzdělávání bez lyceí | J15: 284038 | K15: 280862 | L15: 276913 | M15: 275569 | N15: 277973 | O15: 285467 | P15: 296278 | Q15: 309493 | R15: 327227 | S15: 340594 | T15: 347079
F16: lycea | J16: 15024 | K16: 14993 | L16: 15068 | M16: 15112 | N16: 15140 | O16: 15640 | P16: 16655 | Q16: 17778 | R16: 19048 | S16: 21065 | T16: 23692
E17: Veřejný | J17: 362298 | K17: 358169 | L17: 353759 | M17: 352861 | N17: 354338 | O17: 360759 | P17: 369823 | Q17: 381860 | R17: 397923 | S17: 411810 | T17: 420019
E18: v tom | F18: všeobecné vzdělávání v oborech gymnázií | J18: 110821 | K18: 111005 | L18: 110944 | M18: 110972 | N18: 111187 | O18: 111599 | P18: 112311 | Q18: 113740 | R18: 115274 | S18: 117112 | T18: 118519
F19: odborné vzdělávání bez lyceí | J19: 237686 | K19: 233448 | L19: 229041 | M19: 228096 | N19: 229460 | O19: 235278 | P19: 243095 | Q19: 253020 | R19: 266611 | S19: 276936 | T19: 281654
F20: lycea | J20: 13791 | K20: 13716 | L20: 13774 | M20: 13793 | N20: 13691 | O20: 13882 | P20: 14417 | Q20: 15100 | R20: 16038 | S20: 17762 | T20: 19846
E21: Privátní sektor | J21: 54957 | K21: 56664 | L21: 57693 | M21: 57856 | N21: 59439 | O21: 61855 | P21: 10679 | Q21: 70232 | R21: 75423 | S21: 79699 | T21: 83000
E22: v tom | F22: všeobecné vzdělávání v oborech gymnázií | J22: 10158 | K22: 10856 | L22: 11439 | M22: 12005 | N22: 12440 | O22: 13021 | P22: 7237 | Q22: 14804 | R22: 15748 | S22: 16917 | T22: 18020
F23: odborné vzdělávání bez lyceí | J23: 43937 | K23: 44920 | L23: 45373 | M23: 44933 | N23: 45892 | O23: 47441 | P23: 3031 | Q23: 53202 | R23: 57137 | S23: 59981 | T23: 61646
F24: lycea | J24: 862 | K24: 888 | L24: 881 | M24: 918 | N24: 1107 | O24: 1393 | P24: 411 | Q24: 2226 | R24: 2538 | S24: 2801 | T24: 3334
E25: Církev | J25: 9852 | K25: 10016 | L25: 10083 | M25: 10097 | N25: 10061 | O25: 10292 | P25: 65752 | Q25: 11108 | R25: 11412 | S25: 11680 | T25: 11862
E26: v tom | F26: všeobecné vzdělávání v oborech gymnázií | J26: 7066 | K26: 7133 | L26: 7171 | M26: 7156 | N26: 7098 | O26: 7179 | P26: 13773 | Q26: 7385 | R26: 7461 | S26: 7501 | T26: 7571
F27: odborné vzdělávání bez lyceí | J27: 2415 | K27: 2494 | L27: 2499 | M27: 2540 | N27: 2621 | O27: 2748 | P27: 50152 | Q27: 3271 | R27: 3479 | S27: 3677 | T27: 3779
F28: lycea | J28: 371 | K28: 389 | L28: 413 | M28: 401 | N28: 342 | O28: 365 | P28: 1827 | Q28: 452 | R28: 472 | S28: 502 | T28: 512
D29: Nově přijatí
E30: Celkem | J30: 116077 | K30: 115617 | L30: 114041 | M30: 113513 | N30: 116183 | O30: 118293 | P30: 125167 | Q30: 133416 | R30: 139916 | S30: 140613 | T30: 142157
E31: v tom | F31: všeobecné vzdělávání v oborech gymnázií | J31: 23586 | K31: 23812 | L31: 23683 | M31: 23641 | N31: 24120 | O31: 24070 | P31: 24724 | Q31: 25298 | R31: 26254 | S31: 27117 | T31: 27562
F32: odborné vzdělávání bez lyceí | J32: 88635 | K32: 87897 | L32: 86529 | M32: 85977 | N32: 88105 | O32: 89875 | P32: 95735 | Q32: 103117 | R32: 108327 | S32: 107071 | T32: 107224
F33: lycea | J33: 3856 | K33: 3908 | L33: 3829 | M33: 3895 | N33: 3958 | O33: 4348 | P33: 4708 | Q33: 5001 | R33: 5335 | S33: 6425 | T33: 7371
E34: Veřejný | J34: 97936 | K34: 96823 | L34: 95379 | M34: 94997 | N34: 96720 | O34: 98037 | P34: 102911 | Q34: 109438 | R34: 114794 | S34: 115205 | T34: 115630
E35: v tom | F35: všeobecné vzdělávání v oborech gymnázií | J35: 20439 | K35: 20587 | L35: 20333 | M35: 20279 | N35: 20696 | O35: 20505 | P35: 20954 | Q35: 21159 | R35: 22008 | S35: 22372 | T35: 22425
F36: odborné vzdělávání bez lyceí | J36: 73970 | K36: 72662 | L36: 71538 | M36: 71171 | N36: 72508 | O36: 73802 | P36: 78011 | Q36: 84107 | R36: 88275 | S36: 87318 | T36: 87131
F37: lycea | J37: 3527 | K37: 3574 | L37: 3508 | M37: 3547 | N37: 3516 | O37: 3730 | P37: 3946 | Q37: 4172 | R37: 4511 | S37: 5515 | T37: 6074
E38: Privátní sektor | J38: 16081 | K38: 16690 | L38: 16609 | M38: 16441 | N38: 17281 | O38: 18097 | P38: 2367 | Q38: 21470 | R38: 22645 | S38: 22868 | T38: 23918
E39: v tom | F39: všeobecné vzdělávání v oborech gymnázií | J39: 1967 | K39: 2043 | L39: 2189 | M39: 2223 | N39: 2246 | O39: 2352 | P39: 1191 | Q39: 2887 | R39: 3035 | S39: 3472 | T39: 3890
F40: odborné vzdělávání bez lyceí | J40: 13897 | K40: 14412 | L40: 14211 | M40: 13976 | N40: 14688 | O40: 15225 | P40: 1054 | Q40: 17884 | R40: 18908 | S40: 18613 | T40: 18872
F41: lycea | J41: 217 | K41: 235 | L41: 209 | M41: 242 | N41: 347 | O41: 520 | P41: 122 | Q41: 699 | R41: 702 | S41: 783 | T41: 1156
E42: Církev | J42: 2060 | K42: 2104 | L42: 2053 | M42: 2075 | N42: 2182 | O42: 2159 | P42: 19889 | Q42: 2508 | R42: 2477 | S42: 2540 | T42: 2609
E43: v tom | F43: všeobecné vzdělávání v oborech gymnázií | J43: 1180 | K43: 1182 | L43: 1161 | M43: 1139 | N43: 1178 | O43: 1213 | P43: 2579 | Q43: 1252 | R43: 1211 | S43: 1273 | T43: 1247
F44: odborné vzdělávání bez lyceí | J44: 768 | K44: 823 | L44: 780 | M44: 830 | N44: 909 | O44: 848 | P44: 16670 | Q44: 1126 | R44: 1144 | S44: 1140 | T44: 1221
F45: lycea | J45: 112 | K45: 99 | L45: 112 | M45: 106 | N45: 95 | O45: 98 | P45: 640 | Q45: 130 | R45: 122 | S45: 127 | T45: 141
D46: Absolventi
E47: Celkem | J47: 78385 | K47: 78602 | L47: 78056 | M47: 79477 | N47: 84462 | O47: 90012 | P47: 85492 | Q47: 89284 | R47: 95791 | S47: 104096 | T47: .
E48: v tom | F48: všeobecné vzdělávání v oborech gymnázií | J48: 20279 | K48: 20466 | L48: 20347 | M48: 21038 | N48: 21274 | O48: 21360 | P48: 21024 | Q48: 21612 | R48: 22361 | S48: 22825 | T48: .
...

Sheet B5.1.7
D4: Tab. B5.1.7: | H4: Střední školy – žáci, nově přijatí a absolventi
B5: 18 | D5: ve školním roce 2015/16 až 2025/26 – podle zřizovatele a druhu vzdělávání
D7: Zřizovatel Druh vzdělávání | J7: 2015/16 | K7: 2016/17 | L7: 2017/18 | M7: 2018/19 | N7: 2019/20 | O7: 2020/21 | P7: 2021/22 | Q7: 2022/23 | R7: 2023/24 | S7: 2024/25 | T7: 2025/26
D12: Žáci
E13: Celkem | J13: 427107 | K13: 424849 | L13: 421535 | M13: 420814 | N13: 423838 | O13: 432906 | P13: 446254 | Q13: 463200 | R13: 484758 | S13: 503189 | T13: 514881
E14: v tom | F14: střední vzdělávání | J14: 2201 | K14: 2404 | L14: 2612 | M14: 2723 | N14: 2719 | O14: 2720 | P14: 2763 | Q14: 2762 | R14: 2841 | S14: 2959 | T14: 2919
F15: střední vzdělávání s výučním listem1) | J15: 91841 | K15: 89467 | L15: 87437 | M15: 86590 | N15: 88783 | O15: 90641 | P15: 91256 | Q15: 95054 | R15: 100566 | S15: 104687 | T15: 105816
F16: střední vzdělávání s maturitní zkouškou1) | J16: 312628 | K16: 314000 | L16: 315000 | M16: 316698 | N16: 318816 | O16: 326007 | P16: 337283 | Q16: 350923 | R16: 367007 | S16: 381455 | T16: 391695
F17: nástavbové studium | J17: 20437 | K17: 18978 | L17: 16486 | M17: 14803 | N17: 13520 | O17: 13538 | P17: 14952 | Q17: 14461 | R17: 14344 | S17: 14088 | T17: 14451
E18: Veřejný | J18: 362298 | K18: 358169 | L18: 353759 | M18: 352861 | N18: 354338 | O18: 360759 | P18: 369823 | Q18: 381860 | R18: 397923 | S18: 411810 | T18: 420019
E19: v tom | F19: střední vzdělávání | J19: 1714 | K19: 1749 | L19: 1811 | M19: 1885 | N19: 1871 | O19: 1856 | P19: 1827 | Q19: 1798 | R19: 1828 | S19: 1897 | T19: 1894
F20: střední vzdělávání s výučním listem | J20: 82060 | K20: 79428 | L20: 77215 | M20: 76775 | N20: 78591 | O20: 80404 | P20: 81038 | Q20: 84569 | R20: 89448 | S20: 93053 | T20: 93982
F21: střední vzdělávání s maturitní zkouškou | J21: 263139 | K21: 262696 | L21: 262467 | M21: 263230 | N21: 264034 | O21: 268698 | P21: 276072 | Q21: 285113 | R21: 296384 | S21: 306728 | T21: 313516
F22: nástavbové studium | J22: 15385 | K22: 14296 | L22: 12266 | M22: 10971 | N22: 9842 | O22: 9801 | P22: 10886 | Q22: 10380 | R22: 10263 | S22: 10132 | T22: 10627
E23: Privátní sektor | J23: 54957 | K23: 56664 | L23: 57693 | M23: 57856 | N23: 59439 | O23: 61855 | P23: 65752 | Q23: 70232 | R23: 75423 | S23: 79699 | T23: 83000
E24: v tom | F24: střední vzdělávání | J24: 256 | K24: 396 | L24: 544 | M24: 618 | N24: 599 | O24: 631 | P24: 702 | Q24: 716 | R24: 759 | S24: 798 | T24: 749
F25: střední vzdělávání s výučním listem | J25: 9475 | K25: 9725 | L25: 9917 | M25: 9489 | N25: 9832 | O25: 9852 | P25: 9780 | Q25: 9970 | R25: 10512 | S25: 10973 | T25: 11183
F26: střední vzdělávání s maturitní zkouškou | J26: 40261 | K26: 41945 | L26: 43086 | M26: 43997 | N26: 45427 | O26: 47725 | P26: 51308 | Q26: 55573 | R26: 60164 | S26: 64057 | T26: 67355
F27: nástavbové studium | J27: 4965 | K27: 4598 | L27: 4146 | M27: 3752 | N27: 3581 | O27: 3647 | P27: 3962 | Q27: 3973 | R27: 3988 | S27: 3871 | T27: 3713
E28: Církev | J28: 9852 | K28: 10016 | L28: 10083 | M28: 10097 | N28: 10061 | O28: 10292 | P28: 10679 | Q28: 11108 | R28: 11412 | S28: 11680 | T28: 11862
E29: v tom | F29: střední vzdělávání | J29: 231 | K29: 259 | L29: 257 | M29: 220 | N29: 249 | O29: 233 | P29: 234 | Q29: 248 | R29: 254 | S29: 264 | T29: 276
F30: střední vzdělávání s výučním listem | J30: 306 | K30: 314 | L30: 305 | M30: 326 | N30: 360 | O30: 385 | P30: 438 | Q30: 515 | R30: 606 | S30: 661 | T30: 651
F31: střední vzdělávání s maturitní zkouškou | J31: 9228 | K31: 9359 | L31: 9447 | M31: 9471 | N31: 9355 | O31: 9584 | P31: 9903 | Q31: 10237 | R31: 10459 | S31: 10670 | T31: 10824
F32: nástavbové studium | J32: 87 | K32: 84 | L32: 74 | M32: 80 | N32: 97 | O32: 90 | P32: 104 | Q32: 108 | R32: 93 | S32: 85 | T32: 111
D33: Nově přijatí
E34: Celkem | J34: 116077 | K34: 115617 | L34: 114041 | M34: 113513 | N34: 116183 | O34: 118293 | P34: 125167 | Q34: 133416 | R34: 139916 | S34: 140613 | T34: 142157
E35: v tom | F35: střední vzdělávání | J35: 943 | K35: 1098 | L35: 1098 | M35: 1010 | N35: 942 | O35: 966 | P35: 926 | Q35: 1007 | R35: 1072 | S35: 1100 | T35: 1129
F36: střední vzdělávání s výučním listem1) | J36: 32010 | K36: 31112 | L36: 31376 | M36: 31524 | N36: 32999 | O36: 32739 | P36: 32387 | Q36: 37567 | R36: 39743 | S36: 38832 | T36: 39289
F37: střední vzdělávání s maturitní zkouškou1) | J37: 72927 | K37: 73545 | L37: 73507 | M37: 73684 | N37: 75232 | O37: 77440 | P37: 83484 | Q37: 87267 | R37: 91440 | S37: 93155 | T37: 93959
F38: nástavbové studium | J38: 10197 | K38: 9862 | L38: 8060 | M38: 7295 | N38: 7010 | O38: 7148 | P38: 8370 | Q38: 7575 | R38: 7661 | S38: 7526 | T38: 7780
E39: Veřejný | J39: 97936 | K39: 96823 | L39: 95379 | M39: 94997 | N39: 96720 | O39: 98037 | P39: 102911 | Q39: 109438 | R39: 114794 | S39: 115205 | T39: 115630
E40: v tom | F40: střední vzdělávání | J40: 744 | K40: 734 | L40: 730 | M40: 741 | N40: 687 | O40: 670 | P40: 662 | Q40: 664 | R40: 747 | S40: 732 | T40: 763
F41: střední vzdělávání s výučním listem | J41: 28483 | K41: 27490 | L41: 27599 | M41: 27882 | N41: 29139 | O41: 29035 | P41: 28881 | Q41: 33469 | R41: 35301 | S41: 34597 | T41: 34786
F42: střední vzdělávání s maturitní zkouškou | J42: 60847 | K42: 61002 | L42: 60956 | M42: 60870 | N42: 61686 | O42: 63104 | P42: 67222 | Q42: 69810 | R42: 73187 | S42: 74417 | T42: 74210
F43: nástavbové studium | J43: 7862 | K43: 7597 | L43: 6094 | M43: 5504 | N43: 5208 | O43: 5228 | P43: 6146 | Q43: 5495 | R43: 5559 | S43: 5459 | T43: 5871
E44: Privátní sektor | J44: 16081 | K44: 16690 | L44: 16609 | M44: 16441 | N44: 17281 | O44: 18097 | P44: 19889 | Q44: 21470 | R44: 22645 | S44: 22868 | T44: 23918
E45: v tom | F45: střední vzdělávání | J45: 109 | K45: 236 | L45: 273 | M45: 185 | N45: 158 | O45: 209 | P45: 176 | Q45: 244 | R45: 227 | S45: 261 | T45: 262
F46: střední vzdělávání s výučním listem | J46: 3427 | K46: 3507 | L46: 3683 | M46: 3522 | N46: 3708 | O46: 3581 | P46: 3337 | Q46: 3877 | R46: 4208 | S46: 4005 | T46: 4263
F47: střední vzdělávání s maturitní zkouškou | J47: 10263 | K47: 10731 | L47: 10727 | M47: 10997 | N47: 11664 | O47: 12430 | P47: 14213 | Q47: 15330 | R47: 16147 | S47: 16592 | T47: 17556
F48: nástavbové studium | J48: 2282 | K48: 2216 | L48: 1926 | M48: 1737 | N48: 1751 | O48: 1877 | P48: 2163 | Q48: 2019 | R48: 2063 | S48: 2010 | T48: 1837
...

Sheet B5.1.8
D4: Tab. B5.1.8: | H4: Střední školy – dívky, nově přijaté a absolventky
B5: 18 | D5: ve školním roce 2015/16 až 2025/26 – podle zřizovatele a druhu vzdělávání
D7: Zřizovatel Druh vzdělávání | J7: 2015/16 | K7: 2016/17 | L7: 2017/18 | M7: 2018/19 | N7: 2019/20 | O7: 2020/21 | P7: 2021/22 | Q7: 2022/23 | R7: 2023/24 | S7: 2024/25 | T7: 2025/26
D12: Dívky
E13: Celkem | J13: 210875 | K13: 209632 | L13: 208057 | M13: 208308 | N13: 209807 | O13: 214514 | P13: 220877 | Q13: 229116 | R13: 239725 | S13: 249058 | T13: 255157
E14: v tom | F14: střední vzdělávání | J14: 994 | K14: 1117 | L14: 1237 | M14: 1280 | N14: 1292 | O14: 1267 | P14: 1248 | Q14: 1213 | R14: 1243 | S14: 1313 | T14: 1265
F15: střední vzdělávání s výučním listem1) | J15: 31799 | K15: 30794 | L15: 29856 | M15: 29599 | N15: 30590 | O15: 31472 | P15: 31847 | Q15: 33311 | R15: 35741 | S15: 37705 | T15: 38302
F16: střední vzdělávání s maturitní zkouškou1) | J16: 169040 | K16: 169485 | L16: 169664 | M16: 170700 | N16: 172016 | O16: 175839 | P16: 181217 | Q16: 188150 | R16: 196321 | S16: 203792 | T16: 209209
F17: nástavbové studium | J17: 9042 | K17: 8236 | L17: 7300 | M17: 6729 | N17: 5909 | O17: 5936 | P17: 6565 | Q17: 6442 | R17: 6420 | S17: 6248 | T17: 6381
E18: Veřejný | J18: 175035 | K18: 172748 | L18: 170424 | M18: 170203 | N18: 170451 | O18: 173261 | P18: 176979 | Q18: 181915 | R18: 188844 | S18: 195335 | T18: 199211
E19: v tom | F19: střední vzdělávání | J19: 707 | K19: 746 | L19: 811 | M19: 826 | N19: 827 | O19: 812 | P19: 762 | Q19: 732 | R19: 701 | S19: 748 | T19: 740
F20: střední vzdělávání s výučním listem | J20: 27538 | K20: 26463 | L20: 25513 | M20: 25338 | N20: 26042 | O20: 26771 | P20: 27081 | Q20: 28340 | R20: 30377 | S20: 32082 | T20: 32587
F21: střední vzdělávání s maturitní zkouškou | J21: 140039 | K21: 139471 | L21: 138858 | M21: 139291 | N21: 139584 | O21: 141612 | P21: 144607 | Q21: 148531 | R21: 153455 | S21: 158282 | T21: 161499
F22: nástavbové studium | J22: 6751 | K22: 6068 | L22: 5242 | M22: 4748 | N22: 3998 | O22: 4066 | P22: 4529 | Q22: 4312 | R22: 4311 | S22: 4223 | T22: 4385
E23: Privátní sektor | J23: 29218 | K23: 30162 | L23: 30837 | M23: 31309 | N23: 32620 | O23: 34342 | P23: 36671 | Q23: 39736 | R23: 43242 | S23: 45959 | T23: 48115
E24: v tom | F24: střední vzdělávání | J24: 140 | K24: 211 | L24: 270 | M24: 321 | N24: 311 | O24: 320 | P24: 358 | Q24: 354 | R24: 408 | S24: 427 | T24: 382
F25: střední vzdělávání s výučním listem | J25: 4002 | K25: 4068 | L25: 4089 | M25: 4005 | N25: 4278 | O25: 4418 | P25: 4449 | Q25: 4610 | R25: 4947 | S25: 5165 | T25: 5258
F26: střední vzdělávání s maturitní zkouškou | J26: 22857 | K26: 23787 | L26: 24481 | M26: 25071 | N26: 26201 | O26: 27806 | P26: 29905 | Q26: 32724 | R26: 35848 | S26: 38398 | T26: 40553
F27: nástavbové studium | J27: 2219 | K27: 2096 | L27: 1997 | M27: 1912 | N27: 1830 | O27: 1798 | P27: 1959 | Q27: 2048 | R27: 2039 | S27: 1969 | T27: 1922
E28: Církev | J28: 6622 | K28: 6722 | L28: 6796 | M28: 6796 | N28: 6736 | O28: 6911 | P28: 7227 | Q28: 7465 | R28: 7639 | S28: 7764 | T28: 7831
E29: v tom | F29: střední vzdělávání | J29: 147 | K29: 160 | L29: 156 | M29: 133 | N29: 154 | O29: 135 | P29: 128 | Q29: 127 | R29: 134 | S29: 138 | T29: 143
F30: střední vzdělávání s výučním listem | J30: 259 | K30: 263 | L30: 254 | M30: 256 | N30: 270 | O30: 283 | P30: 317 | Q30: 361 | R30: 417 | S30: 458 | T30: 457
F31: střední vzdělávání s maturitní zkouškou | J31: 6144 | K31: 6227 | L31: 6325 | M31: 6338 | N31: 6231 | O31: 6421 | P31: 6705 | Q31: 6895 | R31: 7018 | S31: 7112 | T31: 7157
F32: nástavbové studium | J32: 72 | K32: 72 | L32: 61 | M32: 69 | N32: 81 | O32: 72 | P32: 77 | Q32: 82 | R32: 70 | S32: 56 | T32: 74
D33: Nově přijaté
E34: Celkem | J34: 55496 | K34: 55347 | L34: 55026 | M34: 54588 | N34: 55886 | O34: 57055 | P34: 60330 | Q34: 64280 | R34: 67686 | S34: 67896 | T34: 68500
E35: v tom | F35: střední vzdělávání | J35: 432 | K35: 533 | L35: 532 | M35: 464 | N35: 464 | O35: 433 | P35: 424 | Q35: 424 | R35: 466 | S35: 486 | T35: 499
F36: střední vzdělávání s výučním listem1) | J36: 11519 | K36: 10861 | L36: 11086 | M36: 11078 | N36: 11730 | O36: 11623 | P36: 11510 | Q36: 13488 | R36: 14764 | S36: 14250 | T36: 14447
F37: střední vzdělávání s maturitní zkouškou1) | J37: 39283 | K37: 39790 | L37: 39931 | M37: 39868 | N37: 40806 | O37: 41889 | P37: 44819 | Q37: 47021 | R37: 49138 | S37: 49879 | T37: 50195
F38: nástavbové studium | J38: 4262 | K38: 4163 | L38: 3477 | M38: 3178 | N38: 2886 | O38: 3110 | P38: 3577 | Q38: 3347 | R38: 3318 | S38: 3281 | T38: 3359
E39: Veřejný | J39: 45530 | K39: 44972 | L39: 44601 | M39: 44210 | N39: 44610 | O39: 45345 | P39: 47301 | Q39: 49982 | R39: 52647 | S39: 52942 | T39: 52844
E40: v tom | F40: střední vzdělávání | J40: 306 | K40: 329 | L40: 339 | M40: 303 | N40: 319 | O40: 280 | P40: 281 | Q40: 248 | R40: 288 | S40: 284 | T40: 303
F41: střední vzdělávání s výučním listem | J41: 9965 | K41: 9322 | L41: 9504 | M41: 9595 | N41: 9963 | O41: 9922 | P41: 9895 | Q41: 11513 | R41: 12612 | S41: 12259 | T41: 12319
F42: střední vzdělávání s maturitní zkouškou | J42: 31976 | K42: 32199 | L42: 32251 | M42: 32031 | N42: 32335 | O42: 32945 | P42: 34670 | Q42: 35960 | R42: 37504 | S42: 38146 | T42: 37840
F43: nástavbové studium | J43: 3283 | K43: 3122 | L43: 2507 | M43: 2281 | N43: 1993 | O43: 2198 | P43: 2455 | Q43: 2261 | R43: 2243 | S43: 2253 | T43: 2382
E44: Privátní sektor | J44: 8490 | K44: 8875 | L44: 8954 | M44: 8926 | N44: 9740 | O44: 10174 | P44: 11292 | Q44: 12545 | R44: 13295 | S44: 13202 | T44: 13834
E45: v tom | F45: střední vzdělávání | J45: 72 | K45: 122 | L45: 133 | M45: 108 | N45: 81 | O45: 104 | P45: 89 | Q45: 119 | R45: 128 | S45: 137 | T45: 138
F46: střední vzdělávání s výučním listem | J46: 1473 | K46: 1443 | L46: 1509 | M46: 1401 | N46: 1654 | O46: 1606 | P46: 1492 | Q46: 1823 | R46: 1993 | S46: 1832 | T46: 1954
F47: střední vzdělávání s maturitní zkouškou | J47: 6012 | K47: 6309 | L47: 6377 | M47: 6564 | N47: 7156 | O47: 7583 | P47: 8635 | Q47: 9562 | R47: 10130 | S47: 10240 | T47: 10813
F48: nástavbové studium | J48: 933 | K48: 1001 | L48: 935 | M48: 853 | N48: 849 | O48: 881 | P48: 1076 | Q48: 1041 | R48: 1044 | S48: 993 | T48: 929
...

Sheet B5.1.9
D4: Tab. B5.1.9: | H4: Střední školy, denní forma vzdělávání – žáci, nově přijatí a absolventi
B5: 18 | D5: ve školním roce 2015/16 až 2025/26 – podle zřizovatele a druhu vzdělávání
D7: Zřizovatel Druh vzdělávání | J7: 2015/16 | K7: 2016/17 | L7: 2017/18 | M7: 2018/19 | N7: 2019/20 | O7: 2020/21 | P7: 2021/22 | Q7: 2022/23 | R7: 2023/24 | S7: 2024/25 | T7: 2025/26
D12: Žáci
E13: Celkem | J13: 405631 | K13: 404087 | L13: 403018 | M13: 403957 | N13: 408088 | O13: 417302 | P13: 430216 | Q13: 447796 | R13: 469236 | S13: 487771 | T13: 499447
E14: v tom | F14: střední vzdělávání | J14: 2162 | K14: 2369 | L14: 2579 | M14: 2690 | N14: 2697 | O14: 2689 | P14: 2725 | Q14: 2733 | R14: 2815 | S14: 2934 | T14: 2894
F15: střední vzdělávání s výučním listem1) | J15: 89654 | K15: 86964 | L15: 84864 | M15: 84002 | N15: 86075 | O15: 87893 | P15: 88563 | Q15: 92250 | R15: 97794 | S15: 101876 | T15: 103083
F16: střední vzdělávání s maturitní zkouškou1) | J16: 303559 | K16: 305009 | L16: 306491 | M16: 308613 | N16: 310957 | O16: 318046 | P16: 329140 | Q16: 342979 | R16: 358763 | S16: 373152 | T16: 383203
F17: nástavbové studium | J17: 10256 | K17: 9745 | L17: 9084 | M17: 8652 | N17: 8359 | O17: 8674 | P17: 9788 | Q17: 9834 | R17: 9864 | S17: 9809 | T17: 10267
E18: Veřejný | J18: 350248 | K18: 347136 | L18: 344591 | M18: 345109 | N18: 347625 | O18: 354391 | P18: 363381 | Q18: 376172 | R18: 392450 | S18: 406604 | T18: 415112
E19: v tom | F19: střední vzdělávání | J19: 1714 | K19: 1749 | L19: 1811 | M19: 1885 | N19: 1871 | O19: 1856 | P19: 1827 | Q19: 1798 | R19: 1828 | S19: 1897 | T19: 1894
F20: střední vzdělávání s výučním listem | J20: 80666 | K20: 77877 | L20: 75613 | M20: 75153 | N20: 76860 | O20: 78668 | P20: 79339 | Q20: 82799 | R20: 87740 | S20: 91441 | T20: 92533
F21: střední vzdělávání s maturitní zkouškou | J21: 258975 | K21: 259030 | L21: 259262 | M21: 260499 | N21: 261600 | O21: 266365 | P21: 273818 | Q21: 283151 | R21: 294458 | S21: 304796 | T21: 311773
F22: nástavbové studium | J22: 8893 | K22: 8480 | L22: 7905 | M22: 7572 | N22: 7294 | O22: 7502 | P22: 8397 | Q22: 8424 | R22: 8424 | S22: 8470 | T22: 8912
E23: Privátní sektor | J23: 45899 | K23: 47320 | L23: 48661 | M23: 49100 | N23: 50708 | O23: 52949 | P23: 56501 | Q23: 60873 | R23: 65688 | S23: 69805 | T23: 72748
E24: v tom | F24: střední vzdělávání | J24: 217 | K24: 361 | L24: 511 | M24: 585 | N24: 577 | O24: 600 | P24: 664 | Q24: 687 | R24: 733 | S24: 773 | T24: 724
F25: střední vzdělávání s výučním listem | J25: 8682 | K25: 8792 | L25: 8963 | M25: 8548 | N25: 8867 | O25: 8855 | P25: 8786 | Q25: 8950 | R25: 9461 | S25: 9798 | T25: 9899
F26: střední vzdělávání s maturitní zkouškou | J26: 35724 | K26: 36986 | L26: 38082 | M26: 38967 | N26: 40296 | O26: 42412 | P26: 45764 | Q26: 49934 | R26: 54147 | S26: 57980 | T26: 60881
F27: nástavbové studium | J27: 1276 | K27: 1181 | L27: 1105 | M27: 1000 | N27: 968 | O27: 1082 | P27: 1287 | Q27: 1302 | R27: 1347 | S27: 1254 | T27: 1244
E28: Církev | J28: 9484 | K28: 9631 | L28: 9766 | M28: 9748 | N28: 9755 | O28: 9962 | P28: 10334 | Q28: 10751 | R28: 11098 | S28: 11362 | T28: 11587
E29: v tom | F29: střední vzdělávání | J29: 231 | K29: 259 | L29: 257 | M29: 220 | N29: 249 | O29: 233 | P29: 234 | Q29: 248 | R29: 254 | S29: 264 | T29: 276
F30: střední vzdělávání s výučním listem | J30: 306 | K30: 295 | L30: 288 | M30: 301 | N30: 348 | O30: 370 | P30: 438 | Q30: 501 | R30: 593 | S30: 637 | T30: 651
F31: střední vzdělávání s maturitní zkouškou | J31: 8860 | K31: 8993 | L31: 9147 | M31: 9147 | N31: 9061 | O31: 9269 | P31: 9558 | Q31: 9894 | R31: 10158 | S31: 10376 | T31: 10549
F32: nástavbové studium | J32: 87 | K32: 84 | L32: 74 | M32: 80 | N32: 97 | O32: 90 | P32: 104 | Q32: 108 | R32: 93 | S32: 85 | T32: 111
D33: Nově přijatí
E34: Celkem | J34: 108053 | K34: 107399 | L34: 107316 | M34: 107509 | N34: 110095 | O34: 112295 | P34: 118401 | Q34: 127446 | R34: 133942 | S34: 134552 | T34: 136194
E35: v tom | F35: střední vzdělávání | J35: 922 | K35: 1078 | L35: 1082 | M35: 993 | N35: 934 | O35: 944 | P35: 909 | Q35: 990 | R35: 1056 | S35: 1086 | T35: 1116
F36: střední vzdělávání s výučním listem1) | J36: 31173 | K36: 30177 | L36: 30328 | M36: 30435 | N36: 31902 | O36: 31590 | P36: 31313 | Q36: 36474 | R36: 38604 | S36: 37701 | T36: 38192
F37: střední vzdělávání s maturitní zkouškou1) | J37: 70156 | K37: 70700 | L37: 70796 | M37: 71224 | N37: 72593 | O37: 74771 | P37: 80525 | Q37: 84521 | R37: 88791 | S37: 90371 | T37: 91067
F38: nástavbové studium | J38: 5802 | K38: 5444 | L38: 5110 | M38: 4857 | N38: 4666 | O38: 4990 | P38: 5654 | Q38: 5461 | R38: 5491 | S38: 5394 | T38: 5819
E39: Veřejný | J39: 93218 | K39: 92269 | L39: 92026 | M39: 92271 | N39: 94021 | O39: 95619 | P39: 100037 | Q39: 107300 | R39: 112695 | S39: 113123 | T39: 113780
E40: v tom | F40: střední vzdělávání | J40: 744 | K40: 734 | L40: 730 | M40: 741 | N40: 687 | O40: 670 | P40: 662 | Q40: 664 | R40: 747 | S40: 732 | T40: 763
F41: střední vzdělávání s výučním listem | J41: 27931 | K41: 26872 | L41: 26893 | M41: 27156 | N41: 28351 | O41: 28266 | P41: 28137 | Q41: 32769 | R41: 34587 | S41: 33950 | T41: 34226
F42: střední vzdělávání s maturitní zkouškou | J42: 59465 | K42: 59895 | L42: 59943 | M42: 60115 | N42: 60901 | O42: 62392 | P42: 66379 | Q42: 69186 | R42: 72632 | S42: 73759 | T42: 73711
F43: nástavbové studium | J43: 5078 | K43: 4768 | L43: 4460 | M43: 4259 | N43: 4082 | O43: 4291 | P43: 4859 | Q43: 4681 | R43: 4729 | S43: 4682 | T43: 5080
E44: Privátní sektor | J44: 12913 | K44: 13149 | L44: 13347 | M44: 13297 | N44: 14010 | O44: 14637 | P44: 16144 | Q44: 17787 | R44: 18884 | S44: 19002 | T44: 19949
E45: v tom | F45: střední vzdělávání | J45: 88 | K45: 216 | L45: 257 | M45: 168 | N45: 150 | O45: 187 | P45: 159 | Q45: 227 | R45: 211 | S45: 247 | T45: 249
F46: střední vzdělávání s výučním listem | J46: 3142 | K46: 3209 | L46: 3341 | M46: 3171 | N46: 3399 | O46: 3201 | P46: 3007 | Q46: 3498 | R46: 3783 | S46: 3521 | T46: 3726
F47: střední vzdělávání s maturitní zkouškou | J47: 9012 | K47: 9097 | L47: 9139 | M47: 9414 | N47: 9928 | O47: 10593 | P47: 12244 | Q47: 13343 | R47: 14167 | S47: 14579 | T47: 15307
F48: nástavbové studium | J48: 671 | K48: 627 | L48: 610 | M48: 544 | N48: 533 | O48: 656 | P48: 734 | Q48: 719 | R48: 723 | S48: 655 | T48: 667
...

Sheet B5.1.10
D4: Tab. B5.1.10: | H4: Střední školy, ostatní formy vzdělávání – žáci, nově přijatí a absolventi
B5: 18 | D5: ve školním roce 2015/16 až 2025/26 – podle zřizovatele a druhu vzdělávání
D7: Zřizovatel Druh vzdělávání | J7: 2015/16 | K7: 2016/17 | L7: 2017/18 | M7: 2018/19 | N7: 2019/20 | O7: 2020/21 | P7: 2021/22 | Q7: 2022/23 | R7: 2023/24 | S7: 2024/25 | T7: 2025/26
D12: Žáci
E13: Celkem | J13: 21476 | K13: 20762 | L13: 18517 | M13: 16857 | N13: 15750 | O13: 15604 | P13: 16038 | Q13: 15404 | R13: 15522 | S13: 15418 | T13: 15434
E14: v tom | F14: střední vzdělávání | J14: 39 | K14: 35 | L14: 33 | M14: 33 | N14: 22 | O14: 31 | P14: 38 | Q14: 29 | R14: 26 | S14: 25 | T14: 25
F15: střední vzdělávání s výučním listem1) | J15: 2187 | K15: 2503 | L15: 2573 | M15: 2588 | N15: 2708 | O15: 2748 | P15: 2693 | Q15: 2804 | R15: 2772 | S15: 2811 | T15: 2733
F16: střední vzdělávání s maturitní zkouškou1) | J16: 9069 | K16: 8991 | L16: 8509 | M16: 8085 | N16: 7859 | O16: 7961 | P16: 8143 | Q16: 7944 | R16: 8244 | S16: 8303 | T16: 8492
F17: nástavbové studium | J17: 10181 | K17: 9233 | L17: 7402 | M17: 6151 | N17: 5161 | O17: 4864 | P17: 5164 | Q17: 4627 | R17: 4480 | S17: 4279 | T17: 4184
E18: Veřejný | J18: 12050 | K18: 11033 | L18: 9168 | M18: 7752 | N18: 6713 | O18: 6368 | P18: 6442 | Q18: 5688 | R18: 5473 | S18: 5206 | T18: 4907
E19: v tom | F19: střední vzdělávání | J19: 0 | K19: 0 | L19: 0 | M19: 0 | N19: 0 | O19: 0 | P19: 0 | Q19: 0 | R19: 0 | S19: 0 | T19: 0
F20: střední vzdělávání s výučním listem | J20: 1394 | K20: 1551 | L20: 1602 | M20: 1622 | N20: 1731 | O20: 1736 | P20: 1699 | Q20: 1770 | R20: 1708 | S20: 1612 | T20: 1449
F21: střední vzdělávání s maturitní zkouškou | J21: 4164 | K21: 3666 | L21: 3205 | M21: 2731 | N21: 2434 | O21: 2333 | P21: 2254 | Q21: 1962 | R21: 1926 | S21: 1932 | T21: 1743
F22: nástavbové studium | J22: 6492 | K22: 5816 | L22: 4361 | M22: 3399 | N22: 2548 | O22: 2299 | P22: 2489 | Q22: 1956 | R22: 1839 | S22: 1662 | T22: 1715
E23: Privátní sektor | J23: 9058 | K23: 9344 | L23: 9032 | M23: 8756 | N23: 8731 | O23: 8906 | P23: 9251 | Q23: 9359 | R23: 9735 | S23: 9894 | T23: 10252
E24: v tom | F24: střední vzdělávání | J24: 39 | K24: 35 | L24: 33 | M24: 33 | N24: 22 | O24: 31 | P24: 38 | Q24: 29 | R24: 26 | S24: 25 | T24: 25
F25: střední vzdělávání s výučním listem | J25: 793 | K25: 933 | L25: 954 | M25: 941 | N25: 965 | O25: 997 | P25: 994 | Q25: 1020 | R25: 1051 | S25: 1175 | T25: 1284
F26: střední vzdělávání s maturitní zkouškou | J26: 4537 | K26: 4959 | L26: 5004 | M26: 5030 | N26: 5131 | O26: 5313 | P26: 5544 | Q26: 5639 | R26: 6017 | S26: 6077 | T26: 6474
F27: nástavbové studium | J27: 3689 | K27: 3417 | L27: 3041 | M27: 2752 | N27: 2613 | O27: 2565 | P27: 2675 | Q27: 2671 | R27: 2641 | S27: 2617 | T27: 2469
E28: Církev | J28: 368 | K28: 385 | L28: 317 | M28: 349 | N28: 306 | O28: 330 | P28: 345 | Q28: 357 | R28: 314 | S28: 318 | T28: 275
E29: v tom | F29: střední vzdělávání | J29: 0 | K29: 0 | L29: 0 | M29: 0 | N29: 0 | O29: 0 | P29: 0 | Q29: 0 | R29: 0 | S29: 0 | T29: 0
F30: střední vzdělávání s výučním listem | J30: 0 | K30: 19 | L30: 17 | M30: 25 | N30: 12 | O30: 15 | P30: 0 | Q30: 14 | R30: 13 | S30: 24 | T30: 0
F31: střední vzdělávání s maturitní zkouškou | J31: 368 | K31: 366 | L31: 300 | M31: 324 | N31: 294 | O31: 315 | P31: 345 | Q31: 343 | R31: 301 | S31: 294 | T31: 275
F32: nástavbové studium | J32: 0 | K32: 0 | L32: 0 | M32: 0 | N32: 0 | O32: 0 | P32: 0 | Q32: 0 | R32: 0 | S32: 0 | T32: 0
D33: Nově přijatí
E34: Celkem | J34: 8024 | K34: 8218 | L34: 6725 | M34: 6004 | N34: 6088 | O34: 5998 | P34: 6766 | Q34: 5970 | R34: 5974 | S34: 6061 | T34: 5963
E35: v tom | F35: střední vzdělávání | J35: 21 | K35: 20 | L35: 16 | M35: 17 | N35: 8 | O35: 22 | P35: 17 | Q35: 17 | R35: 16 | S35: 14 | T35: 13
F36: střední vzdělávání s výučním listem1) | J36: 837 | K36: 935 | L36: 1048 | M36: 1089 | N36: 1097 | O36: 1149 | P36: 1074 | Q36: 1093 | R36: 1139 | S36: 1131 | T36: 1097
F37: střední vzdělávání s maturitní zkouškou1) | J37: 2771 | K37: 2845 | L37: 2711 | M37: 2460 | N37: 2639 | O37: 2669 | P37: 2959 | Q37: 2746 | R37: 2649 | S37: 2784 | T37: 2892
F38: nástavbové studium | J38: 4395 | K38: 4418 | L38: 2950 | M38: 2438 | N38: 2344 | O38: 2158 | P38: 2716 | Q38: 2114 | R38: 2170 | S38: 2132 | T38: 1961
E39: Veřejný | J39: 4718 | K39: 4554 | L39: 3353 | M39: 2726 | N39: 2699 | O39: 2418 | P39: 2874 | Q39: 2138 | R39: 2099 | S39: 2082 | T39: 1850
E40: v tom | F40: střední vzdělávání | J40: 0 | K40: 0 | L40: 0 | M40: 0 | N40: 0 | O40: 0 | P40: 0 | Q40: 0 | R40: 0 | S40: 0 | T40: 0
F41: střední vzdělávání s výučním listem | J41: 552 | K41: 618 | L41: 706 | M41: 726 | N41: 788 | O41: 769 | P41: 744 | Q41: 700 | R41: 714 | S41: 647 | T41: 560
F42: střední vzdělávání s maturitní zkouškou | J42: 1382 | K42: 1107 | L42: 1013 | M42: 755 | N42: 785 | O42: 712 | P42: 843 | Q42: 624 | R42: 555 | S42: 658 | T42: 499
F43: nástavbové studium | J43: 2784 | K43: 2829 | L43: 1634 | M43: 1245 | N43: 1126 | O43: 937 | P43: 1287 | Q43: 814 | R43: 830 | S43: 777 | T43: 791
E44: Privátní sektor | J44: 3168 | K44: 3541 | L44: 3262 | M44: 3144 | N44: 3271 | O44: 3460 | P44: 3745 | Q44: 3683 | R44: 3761 | S44: 3866 | T44: 3969
E45: v tom | F45: střední vzdělávání | J45: 21 | K45: 20 | L45: 16 | M45: 17 | N45: 8 | O45: 22 | P45: 17 | Q45: 17 | R45: 16 | S45: 14 | T45: 13
F46: střední vzdělávání s výučním listem | J46: 285 | K46: 298 | L46: 342 | M46: 351 | N46: 309 | O46: 380 | P46: 330 | Q46: 379 | R46: 425 | S46: 484 | T46: 537
F47: střední vzdělávání s maturitní zkouškou | J47: 1251 | K47: 1634 | L47: 1588 | M47: 1583 | N47: 1736 | O47: 1837 | P47: 1969 | Q47: 1987 | R47: 1980 | S47: 2013 | T47: 2249
F48: nástavbové studium | J48: 1611 | K48: 1589 | L48: 1316 | M48: 1193 | N48: 1218 | O48: 1221 | P48: 1429 | Q48: 1300 | R48: 1340 | S48: 1355 | T48: 1170
...

Sheet B5.1.11
D4: Tab. B5.1.11: | H4: Střední školy – počet podaných přihlášek v 1. kole přijímacího řízení do denní formy
B5: 6 | D5: vzdělávání ve školním roce 2015/16 až 2025/26 – podle zřizovatele a druhu vzdělávání
D7: Zřizovatel Druh vzdělávání | J7: 2015/16 | K7: 2016/17 | L7: 2017/18 | M7: 2018/19 | N7: 2019/20 | O7: 2020/21 | P7: 2021/22 | Q7: 2022/23 | R7: 2023/24 | S7: 2024/25 | T7: 2025/26
J11: 3) | K11: 3) | L11: 3) | M11: 3) | N11: 3) | O11: 3) | P11: 4) | Q11: 4) | R11: 4) | S11: 4) | T11: 4)
D12: Počet podaných přihlášek v prvním kole přijímacího řízení do denní formy vzdělávání1)
E13: Celkem | J13: 185375 | K13: 190000 | L13: 197182 | M13: 203219 | N13: 212963 | O13: . | P13: . | Q13: . | R13: . | S13: . | T13: .
E14: v tom | F14: střední vzdělávání s maturitní zkouškou | J14: 138712 | K14: 143434 | L14: 150682 | M14: 155738 | N14: 163130 | O14: . | P14: . | Q14: . | R14: . | S14: . | T14: .
G15: z toho víceletá gymnázia | J15: 30383 | K15: 32583 | L15: 37308 | M15: 40587 | N15: 43789 | O15: . | P15: . | Q15: . | R15: . | S15: . | T15: .
F16: bez maturitní zkoušky2) | J16: 46663 | K16: 46566 | L16: 46500 | M16: 47481 | N16: 49833 | O16: . | P16: . | Q16: . | R16: . | S16: . | T16: .
E17: Veřejný | J17: 162983 | K17: 166551 | L17: 174198 | M17: 179160 | N17: 187239 | O17: . | P17: . | Q17: . | R17: . | S17: . | T17: .
