Workbook
Name data_1: 'B7.1.2'!$J$12:$T$23
Name data_1: 'B7.1.3'!$J$12:$T$23
Name data_1: 'B7.1.1'!$J$12:$T$23
Name data_10: #REF!
Name data_10: #REF!
Name data_10: 'B7.2.5'!$J$12:$T$34
Name data_11: 'B7.2.6'!$J$12:$T$34
Name data_12: 'B7.2.7'!#REF!
Name data_13: #REF!
Name data_13: #REF!
Name data_13: #REF!
Name data_14: #REF!
Name data_14: #REF!
Name data_14: 'B7.2.8'!$J$12:$T$32
Name data_15: #REF!
Name data_15: #REF!
Name data_15: 'B7.2.9'!$J$12:$T$39
Name data_16: #REF!
Name data_16: #REF!
Name data_16: 'B7.2.11'!$J$12:$T$14
Name data_17: #REF!
Name data_17: #REF!
Name data_17: 'B7.2.10'!$J$12:$T$15
Name data_18: #REF!
Name data_18: #REF!
Name data_18: #REF!
Name data_19: #REF!
Name data_19: #REF!
Name data_19: 'B7.2.12'!$J$12:$T$25
Name data_2: 'B7.2.16'!$J$13:$U$31
Name data_2: #REF!
Name data_2: #REF!
Name data_20: #REF!
Name data_20: #REF!
Name data_20: #REF!
Name data_21: #REF!
Name data_21: #REF!
Name data_21: 'B7.2.14'!#REF!
Name data_22: #REF!
Name data_22: #REF!
Name data_22: 'B7.2.15'!$J$19:$T$21
Name data_23: #REF!
Name data_23: #REF!
Name data_23: 'B7.3.1'!$K$12:$AE$14
Name data_24: #REF!
Name data_24: #REF!
Name data_24: 'B7.3.3'!$J$12:$T$47
Name data_24: 'B7.3.4'!$J$12:$T$47
Name data_24: 'B7.3.2'!$J$12:$T$47
Name data_25: #REF!
Name data_25: #REF!
Name data_25: #REF!
Name data_26: #REF!
Name data_26: #REF!
Name data_26: #REF!
Name data_27: #REF!
Name data_27: #REF!
Name data_27: #REF!
Name data_28: #REF!
Name data_29: 'B7.3.10'!$J$12:$T$41

Sheet Obsah
C2: 100
A4: B7 Vývoj terciárního vzdělávání
A5: Zdroje dat jsou uvedeny v zápatí jednotlivých tabulek
B6: Ekonomické ukazatele budou doplněny.
A7: Text | C7: Obsah
B8: Terciární vzdělávání celkem
A9: Tabulka 1 | C9: ='B7.1.1'!H4&" "&" "&" "&'B7.1.1'!D5 -> Terciární vzdělávání – studenti ve školním/akademickém roce 2015/16 až 2025/26 – podle formy vzdělávání/studia a typu studijního programu
A11: Tabulka 2 | C11: ='B7.1.2'!H4&" "&'B7.1.2'!D5 -> Terciární vzdělávání – nově přijatí studenti na VOŠ/poprvé zapsaní ke studiu na VŠ ve školním/akademickém roce 2015/16 až 2025/26 – podle formy vzdělávání/studia a typu studijního programu
A13: Tabulka 3 | C13: ='B7.1.3'!H4&" "&'B7.1.3'!D5 -> Terciární vzdělávání – absolventi ve školním/akademickém roce 2015/16 až 2025/26 – podle formy vzdělávání/studia a typu studijního programu
A15: Tabulka 4 | C15: ='B7.1.4'!H4&" "&'B7.1.4'!D5 -> Terciární vzdělávání – celkový přehled o přijímacím řízení ve školním/akademickém roce 2015/16 až 2025/26 – podle formy vzdělávání/studia a typu studijního programu
A17: Tabulka 5 | C17: ='B7.1.5'!H4&" "&'B7.1.5'!D5 -> Terciární vzdělávání – uchazeči o studium ve školním/akademickém roce 2015/16 až 2025/26 – podle druhu školy
B19: Vyšší odborné školy
A20: Tabulka 6 | C20: ='B7.2.1'!H4&" "&'B7.2.1'!D5 -> VOŠ – školy ve školním roce 2015/16 až 2025/26 – podle formy vzdělávání a zřizovatele
A22: Tabulka 7 | C22: ='B7.2.2'!H4&" "&'B7.2.2'!D5 -> VOŠ – školy ve školním roce 2015/16 až 2025/26 – podle území
A24: Tabulka 8 | C24: ='B7.2.3'!H4&" "&'B7.2.3'!D5 -> VOŠ – studenti, nově přijatí a absolventi ve školním roce 2015/16 až 2025/26 – podle formy vzdělávání a zřizovatele
A26: Tabulka 9 | C26: ='B7.2.4'!H4&" "&'B7.2.4'!D5 -> VOŠ – studentky, nově přijaté a absolventky ve školním roce 2015/16 až 2025/26 – podle formy vzdělávání a zřizovatele
A28: Tabulka 10 | C28: ='B7.2.5'!H4&" "&'B7.2.5'!D5 -> VOŠ, denní forma vzdělávání – studenti ve školním roce 2015/16 až 2025/26 – podle území
A30: Tabulka 11 | C30: ='B7.2.6'!H4&" "&'B7.2.6'!D5 -> VOŠ, denní forma vzdělávání – nově přijatí ve školním roce 2015/16 až 2025/26 – podle území
A32: Tabulka 12 | C32: ='B7.2.7'!H4&" "&'B7.2.7'!D5 -> VOŠ, denní forma vzdělávání – absolventi ve školním roce 2015/16 až 2025/26 – podle území
A34: Tabulka 13 | C34: ='B7.2.8'!H4&" "&'B7.2.8'!D5 -> VOŠ – přehled o přijímacím řízení ve školním roce 2015/16 až 2025/26 – podle formy vzdělávání
A36: Tabulka 14 | C36: ='B7.2.9'!H4&" "&'B7.2.9'!D5 -> VOŠ – přehled o přijímacím řízení ve školním roce 2015/16 až 2025/26 – podle zřizovatele
A38: Tabulka 15 | C38: ='B7.2.10'!H4&" "&'B7.2.10'!D5 -> VOŠ, denní forma vzdělávání – nově přijatí ve školním roce 2015/16 až 2025/26 – podle předchozího působiště
A40: Tabulka 16 | C40: ='B7.2.11'!H4&" "&'B7.2.11'!D5 -> VOŠ – poměrové ukazatele ve školním roce 2015/16 až 2025/26
A42: Tabulka 17 | C42: ='B7.2.12'!H4&" "&'B7.2.12'!D5 -> VOŠ – učitelé (přepočtené počty) ve školním roce 2015/16 až 2025/26 – podle zřizovatele
A44: Tabulka 19 | C44: ='B7.2.14'!H4&" "&'B7.2.14'!D5 -> VOŠ – zaměstnanci (přepočtené počty) v letech 2015 až 2025
A46: Tabulka 20 | C46: ='B7.2.15'!H4&" "&'B7.2.15'!D5 -> VOŠ – průměrné měsíční mzdy zaměstnanců v letech 2015 až 2025
A48: Tabulka 21 | C48: ='B7.2.16'!H4&" "&'B7.2.16'!D5 -> VOŠ – struktura učitelů v letech 2015 až 2025 – podle nejvyššího dosaženého vzdělání
A50: Tabulka 22 | C50: ='B7.2.17'!H4&" "&'B7.2.17'!D5 -> VOŠ – struktura učitelů v letech 2015 až 2025 – podle věku
B52: Vysoké školy
A53: Tabulka 23 | C53: ='B7.3.1'!H4&" "&'B7.3.1'!D5 -> VŠ – počty škol v letech 2015 až 2025
A55: Tabulka 24 | C55: ='B7.3.2'!H4&" "&'B7.3.2'!D5 -> VŠ – počty studentů podle formy studia a typu studijního programu v letech 2015 až 2025 – podle státního občanství
A57: Tabulka 25 | C57: ='B7.3.3'!H4&" "&'B7.3.3'!D5 -> VŠ – počty poprvé zapsaných studentů podle formy studia a typu studijního programu v letech 2015 až 2025 – podle státního občanství
A59: Tabulka 26 | C59: ='B7.3.4'!H4&" "&'B7.3.4'!D5 -> VŠ – počty absolventů podle formy studia a typu studijního programu v letech 2015 až 2025 – podle státního občanství
A61: Tabulka 27 | C61: ='B7.3.5'!H4&" "&'B7.3.5'!D5 -> Veřejné a soukromé VŠ – počty studentů podle formy studia a typu studijního programu v letech 2015 až 2025 – podle státního občanství
A63: Tabulka 28 | C63: ='B7.3.5.1'!H4&" "&'B7.3.5.1'!D5 -> Veřejné VŠ – počty studentů podle formy studia a typu studijního programu v letech 2015 až 2025 – podle státního občanství
A65: Tabulka 29 | C65: ='B7.3.5.2'!H4&" "&'B7.3.5.2'!D5 -> Soukromé VŠ – počty studentů podle formy studia a typu studijního programu v letech 2015 až 2025 – podle státního občanství
A67: Tabulka 30 | C67: ='B7.3.6'!H4&" "&'B7.3.6'!D5 -> Veřejné a soukromé VŠ – počty poprvé zapsaných studentů podle formy studia a typu studijního programu v letech 2015 až 2025 – podle státního občanství
A69: Tabulka 31 | C69: ='B7.3.6.1'!H4&" "&'B7.3.6.1'!D5 -> Veřejné VŠ – počty poprvé zapsaných studentů podle formy studia a typu studijního programu v letech 2015 až 2025 – podle státního občanství
A71: Tabulka 32 | C71: ='B7.3.6.2'!H4&" "&'B7.3.6.2'!D5 -> Soukromé VŠ – počty poprvé zapsaných studentů podle formy studia a typu studijního programu v letech 2015 až 2025 – podle státního občanství
A73: Tabulka 33 | C73: ='B7.3.7'!H4&" "&'B7.3.7'!D5 -> Veřejné a soukromé VŠ – počty absolventů podle formy studia a typu studijního programu v letech 2015 až 2025 – podle státního občanství
...

Sheet B7.1.1
D4: Tab. B7.1.1: | H4: Terciární vzdělávání – studenti
B5: 12 | D5: ve školním/akademickém roce 2015/16 až 2025/26 – podle formy vzdělávání/studia a typu studijního programu
D7: Forma vzdělávání/studia Typ studijního programu | J7: 2015/16 | K7: 2016/17 | L7: 2017/18 | M7: 2018/19 | N7: 2019/20 | O7: 2020/21 | P7: 2021/22 | Q7: 2022/23 | R7: 2023/24 | S7: 2024/25 | T7: 2025/26
D12: Vyšší odborné školy1)
D13: Celkem | J13: 24786 | K13: 22002 | L13: 19883 | M13: 18416 | N13: 17954 | O13: 18458 | P13: 20096 | Q13: 20639 | R13: 21676 | S13: 22373 | T13: 22900
E14: v tom | F14: denní forma vzdělávání | J14: 17129 | K14: 14876 | L14: 12901 | M14: 11474 | N14: 11117 | O14: 11349 | P14: 12411 | Q14: 12781 | R14: 13180 | S14: 13590 | T14: 13931
F15: ostatní formy vzdělávání | J15: 7657 | K15: 7126 | L15: 6982 | M15: 6942 | N15: 6837 | O15: 7109 | P15: 7685 | Q15: 7858 | R15: 8496 | S15: 8783 | T15: 8969
D16: Vysoké školy2),3)
D17: Celkem | J17: 326423 | K17: 311045 | L17: 298665 | M17: 289659 | N17: 288587 | O17: 298986 | P17: 303625 | Q17: 304303 | R17: 308518 | S17: 314715 | T17: 330547
E18: z toho | F18: prezenční studium | J18: 249267 | K18: 236688 | L18: 227393 | M18: 222291 | N18: 224684 | O18: 235527 | P18: 241546 | Q18: 246168 | R18: 251960 | S18: 259782 | T18: 273915
F19: distanční a kombinované studium | J19: 79803 | K19: 76834 | L19: 73487 | M19: 69305 | N19: 65894 | O19: 65681 | P19: 64282 | Q19: 60224 | R19: 58784 | S19: 57156 | T19: 59048
E20: Bakalářské studijní programy | J20: 192271 | K20: 179748 | L20: 172112 | M20: 167910 | N20: 170039 | O20: 178495 | P20: 182124 | Q20: 183825 | R20: 188172 | S20: 193355 | T20: 205307
E21: Magisterské studijní programy | J21: 31770 | K21: 31211 | L21: 30807 | M21: 30731 | N21: 30863 | O21: 31816 | P21: 32519 | Q21: 33225 | R21: 33977 | S21: 34707 | T21: 35756
E22: Magisterské navazující studijní programy | J22: 81349 | K22: 79567 | L22: 75926 | M22: 71791 | N22: 68909 | O22: 69413 | P22: 69955 | Q22: 69046 | R22: 68950 | S22: 70782 | T22: 74586
E23: Doktorské studijní programy | J23: 23861 | K23: 23179 | L23: 22132 | M23: 21341 | N23: 20876 | O23: 21600 | P23: 21338 | Q23: 20479 | R23: 19754 | S23: 18267 | T23: 17440
D24: Komentáře: | T24: Zdroj: databáze MŠMT
D25: 1) | E25: Do nevysokoškolského terciárního vzdělávání nebylo zařazeno studium na konzervatořích ani PMS na jazykových školách s právem státní závěrečné zkoušky. Údaje za studia na VOŠ k 30. 9. daného roku, od roku 2016 k 31. 10.
D26: 2) | E26: Údaje za VŠ ve fyzických osobách k 31. 12. daného roku, podle stavu SIMS k 20. 1. 2026.
D27: 3) | E27: Data bez škol jiných resortů.

Sheet B7.1.2
D4: Tab. B7.1.2: | H4: Terciární vzdělávání – nově přijatí studenti na VOŠ/poprvé zapsaní ke studiu
B5: 12 | D5: na VŠ ve školním/akademickém roce 2015/16 až 2025/26 – podle formy vzdělávání/studia a typu studijního programu
D7: Forma vzdělávání/studia Typ studijního programu | J7: 2015/16 | K7: 2016/17 | L7: 2017/18 | M7: 2018/19 | N7: 2019/20 | O7: 2020/21 | P7: 2021/22 | Q7: 2022/23 | R7: 2023/24 | S7: 2024/25 | T7: 2025/26
D12: Vyšší odborné školy1)
D13: Celkem | J13: 9868 | K13: 8684 | L13: 7878 | M13: 7361 | N13: 7687 | O13: 7900 | P13: 9240 | Q13: 8968 | R13: 9159 | S13: 9525 | T13: 9402
E14: v tom | F14: denní forma vzdělávání | J14: 6887 | K14: 5990 | L14: 5131 | M14: 4703 | N14: 4972 | O14: 5106 | P14: 5909 | Q14: 5844 | R14: 5947 | S14: 6129 | T14: 6067
F15: ostatní formy vzdělávání | J15: 2981 | K15: 2694 | L15: 2747 | M15: 2658 | N15: 2715 | O15: 2794 | P15: 3331 | Q15: 3124 | R15: 3212 | S15: 3396 | T15: 3335
D16: Vysoké školy2),3)
D17: Celkem | J17: 55600 | K17: 53563 | L17: 53335 | M17: 53837 | N17: 56896 | O17: 61132 | P17: 61670 | Q17: 60641 | R17: 62323 | S17: 64835 | T17: 71305
E18: z toho | F18: prezenční studium | J18: 46334 | K18: 44945 | L18: 44778 | M18: 46068 | N18: 49108 | O18: 53001 | P18: 53389 | Q18: 53846 | R18: 55266 | S18: 58072 | T18: 64005
F19: distanční a kombinované studium | J19: 9275 | K19: 8633 | L19: 8574 | M19: 7777 | N19: 7800 | O19: 8143 | P19: 8298 | Q19: 6818 | R19: 7077 | S19: 6795 | T19: 7347
E20: Bakalářské studijní programy | J20: 52283 | K20: 49975 | L20: 49681 | M20: 50052 | N20: 52869 | O20: 57049 | P20: 57393 | Q20: 56083 | R20: 57767 | S20: 60184 | T20: 66564
E21: Magisterské studijní programy | J21: 6015 | K21: 6035 | L21: 6084 | M21: 6263 | N21: 6546 | O21: 6755 | P21: 6890 | Q21: 7131 | R21: 7163 | S21: 7291 | T21: 7497
E22: Magisterské navazující studijní programy | J22: 32890 | K22: 32299 | L22: 29644 | M22: 27920 | N22: 27197 | O22: 28344 | P22: 28286 | Q22: 26706 | R22: 28034 | S22: 29181 | T22: 31514
E23: Doktorské studijní programy | J23: 4639 | K23: 4404 | L23: 4106 | M23: 4126 | N23: 4160 | O23: 4317 | P23: 3966 | Q23: 3502 | R23: 3415 | S23: 3314 | T23: 2974
D24: Komentáře: | T24: Zdroj: databáze MŠMT
D25: 1) | E25: Do nevysokoškolského terciárního vzdělávání nebylo zařazeno studium na konzervatořích ani PMS na jazykových školách s právem státní závěrečné zkoušky. Údaje za VOŠ k 30. 9. daného roku, od roku 2016 k 31. 10.
D26: 2) | E26: Do celkového počtu poprvé zapsaných nejsou započteni poprvé zapsaní do navazujících magisterských a doktorských studijních programů. Údaje za fyzické osoby za kalendářní rok (např. 2020/21 = kalendářní rok 2020).
D27: 3) | E27: Data bez škol jiných resortů.

Sheet B7.1.3
D4: Tab. B7.1.3: | H4: Terciární vzdělávání – absolventi
D5: ve školním/akademickém roce 2015/16 až 2025/26 – podle formy vzdělávání/studia a typu studijního programu
D7: Forma vzdělávání/studia Typ studijního programu | J7: 2015/16 | K7: 2016/17 | L7: 2017/18 | M7: 2018/19 | N7: 2019/20 | O7: 2020/21 | P7: 2021/22 | Q7: 2022/23 | R7: 2023/24 | S7: 2024/25 | T7: 2025/26
D12: Vyšší odborné školy1)
D13: Celkem | J13: 5685 | K13: 5174 | L13: 4582 | M13: 4056 | N13: 3683 | O13: 3621 | P13: 3906 | Q13: 3786 | R13: 4575 | S13: 4688 | T13: .
E14: v tom | F14: denní forma vzdělávání | J14: 4139 | K14: 3683 | L14: 3168 | M14: 2721 | N14: 2372 | O14: 2272 | P14: 2420 | Q14: 2468 | R14: 2824 | S14: 2898 | T14: .
F15: ostatní formy vzdělávání | J15: 1546 | K15: 1491 | L15: 1414 | M15: 1335 | N15: 1311 | O15: 1349 | P15: 1486 | Q15: 1318 | R15: 1751 | S15: 1790 | T15: .
D16: Vysoké školy2),3)
D17: Celkem | J17: 82039 | K17: 77382 | L17: 72084 | M17: 68574 | N17: 64257 | O17: 62961 | P17: 60598 | Q17: 58722 | R17: 63231 | S17: 66396 | T17: 69076
E18: z toho | F18: prezenční studium | J18: 60682 | K18: 58796 | L18: 54775 | M18: 52253 | N18: 49046 | O18: 48131 | P18: 46988 | Q18: 46720 | R18: 50295 | S18: 52722 | T18: 56237
F19: distanční a kombinované studium | J19: 21437 | K19: 18663 | L19: 17392 | M19: 16386 | N19: 15271 | O19: 14879 | P19: 13651 | Q19: 12042 | R19: 12985 | S19: 13737 | T19: 12902
E20: Bakalářské studijní programy | J20: 43564 | K20: 41076 | L20: 37132 | M20: 34792 | N20: 32542 | O20: 32538 | P20: 31890 | Q20: 31034 | R20: 33752 | S20: 35674 | T20: 37959
E21: Magisterské studijní programy | J21: 5001 | K21: 4899 | L21: 4743 | M21: 4539 | N21: 4570 | O21: 4404 | P21: 4253 | Q21: 4358 | R21: 4468 | S21: 4754 | T21: 4742
E22: Magisterské navazující studijní programy | J22: 31155 | K22: 29155 | L22: 27890 | M22: 26927 | N22: 24895 | O22: 24223 | P22: 22414 | Q22: 21322 | R22: 22771 | S22: 22870 | T22: 24202
E23: Doktorské studijní programy | J23: 2410 | K23: 2343 | L23: 2387 | M23: 2372 | N23: 2309 | O23: 1846 | P23: 2084 | Q23: 2044 | R23: 2280 | S23: 3145 | T23: 2214
D24: Komentáře: | T24: Zdroj: databáze MŠMT
D25: 1) | E25: Do nevysokoškolského terciárního vzdělávání nebylo zařazeno studium na konzervatořích ani PMS na jazykových školách s právem státní závěrečné zkoušky. Údaje za VOŠ k 30. 9. daného roku, od roku 2016 k 31. 10.
D26: 2) | E26: Údaje za fyzické osoby za kalendářní rok (např. 2020/21 = kalendářní rok 2020).
D27: 3) | E27: Data bez škol jiných resortů.

Sheet B7.1.4
D4: Tab. B7.1.4: | H4: Terciární vzdělávání – celkový přehled o přijímacím řízení
D5: ve školním/akademickém roce 2015/16 až 2025/26 – podle formy vzdělávání/studia a typu studijního programu
D7: Forma vzdělávání/studia Typ studijního programu | J7: Počet podaných přihlášek | K7: Počet přihlášených1) | L7: Počet přihlášených, kteří se dostavili k přijímacímu řízení | M7: Index přihlášek | N7: Počet přijatých2) | O7: Počet zapsaných3) | P7: Počet přijatých z přihlášených v % | Q7: Úspěšnost uchazečů v %4)
D12: 2015/16
E13: Celkem | J13: 261103 | K13: 121269 | L13: 111515 | M13: 2.1530894 | N13: 90138 | O13: 84278 | P13: 0.74328971 | Q13: 0.80830382
E14: Denní vzdělávání/prezenční studium | J14: 209845 | K14: 86823 | L14: 81044 | M14: 2.4169287 | N14: 66389 | O14: 62028 | P14: 0.76464762 | Q14: 0.8191723
E15: v tom | F15: bakalářský studijní program | J15: 167100 | K15: 77049 | L15: 71501 | M15: 2.1687498 | N15: 56533 | O15: 51032 | P15: 0.73372789 | Q15: 0.79066027
F16: magisterský studijní program | J16: 30253 | K16: 14805 | L16: 13395 | M16: 2.0434313 | N16: 5159 | O16: 4606 | P16: 0.34846336 | Q16: 0.38514371
F17: vyšší odborné školy | J17: 12492 | K17: 10145 | L17: 9284 | M17: 1.2313455 | N17: 8398 | O17: 7134 | P17: 0.82779694 | Q17: 0.904567
E18: Ost. formy vzděl./distanční a kombin. studium | J18: 51258 | K18: 40598 | L18: 35115 | M18: 1.2625745 | N18: 25472 | O18: 22810 | P18: 0.62742007 | Q18: 0.72538801
E19: v tom | F19: bakalářský studijní program | J19: 45072 | K19: 36176 | L19: 31051 | M19: 1.2459089 | N19: 22031 | O19: 19646 | P19: 0.60899491 | Q19: 0.70951016
F20: magisterský studijní program | J20: 1293 | K20: 1037 | L20: 896 | M20: 1.246866 | N20: 455 | O20: 378 | P20: 0.43876567 | Q20: 0.5078125
F21: vyšší odborné školy | J21: 4893 | K21: 4523 | L21: 4024 | M21: 1.0818041 | N21: 3250 | O21: 2914 | P21: 0.71854964 | Q21: 0.80765408
D22: 2016/17
E23: Celkem | J23: 239187 | K23: 110163 | L23: 100860 | M23: 2.1712099 | N23: 82862 | O23: 78257 | P23: 0.75217632 | Q23: 0.82155463
E24: Denní vzdělávání/prezenční studium | J24: 194684 | K24: 79985 | L24: 74403 | M24: 2.4340064 | N24: 61822 | O24: 57837 | P24: 0.77291992 | Q24: 0.83090736
E25: v tom | F25: bakalářský studijní program | J25: 154760 | K25: 71028 | L25: 66005 | M25: 2.178859 | N25: 52913 | O25: 47748 | P25: 0.74495973 | Q25: 0.80165139
F26: magisterský studijní program | J26: 29250 | K26: 14060 | L26: 12639 | M26: 2.0803698 | N26: 5044 | O26: 4474 | P26: 0.35874822 | Q26: 0.39908221
F27: vyšší odborné školy | J27: 10674 | K27: 8881 | L27: 8121 | M27: 1.2018917 | N27: 7398 | O27: 6342 | P27: 0.8330143 | Q27: 0.91097156
E28: Ost. formy vzděl./distanční a kombin. studium | J28: 44503 | K28: 35654 | L28: 30707 | M28: 1.2481909 | N28: 23335 | O28: 20965 | P28: 0.65448477 | Q28: 0.75992445
E29: v tom | F29: bakalářský studijní program | J29: 39054 | K29: 31617 | L29: 27109 | M29: 1.2352216 | N29: 20081 | O29: 17967 | P29: 0.635133 | Q29: 0.7407503
F30: magisterský studijní program | J30: 1087 | K30: 884 | L30: 761 | M30: 1.229638 | N30: 448 | O30: 398 | P30: 0.50678733 | Q30: 0.58869908
F31: vyšší odborné školy | J31: 4362 | K31: 4033 | L31: 3564 | M31: 1.081577 | N31: 3035 | O31: 2708 | P31: 0.75254153 | Q31: 0.85157127
D32: 2017/18
E33: Celkem | J33: 227060 | K33: 105039 | L33: 97302 | M33: 2.1616733 | N33: 82539 | O33: 77587 | P33: 0.78579385 | Q33: 0.8482765
E34: Denní vzdělávání/prezenční studium | J34: 185467 | K34: 76471 | L34: 73831 | M34: 2.4253246 | N34: 61005 | O34: 57269 | P34: 0.7977534 | Q34: 0.82627893
E35: v tom | F35: bakalářský studijní program | J35: 147525 | K35: 68397 | L35: 64113 | M35: 2.1568928 | N35: 52990 | O35: 47876 | P35: 0.77474158 | Q35: 0.82650944
F36: magisterský studijní program | J36: 28791 | K36: 13357 | L36: 11853 | M36: 2.155499 | N36: 5257 | O36: 4670 | P36: 0.3935764 | Q36: 0.44351641
F37: vyšší odborné školy | J37: 9151 | K37: 7657 | L37: 6909 | M37: 1.1951156 | N37: 6362 | O37: 5449 | P37: 0.83087371 | Q37: 0.92082791
E38: Ost. formy vzděl./distanční a kombin. studium | J38: 41593 | K38: 33428 | L38: 29210 | M38: 1.2442563 | N38: 23204 | O38: 20837 | P38: 0.69414862 | Q38: 0.79438548
E39: v tom | F39: bakalářský studijní program | J39: 35935 | K39: 29234 | L39: 25410 | M39: 1.2292194 | N39: 19765 | O39: 17664 | P39: 0.67609633 | Q39: 0.77784337
F40: magisterský studijní program | J40: 1066 | K40: 852 | L40: 734 | M40: 1.2511737 | N40: 493 | O40: 440 | P40: 0.5786385 | Q40: 0.67166213
F41: vyšší odborné školy | J41: 4592 | K41: 4271 | L41: 3854 | M41: 1.075158 | N41: 3230 | O41: 2879 | P41: 0.75626317 | Q41: 0.8380903
D42: 2018/19
E43: Celkem | J43: 216903 | K43: 101834 | L43: 94508 | M43: 2.1299664 | N43: 80910 | O43: 76012 | P43: 0.79452835 | Q43: 0.856118
E44: Denní vzdělávání/prezenční studium | J44: 178842 | K44: 75301 | L44: 70819 | M44: 2.3750282 | N44: 60666 | O44: 56972 | P44: 0.80564667 | Q44: 0.85663452
E45: v tom | F45: bakalářský studijní program | J45: 143096 | K45: 67609 | L45: 63523 | M45: 2.1165229 | N45: 52756 | O45: 47871 | P45: 0.78031031 | Q45: 0.83050234
F46: magisterský studijní program | J46: 27249 | K46: 12846 | L46: 11466 | M46: 2.121205 | N46: 5405 | O46: 4758 | P46: 0.42075354 | Q46: 0.47139369
F47: vyšší odborné školy | J47: 8497 | K47: 7105 | L47: 6549 | M47: 1.1959184 | N47: 5929 | O47: 5080 | P47: 0.83448276 | Q47: 0.90532906
E48: Ost. formy vzděl./distanční a kombin. studium | J48: 38061 | K48: 30842 | L48: 26984 | M48: 1.2340639 | N48: 21686 | O48: 19510 | P48: 0.70313209 | Q48: 0.80366143
...

Sheet B7.1.5
D4: Tab. B7.1.5: | H4: Terciární vzdělávání – uchazeči o studium
D5: ve školním/akademickém roce 2015/16 až 2025/26 – podle druhu školy
D7: Druh školy | J7: 2015/16 | K7: 2016/17 | L7: 2017/18 | M7: 2018/19 | N7: 2019/20 | O7: 2020/21 | P7: 2021/22 | Q7: 2022/23 | R7: 2023/24 | S7: 2024/25 | T7: 2025/26
D12: Přihlášení1)
E13: Celkem | J13: 121269 | K13: 110163 | L13: 105039 | M13: 101834 | N13: 104521 | O13: 105829 | P13: 110195 | Q13: 108378 | R13: 112643 | S13: 115418 | T13: 119970
E14: v tom | F14: jen na vysokou školu | J14: 106872 | K14: 97464 | L14: 93307 | M14: 90828 | N14: 93605 | O14: 94275 | P14: 96479 | Q14: 94952 | R14: 98385 | S14: 100593 | T14: 104015
F15: jen na vyšší odbornou školu | J15: 8112 | K15: 7324 | L15: 7017 | M15: 6664 | N15: 6394 | O15: 6961 | P15: 7840 | Q15: 7429 | R15: 8047 | S15: 8125 | T15: 8598
F16: na VŠ i VOŠ současně | J16: 6285 | K16: 5375 | L16: 4715 | M16: 4342 | N16: 4522 | O16: 4593 | P16: 5876 | Q16: 5997 | R16: 6211 | S16: 6700 | T16: 7357
D17: Přijatí2)
E18: Celkem | J18: 89413 | K18: 82862 | L18: 82539 | M18: 80910 | N18: 84782 | O18: 87432 | P18: 88587 | Q18: 84839 | R18: 87624 | S18: 91000 | T18: 96215
E19: v tom | F19: jen na vysokou školu | J19: 79381 | K19: 73837 | L19: 73027 | M19: 71882 | N19: 75882 | O19: 78220 | P19: 77794 | Q19: 74413 | R19: 76979 | S19: 79465 | T19: 83958
F20: jen na vyšší odbornou školu | J20: 9074 | K20: 8067 | L20: 7905 | M20: 7548 | N20: 7297 | O20: 7632 | P20: 8966 | Q20: 8701 | R20: 8874 | S20: 9572 | T20: 9934
F21: na VŠ i VOŠ současně | J21: 958 | K21: 958 | L21: 1607 | M21: 1480 | N21: 1603 | O21: 1580 | P21: 1827 | Q21: 1725 | R21: 1771 | S21: 1963 | T21: 2323
D22: Zapsaní3)
E23: Celkem | J23: 84278 | K23: 78257 | L23: 77587 | M23: 76012 | N23: 79919 | O23: 83062 | P23: 83978 | Q23: 80943 | R23: 83760 | S23: 86792 | T23: 91796
E24: v tom | F24: jen na vysokou školu | J24: 74246 | K24: 69232 | L24: 69283 | M24: 68168 | N24: 72094 | O24: 74987 | P24: 74609 | Q24: 72088 | R24: 74576 | S24: 77032 | T24: 81663
F25: jen na vyšší odbornou školu | J25: 9431 | K25: 8394 | L25: 7668 | M25: 7249 | N25: 7189 | O25: 7458 | P25: 8713 | Q25: 8230 | R25: 8545 | S25: 9121 | T25: 9473
F26: na VŠ i VOŠ současně | J26: 601 | K26: 631 | L26: 636 | M26: 595 | N26: 636 | O26: 617 | P26: 656 | Q26: 625 | R26: 639 | S26: 639 | T26: 660
D27: Komentáře: | T27: Zdroj: databáze MŠMT
E28: Data bez škol jiných resortů.
E29: U VŠ programů se jedná pouze o přihlášené s českým státním občanstvím do bakalářských a magisterských studijních programů.
D30: 1) | E30: Každý uchazeč je započten pouze jednou bez ohledu na to, kolik přihlášek ke studiu podal.
D31: 2) | E31: Každý přijatý je započten pouze jednou bez ohledu na to, na kolik škol byl přijat.
D32: 3) | E32: Každý zapsaný je započten pouze jednou bez ohledu na to, na kolik škol se zapsal.

Sheet B7.2.1
D4: Tab. B7.2.1: | H4: VOŠ – školy
D5: ve školním roce 2015/16 až 2025/26 – podle formy vzdělávání a zřizovatele
D7: Forma vzdělávání Zřizovatel | J7: 2015/16 | K7: 2016/17 | L7: 2017/18 | M7: 2018/19 | N7: 2019/20 | O7: 2020/21 | P7: 2021/22 | Q7: 2022/23 | R7: 2023/24 | S7: 2024/25 | T7: 2025/26
D12: Všechny formy vzdělávání
E13: Celkem | J13: 171 | K13: 168 | L13: 166 | M13: 166 | N13: 160 | O13: 156 | P13: 151 | Q13: 150 | R13: 151 | S13: 155 | T13: 153
E14: v tom | F14: veřejný | J14: 115 | K14: 115 | L14: 114 | M14: 114 | N14: 110 | O14: 105 | P14: 101 | Q14: 100 | R14: 101 | S14: 103 | T14: 100
F15: v tom | G15: MŠMT | J15: 0 | K15: 0 | L15: 0 | M15: 0 | N15: 0 | O15: 0 | P15: 0 | Q15: 0 | R15: 0 | S15: 0 | T15: 0
G16: obec | J16: 0 | K16: 0 | L16: 0 | M16: 0 | N16: 0 | O16: 0 | P16: 0 | Q16: 0 | R16: 0 | S16: 0 | T16: 0
G17: kraj | J17: 110 | K17: 111 | L17: 110 | M17: 110 | N17: 106 | O17: 101 | P17: 97 | Q17: 96 | R17: 97 | S17: 99 | T17: 96
G18: jiný resort | J18: 5 | K18: 4 | L18: 4 | M18: 4 | N18: 4 | O18: 4 | P18: 4 | Q18: 4 | R18: 4 | S18: 4 | T18: 4
F19: neveřejný | J19: 56 | K19: 53 | L19: 52 | M19: 52 | N19: 50 | O19: 51 | P19: 50 | Q19: 50 | R19: 50 | S19: 52 | T19: 53
F20: v tom | G20: privátní sektor | J20: 44 | K20: 42 | L20: 41 | M20: 41 | N20: 40 | O20: 41 | P20: 41 | Q20: 41 | R20: 41 | S20: 43 | T20: 45
G21: církev | J21: 12 | K21: 11 | L21: 11 | M21: 11 | N21: 10 | O21: 10 | P21: 9 | Q21: 9 | R21: 9 | S21: 9 | T21: 8
D22: Denní forma vzdělávání
E23: Celkem | J23: 161 | K23: 157 | L23: 155 | M23: 153 | N23: 142 | O23: 135 | P23: 133 | Q23: 132 | R23: 129 | S23: 129 | T23: 131
E24: v tom | F24: veřejný | J24: 107 | K24: 106 | L24: 106 | M24: 105 | N24: 96 | O24: 89 | P24: 88 | Q24: 87 | R24: 86 | S24: 85 | T24: 84
F25: v tom | G25: MŠMT | J25: 0 | K25: 0 | L25: 0 | M25: 0 | N25: 0 | O25: 0 | P25: 0 | Q25: 0 | R25: 0 | S25: 0 | T25: 0
G26: obec | J26: 0 | K26: 0 | L26: 0 | M26: 0 | N26: 0 | O26: 0 | P26: 0 | Q26: 0 | R26: 0 | S26: 0 | T26: 0
G27: kraj | J27: 107 | K27: 106 | L27: 106 | M27: 105 | N27: 96 | O27: 89 | P27: 88 | Q27: 87 | R27: 86 | S27: 85 | T27: 84
G28: jiný resort | J28: 0 | K28: 0 | L28: 0 | M28: 0 | N28: 0 | O28: 0 | P28: 0 | Q28: 0 | R28: 0 | S28: 0 | T28: 0
F29: neveřejný | J29: 54 | K29: 51 | L29: 49 | M29: 48 | N29: 46 | O29: 46 | P29: 45 | Q29: 45 | R29: 43 | S29: 44 | T29: 47
F30: v tom | G30: privátní sektor | J30: 43 | K30: 41 | L30: 40 | M30: 39 | N30: 38 | O30: 38 | P30: 37 | Q30: 38 | R30: 36 | S30: 37 | T30: 40
G31: církev | J31: 11 | K31: 10 | L31: 9 | M31: 9 | N31: 8 | O31: 8 | P31: 8 | Q31: 7 | R31: 7 | S31: 7 | T31: 7
D32: Ostatní formy vzdělávání
E33: Celkem | J33: 93 | K33: 89 | L33: 86 | M33: 84 | N33: 81 | O33: 83 | P33: 82 | Q33: 82 | R33: 86 | S33: 89 | T33: 83
E34: v tom | F34: veřejný | J34: 58 | K34: 57 | L34: 54 | M34: 54 | N34: 52 | O34: 54 | P34: 53 | Q34: 53 | R34: 56 | S34: 57 | T34: 51
F35: v tom | G35: MŠMT | J35: 0 | K35: 0 | L35: 0 | M35: 0 | N35: 0 | O35: 0 | P35: 0 | Q35: 0 | R35: 0 | S35: 0 | T35: 0
G36: obec | J36: 0 | K36: 0 | L36: 0 | M36: 0 | N36: 0 | O36: 0 | P36: 0 | Q36: 0 | R36: 0 | S36: 0 | T36: 0
G37: kraj | J37: 53 | K37: 53 | L37: 50 | M37: 50 | N37: 48 | O37: 50 | P37: 49 | Q37: 49 | R37: 52 | S37: 53 | T37: 47
G38: jiný resort | J38: 5 | K38: 4 | L38: 4 | M38: 4 | N38: 4 | O38: 4 | P38: 4 | Q38: 4 | R38: 4 | S38: 4 | T38: 4
F39: neveřejný | J39: 35 | K39: 32 | L39: 32 | M39: 30 | N39: 29 | O39: 29 | P39: 29 | Q39: 29 | R39: 30 | S39: 32 | T39: 32
F40: v tom | G40: privátní sektor | J40: 25 | K40: 23 | L40: 23 | M40: 21 | N40: 20 | O40: 20 | P40: 21 | Q40: 21 | R40: 22 | S40: 24 | T40: 25
G41: církev | J41: 10 | K41: 9 | L41: 9 | M41: 9 | N41: 9 | O41: 9 | P41: 8 | Q41: 8 | R41: 8 | S41: 8 | T41: 7
T42: Zdroj: databáze MŠMT

Sheet B7.2.2
D4: Tab. B7.2.2: | H4: VOŠ – školy
D5: ve školním roce 2015/16 až 2025/26 – podle území
D7: Území | J7: 2015/16 | K7: 2016/17 | L7: 2017/18 | M7: 2018/19 | N7: 2019/20 | O7: 2020/21 | P7: 2021/22 | Q7: 2022/23 | R7: 2023/24 | S7: 2024/25 | T7: 2025/26
E12: Česká republika | H12: CZ0 | J12: 171 | K12: 168 | L12: 166 | M12: 166 | N12: 160 | O12: 156 | P12: 151 | Q12: 150 | R12: 151 | S12: 155 | T12: 153
E13: Praha | H13: CZ01 | J13: 37 | K13: 37 | L13: 36 | M13: 37 | N13: 37 | O13: 35 | P13: 34 | Q13: 34 | R13: 35 | S13: 36 | T13: 35
F14: Hlavní město Praha | H14: CZ010 | J14: 37 | K14: 37 | L14: 36 | M14: 37 | N14: 37 | O14: 35 | P14: 34 | Q14: 34 | R14: 35 | S14: 36 | T14: 35
E15: Střední Čechy | H15: CZ02 | J15: 19 | K15: 19 | L15: 19 | M15: 19 | N15: 18 | O15: 17 | P15: 16 | Q15: 14 | R15: 14 | S15: 14 | T15: 13
F16: Středočeský kraj | H16: CZ020 | J16: 19 | K16: 19 | L16: 19 | M16: 19 | N16: 18 | O16: 17 | P16: 16 | Q16: 14 | R16: 14 | S16: 14 | T16: 13
E17: Jihozápad | H17: CZ03 | J17: 22 | K17: 22 | L17: 22 | M17: 20 | N17: 20 | O17: 19 | P17: 19 | Q17: 20 | R17: 20 | S17: 20 | T17: 18
F18: Jihočeský kraj | H18: CZ031 | J18: 17 | K18: 17 | L18: 17 | M18: 15 | N18: 15 | O18: 14 | P18: 14 | Q18: 14 | R18: 14 | S18: 14 | T18: 12
F19: Plzeňský kraj | H19: CZ032 | J19: 5 | K19: 5 | L19: 5 | M19: 5 | N19: 5 | O19: 5 | P19: 5 | Q19: 6 | R19: 6 | S19: 6 | T19: 6
E20: Severozápad | H20: CZ04 | J20: 13 | K20: 12 | L20: 12 | M20: 12 | N20: 12 | O20: 11 | P20: 10 | Q20: 11 | R20: 11 | S20: 11 | T20: 11
F21: Karlovarský kraj | H21: CZ041 | J21: 4 | K21: 4 | L21: 4 | M21: 4 | N21: 4 | O21: 4 | P21: 3 | Q21: 4 | R21: 4 | S21: 4 | T21: 4
F22: Ústecký kraj | H22: CZ042 | J22: 9 | K22: 8 | L22: 8 | M22: 8 | N22: 8 | O22: 7 | P22: 7 | Q22: 7 | R22: 7 | S22: 7 | T22: 7
E23: Severovýchod | H23: CZ05 | J23: 26 | K23: 24 | L23: 24 | M23: 24 | N23: 21 | O23: 21 | P23: 20 | Q23: 20 | R23: 20 | S23: 22 | T23: 20
F24: Liberecký kraj | H24: CZ051 | J24: 6 | K24: 6 | L24: 6 | M24: 6 | N24: 5 | O24: 5 | P24: 5 | Q24: 5 | R24: 5 | S24: 6 | T24: 6
F25: Královéhradecký kraj | H25: CZ052 | J25: 10 | K25: 10 | L25: 9 | M25: 9 | N25: 9 | O25: 10 | P25: 9 | Q25: 9 | R25: 9 | S25: 9 | T25: 7
F26: Pardubický kraj | H26: CZ053 | J26: 10 | K26: 8 | L26: 9 | M26: 9 | N26: 7 | O26: 6 | P26: 6 | Q26: 6 | R26: 6 | S26: 7 | T26: 7
E27: Jihovýchod | H27: CZ06 | J27: 23 | K27: 23 | L27: 22 | M27: 23 | N27: 23 | O27: 22 | P27: 20 | Q27: 19 | R27: 19 | S27: 20 | T27: 23
F28: Kraj Vysočina | H28: CZ063 | J28: 13 | K28: 13 | L28: 12 | M28: 13 | N28: 13 | O28: 12 | P28: 11 | Q28: 10 | R28: 10 | S28: 10 | T28: 9
F29: Jihomoravský kraj | H29: CZ064 | J29: 10 | K29: 10 | L29: 10 | M29: 10 | N29: 10 | O29: 10 | P29: 9 | Q29: 9 | R29: 9 | S29: 10 | T29: 14
E30: Střední Morava | H30: CZ07 | J30: 18 | K30: 18 | L30: 18 | M30: 18 | N30: 16 | O30: 18 | P30: 18 | Q30: 19 | R30: 19 | S30: 19 | T30: 20
F31: Olomoucký kraj | H31: CZ071 | J31: 8 | K31: 8 | L31: 8 | M31: 8 | N31: 6 | O31: 8 | P31: 8 | Q31: 9 | R31: 9 | S31: 9 | T31: 9
F32: Zlínský kraj | H32: CZ072 | J32: 10 | K32: 10 | L32: 10 | M32: 10 | N32: 10 | O32: 10 | P32: 10 | Q32: 10 | R32: 10 | S32: 10 | T32: 11
E33: Moravskoslezsko | H33: CZ08 | J33: 13 | K33: 13 | L33: 13 | M33: 13 | N33: 13 | O33: 13 | P33: 14 | Q33: 13 | R33: 13 | S33: 13 | T33: 13
F34: Moravskoslezský kraj | H34: CZ080 | J34: 13 | K34: 13 | L34: 13 | M34: 13 | N34: 13 | O34: 13 | P34: 14 | Q34: 13 | R34: 13 | S34: 13 | T34: 13
D35: Komentáře: | T35: Zdroj: databáze MŠMT
E36: Údaje za všechny formy vzdělávání.

Sheet B7.2.3
D4: Tab. B7.2.3: | H4: VOŠ – studenti, nově přijatí a absolventi
D5: ve školním roce 2015/16 až 2025/26 – podle formy vzdělávání a zřizovatele
D7: Forma vzdělávání Zřizovatel | J7: 2015/16 | K7: 2016/17 | L7: 2017/18 | M7: 2018/19 | N7: 2019/20 | O7: 2020/21 | P7: 2021/22 | Q7: 2022/23 | R7: 2023/24 | S7: 2024/25 | T7: 2025/26
D12: Studenti
E13: Všechny formy vzdělávání | J13: 24786 | K13: 22002 | L13: 19883 | M13: 18416 | N13: 17954 | O13: 18458 | P13: 20096 | Q13: 20639 | R13: 21676 | S13: 22373 | T13: 22900
E14: v tom | F14: veřejný | J14: 18062 | K14: 15880 | L14: 14278 | M14: 12689 | N14: 12052 | O14: 11998 | P14: 12671 | Q14: 12600 | R14: 13008 | S14: 12676 | T14: 12704
F15: v tom | G15: MŠMT | J15: 0 | K15: 0 | L15: 0 | M15: 0 | N15: 0 | O15: 0 | P15: 0 | Q15: 0 | R15: 0 | S15: 0 | T15: 0
G16: obec | J16: 0 | K16: 0 | L16: 0 | M16: 0 | N16: 0 | O16: 0 | P16: 0 | Q16: 0 | R16: 0 | S16: 0 | T16: 0
G17: kraj | J17: 17540 | K17: 15392 | L17: 13820 | M17: 12252 | N17: 11657 | O17: 11595 | P17: 12178 | Q17: 12000 | R17: 12330 | S17: 12072 | T17: 12145
G18: jiný resort | J18: 522 | K18: 488 | L18: 458 | M18: 437 | N18: 395 | O18: 403 | P18: 493 | Q18: 600 | R18: 678 | S18: 604 | T18: 559
F19: neveřejný | J19: 6724 | K19: 6122 | L19: 5605 | M19: 5727 | N19: 5902 | O19: 6460 | P19: 7425 | Q19: 8039 | R19: 8668 | S19: 9697 | T19: 10196
F20: v tom | G20: privátní sektor | J20: 5191 | K20: 4671 | L20: 4192 | M20: 4287 | N20: 4448 | O20: 4902 | P20: 5817 | Q20: 6523 | R20: 7102 | S20: 8041 | T20: 8543
G21: církev | J21: 1533 | K21: 1451 | L21: 1413 | M21: 1440 | N21: 1454 | O21: 1558 | P21: 1608 | Q21: 1516 | R21: 1566 | S21: 1656 | T21: 1653
E22: Denní vzdělávání | J22: 17129 | K22: 14876 | L22: 12901 | M22: 11474 | N22: 11117 | O22: 11349 | P22: 12411 | Q22: 12781 | R22: 13180 | S22: 13590 | T22: 13931
E23: v tom | F23: veřejný | J23: 12663 | K23: 10915 | L23: 9422 | M23: 8047 | N23: 7638 | O23: 7569 | P23: 8146 | Q23: 8133 | R23: 8160 | S23: 7979 | T23: 7875
F24: v tom | G24: MŠMT | J24: 0 | K24: 0 | L24: 0 | M24: 0 | N24: 0 | O24: 0 | P24: 0 | Q24: 0 | R24: 0 | S24: 0 | T24: 0
G25: obec | J25: 0 | K25: 0 | L25: 0 | M25: 0 | N25: 0 | O25: 0 | P25: 0 | Q25: 0 | R25: 0 | S25: 0 | T25: 0
G26: kraj | J26: 12663 | K26: 10915 | L26: 9422 | M26: 8047 | N26: 7638 | O26: 7569 | P26: 8146 | Q26: 8133 | R26: 8160 | S26: 7979 | T26: 7875
G27: jiný resort | J27: 0 | K27: 0 | L27: 0 | M27: 0 | N27: 0 | O27: 0 | P27: 0 | Q27: 0 | R27: 0 | S27: 0 | T27: 0
F28: neveřejný | J28: 4466 | K28: 3961 | L28: 3479 | M28: 3427 | N28: 3479 | O28: 3780 | P28: 4265 | Q28: 4648 | R28: 5020 | S28: 5611 | T28: 6056
F29: v tom | G29: privátní sektor | J29: 3536 | K29: 3175 | L29: 2755 | M29: 2723 | N29: 2781 | O29: 3000 | P29: 3425 | Q29: 3830 | R29: 4168 | S29: 4680 | T29: 5142
G30: církev | J30: 930 | K30: 786 | L30: 724 | M30: 704 | N30: 698 | O30: 780 | P30: 840 | Q30: 818 | R30: 852 | S30: 931 | T30: 914
E31: Ostatní formy vzdělávání | J31: 7657 | K31: 7126 | L31: 6982 | M31: 6942 | N31: 6837 | O31: 7109 | P31: 7685 | Q31: 7858 | R31: 8496 | S31: 8783 | T31: 8969
E32: v tom | F32: veřejný | J32: 5399 | K32: 4965 | L32: 4856 | M32: 4642 | N32: 4414 | O32: 4429 | P32: 4525 | Q32: 4467 | R32: 4848 | S32: 4697 | T32: 4829
F33: v tom | G33: MŠMT | J33: 0 | K33: 0 | L33: 0 | M33: 0 | N33: 0 | O33: 0 | P33: 0 | Q33: 0 | R33: 0 | S33: 0 | T33: 0
G34: obec | J34: 0 | K34: 0 | L34: 0 | M34: 0 | N34: 0 | O34: 0 | P34: 0 | Q34: 0 | R34: 0 | S34: 0 | T34: 0
G35: kraj | J35: 4877 | K35: 4477 | L35: 4398 | M35: 4205 | N35: 4019 | O35: 4026 | P35: 4032 | Q35: 3867 | R35: 4170 | S35: 4093 | T35: 4270
G36: jiný resort | J36: 522 | K36: 488 | L36: 458 | M36: 437 | N36: 395 | O36: 403 | P36: 493 | Q36: 600 | R36: 678 | S36: 604 | T36: 559
F37: neveřejný | J37: 2258 | K37: 2161 | L37: 2126 | M37: 2300 | N37: 2423 | O37: 2680 | P37: 3160 | Q37: 3391 | R37: 3648 | S37: 4086 | T37: 4140
F38: v tom | G38: privátní sektor | J38: 1655 | K38: 1496 | L38: 1437 | M38: 1564 | N38: 1667 | O38: 1902 | P38: 2392 | Q38: 2693 | R38: 2934 | S38: 3361 | T38: 3401
G39: církev | J39: 603 | K39: 665 | L39: 689 | M39: 736 | N39: 756 | O39: 778 | P39: 768 | Q39: 698 | R39: 714 | S39: 725 | T39: 739
D40: Nově přijatí
E41: Všechny formy vzdělávání | J41: 9868 | K41: 8684 | L41: 7878 | M41: 7361 | N41: 7687 | O41: 7900 | P41: 9240 | Q41: 8968 | R41: 9159 | S41: 9525 | T41: 9402
E42: v tom | F42: veřejný | J42: 7346 | K42: 6413 | L42: 5677 | M42: 4926 | N42: 5201 | O42: 5208 | P42: 5809 | Q42: 5451 | R42: 5571 | S42: 5088 | T42: 5218
F43: v tom | G43: MŠMT | J43: 0 | K43: 0 | L43: 0 | M43: 0 | N43: 0 | O43: 0 | P43: 0 | Q43: 0 | R43: 0 | S43: 0 | T43: 0
G44: obec | J44: 0 | K44: 0 | L44: 0 | M44: 0 | N44: 0 | O44: 0 | P44: 0 | Q44: 0 | R44: 0 | S44: 0 | T44: 0
G45: kraj | J45: 7171 | K45: 6237 | L45: 5544 | M45: 4799 | N45: 5078 | O45: 5070 | P45: 5606 | Q45: 5214 | R45: 5415 | S45: 5007 | T45: 5131
G46: jiný resort | J46: 175 | K46: 176 | L46: 133 | M46: 127 | N46: 123 | O46: 138 | P46: 203 | Q46: 237 | R46: 156 | S46: 81 | T46: 87
F47: neveřejný | J47: 2522 | K47: 2271 | L47: 2201 | M47: 2435 | N47: 2486 | O47: 2692 | P47: 3431 | Q47: 3517 | R47: 3588 | S47: 4437 | T47: 4184
F48: v tom | G48: privátní sektor | J48: 1898 | K48: 1659 | L48: 1582 | M48: 1831 | N48: 1844 | O48: 1995 | P48: 2745 | Q48: 2908 | R48: 2908 | S48: 3755 | T48: 3598
...

Sheet B7.2.4
D4: Tab. B7.2.4: | H4: VOŠ – studentky, nově přijaté a absolventky
D5: ve školním roce 2015/16 až 2025/26 – podle formy vzdělávání a zřizovatele
D7: Forma vzdělávání Zřizovatel | J7: 2015/16 | K7: 2016/17 | L7: 2017/18 | M7: 2018/19 | N7: 2019/20 | O7: 2020/21 | P7: 2021/22 | Q7: 2022/23 | R7: 2023/24 | S7: 2024/25 | T7: 2025/26
D12: Studentky
E13: Všechny formy vzdělávání | J13: 18018 | K13: 15934 | L13: 14464 | M13: 13443 | N13: 13387 | O13: 13894 | P13: 15421 | Q13: 15939 | R13: 16778 | S13: 17555 | T13: 18091
E14: v tom | F14: veřejný | J14: 13182 | K14: 11542 | L14: 10419 | M14: 9323 | N14: 8970 | O14: 8999 | P14: 9638 | Q14: 9601 | R14: 9879 | S14: 9749 | T14: 9832
F15: v tom | G15: MŠMT | J15: 0 | K15: 0 | L15: 0 | M15: 0 | N15: 0 | O15: 0 | P15: 0 | Q15: 0 | R15: 0 | S15: 0 | T15: 0
G16: obec | J16: 0 | K16: 0 | L16: 0 | M16: 0 | N16: 0 | O16: 0 | P16: 0 | Q16: 0 | R16: 0 | S16: 0 | T16: 0
G17: kraj | J17: 13112 | K17: 11468 | L17: 10352 | M17: 9247 | N17: 8904 | O17: 8924 | P17: 9553 | Q17: 9488 | R17: 9768 | S17: 9636 | T17: 9718
G18: jiný resort | J18: 70 | K18: 74 | L18: 67 | M18: 76 | N18: 66 | O18: 75 | P18: 85 | Q18: 113 | R18: 111 | S18: 113 | T18: 114
F19: neveřejný | J19: 4836 | K19: 4392 | L19: 4045 | M19: 4120 | N19: 4417 | O19: 4895 | P19: 5783 | Q19: 6338 | R19: 6899 | S19: 7806 | T19: 8259
F20: v tom | G20: privátní sektor | J20: 3583 | K20: 3174 | L20: 2852 | M20: 2917 | N20: 3222 | O20: 3631 | P20: 4466 | Q20: 5078 | R20: 5580 | S20: 6437 | T20: 6891
G21: církev | J21: 1253 | K21: 1218 | L21: 1193 | M21: 1203 | N21: 1195 | O21: 1264 | P21: 1317 | Q21: 1260 | R21: 1319 | S21: 1369 | T21: 1368
E22: Denní vzdělávání | J22: 12340 | K22: 10629 | L22: 9233 | M22: 8186 | N22: 8057 | O22: 8249 | P22: 9231 | Q22: 9535 | R22: 9884 | S22: 10327 | T22: 10651
E23: v tom | F23: veřejný | J23: 9257 | K23: 7927 | L23: 6860 | M23: 5865 | N23: 5631 | O23: 5586 | P23: 6154 | Q23: 6170 | R23: 6228 | S23: 6146 | T23: 6057
F24: v tom | G24: MŠMT | J24: 0 | K24: 0 | L24: 0 | M24: 0 | N24: 0 | O24: 0 | P24: 0 | Q24: 0 | R24: 0 | S24: 0 | T24: 0
G25: obec | J25: 0 | K25: 0 | L25: 0 | M25: 0 | N25: 0 | O25: 0 | P25: 0 | Q25: 0 | R25: 0 | S25: 0 | T25: 0
G26: kraj | J26: 9257 | K26: 7927 | L26: 6860 | M26: 5865 | N26: 5631 | O26: 5586 | P26: 6154 | Q26: 6170 | R26: 6228 | S26: 6146 | T26: 6057
G27: jiný resort | J27: 0 | K27: 0 | L27: 0 | M27: 0 | N27: 0 | O27: 0 | P27: 0 | Q27: 0 | R27: 0 | S27: 0 | T27: 0
F28: neveřejný | J28: 3083 | K28: 2702 | L28: 2373 | M28: 2321 | N28: 2426 | O28: 2663 | P28: 3077 | Q28: 3365 | R28: 3656 | S28: 4181 | T28: 4594
F29: v tom | G29: privátní sektor | J29: 2333 | K29: 2047 | L29: 1763 | M29: 1739 | N29: 1872 | O29: 2056 | P29: 2404 | Q29: 2707 | R29: 2961 | S29: 3429 | T29: 3845
G30: církev | J30: 750 | K30: 655 | L30: 610 | M30: 582 | N30: 554 | O30: 607 | P30: 673 | Q30: 658 | R30: 695 | S30: 752 | T30: 749
E31: Ostatní formy vzdělávání | J31: 5678 | K31: 5305 | L31: 5231 | M31: 5257 | N31: 5330 | O31: 5645 | P31: 6190 | Q31: 6404 | R31: 6894 | S31: 7228 | T31: 7440
E32: v tom | F32: veřejný | J32: 3925 | K32: 3615 | L32: 3559 | M32: 3458 | N32: 3339 | O32: 3413 | P32: 3484 | Q32: 3431 | R32: 3651 | S32: 3603 | T32: 3775
F33: v tom | G33: MŠMT | J33: 0 | K33: 0 | L33: 0 | M33: 0 | N33: 0 | O33: 0 | P33: 0 | Q33: 0 | R33: 0 | S33: 0 | T33: 0
G34: obec | J34: 0 | K34: 0 | L34: 0 | M34: 0 | N34: 0 | O34: 0 | P34: 0 | Q34: 0 | R34: 0 | S34: 0 | T34: 0
G35: kraj | J35: 3855 | K35: 3541 | L35: 3492 | M35: 3382 | N35: 3273 | O35: 3338 | P35: 3399 | Q35: 3318 | R35: 3540 | S35: 3490 | T35: 3661
G36: jiný resort | J36: 70 | K36: 74 | L36: 67 | M36: 76 | N36: 66 | O36: 75 | P36: 85 | Q36: 113 | R36: 111 | S36: 113 | T36: 114
F37: neveřejný | J37: 1753 | K37: 1690 | L37: 1672 | M37: 1799 | N37: 1991 | O37: 2232 | P37: 2706 | Q37: 2973 | R37: 3243 | S37: 3625 | T37: 3665
F38: v tom | G38: privátní sektor | J38: 1250 | K38: 1127 | L38: 1089 | M38: 1178 | N38: 1350 | O38: 1575 | P38: 2062 | Q38: 2371 | R38: 2619 | S38: 3008 | T38: 3046
G39: církev | J39: 503 | K39: 563 | L39: 583 | M39: 621 | N39: 641 | O39: 657 | P39: 644 | Q39: 602 | R39: 624 | S39: 617 | T39: 619
D40: Nově přijaté
E41: Všechny formy vzdělávání | J41: 7043 | K41: 6109 | L41: 5688 | M41: 5341 | N41: 5728 | O41: 5867 | P41: 7034 | Q41: 6772 | R41: 6921 | S41: 7458 | T41: 7307
E42: v tom | F42: veřejný | J42: 5237 | K42: 4511 | L42: 4102 | M42: 3572 | N42: 3858 | O42: 3873 | P42: 4341 | Q42: 4005 | R42: 4143 | S42: 3895 | T42: 3995
F43: v tom | G43: MŠMT | J43: 0 | K43: 0 | L43: 0 | M43: 0 | N43: 0 | O43: 0 | P43: 0 | Q43: 0 | R43: 0 | S43: 0 | T43: 0
G44: obec | J44: 0 | K44: 0 | L44: 0 | M44: 0 | N44: 0 | O44: 0 | P44: 0 | Q44: 0 | R44: 0 | S44: 0 | T44: 0
G45: kraj | J45: 5224 | K45: 4478 | L45: 4076 | M45: 3542 | N45: 3834 | O45: 3842 | P45: 4303 | Q45: 3957 | R45: 4114 | S45: 3885 | T45: 3977
G46: jiný resort | J46: 13 | K46: 33 | L46: 26 | M46: 30 | N46: 24 | O46: 31 | P46: 38 | Q46: 48 | R46: 29 | S46: 10 | T46: 18
F47: neveřejný | J47: 1806 | K47: 1598 | L47: 1586 | M47: 1769 | N47: 1870 | O47: 1994 | P47: 2693 | Q47: 2767 | R47: 2778 | S47: 3563 | T47: 3312
F48: v tom | G48: privátní sektor | J48: 1300 | K48: 1064 | L48: 1061 | M48: 1270 | N48: 1368 | O48: 1443 | P48: 2133 | Q48: 2265 | R48: 2205 | S48: 2998 | T48: 2841
...

Sheet B7.2.5
D4: Tab. B7.2.5: | H4: VOŠ, denní forma vzdělávání – studenti
D5: ve školním roce 2015/16 až 2025/26 – podle území
D7: Území | J7: 2015/16 | K7: 2016/17 | L7: 2017/18 | M7: 2018/19 | N7: 2019/20 | O7: 2020/21 | P7: 2021/22 | Q7: 2022/23 | R7: 2023/24 | S7: 2024/25 | T7: 2025/26
E12: Česká republika | H12: CZ0 | J12: 17129 | K12: 14876 | L12: 12901 | M12: 11474 | N12: 11117 | O12: 11349 | P12: 12411 | Q12: 12781 | R12: 13180 | S12: 13590 | T12: 13931
E13: Praha | H13: CZ01 | J13: 4322 | K13: 3772 | L13: 3312 | M13: 3099 | N13: 3041 | O13: 3050 | P13: 3305 | Q13: 3464 | R13: 3538 | S13: 3882 | T13: 4020
F14: Hlavní město Praha | H14: CZ010 | J14: 4322 | K14: 3772 | L14: 3312 | M14: 3099 | N14: 3041 | O14: 3050 | P14: 3305 | Q14: 3464 | R14: 3538 | S14: 3882 | T14: 4020
E15: Střední Čechy | H15: CZ02 | J15: 1105 | K15: 939 | L15: 803 | M15: 606 | N15: 535 | O15: 449 | P15: 532 | Q15: 479 | R15: 506 | S15: 486 | T15: 485
F16: Středočeský kraj | H16: CZ020 | J16: 1105 | K16: 939 | L16: 803 | M16: 606 | N16: 535 | O16: 449 | P16: 532 | Q16: 479 | R16: 506 | S16: 486 | T16: 485
E17: Jihozápad | H17: CZ03 | J17: 2093 | K17: 1824 | L17: 1541 | M17: 1391 | N17: 1347 | O17: 1423 | P17: 1465 | Q17: 1489 | R17: 1584 | S17: 1656 | T17: 1715
F18: Jihočeský kraj | H18: CZ031 | J18: 983 | K18: 821 | L18: 679 | M18: 578 | N18: 527 | O18: 519 | P18: 528 | Q18: 448 | R18: 467 | S18: 436 | T18: 480
F19: Plzeňský kraj | H19: CZ032 | J19: 1110 | K19: 1003 | L19: 862 | M19: 813 | N19: 820 | O19: 904 | P19: 937 | Q19: 1041 | R19: 1117 | S19: 1220 | T19: 1235
E20: Severozápad | H20: CZ04 | J20: 1548 | K20: 1227 | L20: 981 | M20: 823 | N20: 819 | O20: 799 | P20: 860 | Q20: 918 | R20: 877 | S20: 890 | T20: 871
F21: Karlovarský kraj | H21: CZ041 | J21: 412 | K21: 339 | L21: 269 | M21: 228 | N21: 219 | O21: 249 | P21: 249 | Q21: 294 | R21: 229 | S21: 261 | T21: 259
F22: Ústecký kraj | H22: CZ042 | J22: 1136 | K22: 888 | L22: 712 | M22: 595 | N22: 600 | O22: 550 | P22: 611 | Q22: 624 | R22: 648 | S22: 629 | T22: 612
E23: Severovýchod | H23: CZ05 | J23: 1963 | K23: 1653 | L23: 1505 | M23: 1204 | N23: 1063 | O23: 1138 | P23: 1307 | Q23: 1272 | R23: 1218 | S23: 1238 | T23: 1185
F24: Liberecký kraj | H24: CZ051 | J24: 314 | K24: 233 | L24: 248 | M24: 222 | N24: 174 | O24: 194 | P24: 238 | Q24: 198 | R24: 184 | S24: 222 | T24: 225
F25: Královéhradecký kraj | H25: CZ052 | J25: 722 | K25: 643 | L25: 584 | M25: 489 | N25: 441 | O25: 442 | P25: 451 | Q25: 484 | R25: 466 | S25: 427 | T25: 386
F26: Pardubický kraj | H26: CZ053 | J26: 927 | K26: 777 | L26: 673 | M26: 493 | N26: 448 | O26: 502 | P26: 618 | Q26: 590 | R26: 568 | S26: 589 | T26: 574
E27: Jihovýchod | H27: CZ06 | J27: 2819 | K27: 2395 | L27: 2049 | M27: 1781 | N27: 1684 | O27: 1624 | P27: 1694 | Q27: 1740 | R27: 1844 | S27: 1800 | T27: 1862
F28: Kraj Vysočina | H28: CZ063 | J28: 787 | K28: 627 | L28: 512 | M28: 374 | N28: 320 | O28: 319 | P28: 338 | Q28: 335 | R28: 357 | S28: 363 | T28: 360
F29: Jihomoravský kraj | H29: CZ064 | J29: 2032 | K29: 1768 | L29: 1537 | M29: 1407 | N29: 1364 | O29: 1305 | P29: 1356 | Q29: 1405 | R29: 1487 | S29: 1437 | T29: 1502
E30: Střední Morava | H30: CZ07 | J30: 1642 | K30: 1497 | L30: 1279 | M30: 1147 | N30: 1150 | O30: 1296 | P30: 1435 | Q30: 1515 | R30: 1584 | S30: 1603 | T30: 1672
F31: Olomoucký kraj | H31: CZ071 | J31: 933 | K31: 886 | L31: 818 | M31: 731 | N31: 731 | O31: 793 | P31: 922 | Q31: 1039 | R31: 1100 | S31: 1148 | T31: 1164
F32: Zlínský kraj | H32: CZ072 | J32: 709 | K32: 611 | L32: 461 | M32: 416 | N32: 419 | O32: 503 | P32: 513 | Q32: 476 | R32: 484 | S32: 455 | T32: 508
E33: Moravskoslezsko | H33: CZ08 | J33: 1637 | K33: 1569 | L33: 1431 | M33: 1423 | N33: 1478 | O33: 1570 | P33: 1813 | Q33: 1904 | R33: 2029 | S33: 2035 | T33: 2121
F34: Moravskoslezský kraj | H34: CZ080 | J34: 1637 | K34: 1569 | L34: 1431 | M34: 1423 | N34: 1478 | O34: 1570 | P34: 1813 | Q34: 1904 | R34: 2029 | S34: 2035 | T34: 2121
T35: Zdroj: databáze MŠMT

Sheet B7.2.6
D4: Tab. B7.2.6: | H4: VOŠ, denní forma vzdělávání – nově přijatí
D5: ve školním roce 2015/16 až 2025/26 – podle území
D7: Území | J7: 2015/16 | K7: 2016/17 | L7: 2017/18 | M7: 2018/19 | N7: 2019/20 | O7: 2020/21 | P7: 2021/22 | Q7: 2022/23 | R7: 2023/24 | S7: 2024/25 | T7: 2025/26
E12: Česká republika | H12: CZ0 | J12: 6887 | K12: 5990 | L12: 5131 | M12: 4703 | N12: 4972 | O12: 5106 | P12: 5909 | Q12: 5844 | R12: 5947 | S12: 6129 | T12: 6067
E13: Praha | H13: CZ01 | J13: 1770 | K13: 1603 | L13: 1373 | M13: 1292 | N13: 1337 | O13: 1374 | P13: 1511 | Q13: 1544 | R13: 1622 | S13: 1774 | T13: 1691
F14: Hlavní město Praha | H14: CZ010 | J14: 1770 | K14: 1603 | L14: 1373 | M14: 1292 | N14: 1337 | O14: 1374 | P14: 1511 | Q14: 1544 | R14: 1622 | S14: 1774 | T14: 1691
E15: Střední Čechy | H15: CZ02 | J15: 484 | K15: 374 | L15: 294 | M15: 196 | N15: 230 | O15: 190 | P15: 265 | Q15: 219 | R15: 208 | S15: 224 | T15: 220
F16: Středočeský kraj | H16: CZ020 | J16: 484 | K16: 374 | L16: 294 | M16: 196 | N16: 230 | O16: 190 | P16: 265 | Q16: 219 | R16: 208 | S16: 224 | T16: 220
E17: Jihozápad | H17: CZ03 | J17: 835 | K17: 754 | L17: 597 | M17: 578 | N17: 593 | O17: 623 | P17: 664 | Q17: 714 | R17: 786 | S17: 802 | T17: 754
F18: Jihočeský kraj | H18: CZ031 | J18: 382 | K18: 312 | L18: 264 | M18: 218 | N18: 216 | O18: 225 | P18: 219 | Q18: 168 | R18: 233 | S18: 197 | T18: 222
F19: Plzeňský kraj | H19: CZ032 | J19: 453 | K19: 442 | L19: 333 | M19: 360 | N19: 377 | O19: 398 | P19: 445 | Q19: 546 | R19: 553 | S19: 605 | T19: 532
E20: Severozápad | H20: CZ04 | J20: 606 | K20: 476 | L20: 417 | M20: 334 | N20: 404 | O20: 401 | P20: 407 | Q20: 461 | R20: 422 | S20: 417 | T20: 395
F21: Karlovarský kraj | H21: CZ041 | J21: 169 | K21: 129 | L21: 95 | M21: 95 | N21: 119 | O21: 121 | P21: 105 | Q21: 178 | R21: 97 | S21: 120 | T21: 104
F22: Ústecký kraj | H22: CZ042 | J22: 437 | K22: 347 | L22: 322 | M22: 239 | N22: 285 | O22: 280 | P22: 302 | Q22: 283 | R22: 325 | S22: 297 | T22: 291
E23: Severovýchod | H23: CZ05 | J23: 738 | K23: 594 | L23: 563 | M23: 435 | N23: 424 | O23: 507 | P23: 623 | Q23: 506 | R23: 497 | S23: 521 | T23: 440
F24: Liberecký kraj | H24: CZ051 | J24: 124 | K24: 80 | L24: 87 | M24: 102 | N24: 73 | O24: 83 | P24: 125 | Q24: 82 | R24: 74 | S24: 110 | T24: 105
F25: Královéhradecký kraj | H25: CZ052 | J25: 267 | K25: 245 | L25: 224 | M25: 178 | N25: 168 | O25: 200 | P25: 192 | Q25: 194 | R25: 189 | S25: 164 | T25: 136
F26: Pardubický kraj | H26: CZ053 | J26: 347 | K26: 269 | L26: 252 | M26: 155 | N26: 183 | O26: 224 | P26: 306 | Q26: 230 | R26: 234 | S26: 247 | T26: 199
E27: Jihovýchod | H27: CZ06 | I27: 0 | J27: 1130 | K27: 913 | L27: 773 | M27: 703 | N27: 732 | O27: 694 | P27: 804 | Q27: 779 | R27: 772 | S27: 739 | T27: 865
F28: Kraj Vysočina | H28: CZ063 | J28: 305 | K28: 230 | L28: 177 | M28: 102 | N28: 126 | O28: 141 | P28: 154 | Q28: 142 | R28: 160 | S28: 165 | T28: 155
F29: Jihomoravský kraj | H29: CZ064 | J29: 825 | K29: 683 | L29: 596 | M29: 601 | N29: 606 | O29: 553 | P29: 650 | Q29: 637 | R29: 612 | S29: 574 | T29: 710
E30: Střední Morava | H30: CZ07 | J30: 650 | K30: 600 | L30: 483 | M30: 497 | N30: 569 | O30: 621 | P30: 701 | Q30: 734 | R30: 713 | S30: 732 | T30: 734
F31: Olomoucký kraj | H31: CZ071 | J31: 380 | K31: 371 | L31: 342 | M31: 308 | N31: 348 | O31: 371 | P31: 460 | Q31: 533 | R31: 478 | S31: 498 | T31: 454
F32: Zlínský kraj | H32: CZ072 | J32: 270 | K32: 229 | L32: 141 | M32: 189 | N32: 221 | O32: 250 | P32: 241 | Q32: 201 | R32: 235 | S32: 234 | T32: 280
E33: Moravskoslezsko | H33: CZ08 | J33: 674 | K33: 676 | L33: 631 | M33: 668 | N33: 683 | O33: 696 | P33: 934 | Q33: 887 | R33: 927 | S33: 920 | T33: 968
F34: Moravskoslezský kraj | H34: CZ080 | J34: 674 | K34: 676 | L34: 631 | M34: 668 | N34: 683 | O34: 696 | P34: 934 | Q34: 887 | R34: 927 | S34: 920 | T34: 968
T35: Zdroj: databáze MŠMT

Sheet B7.2.7
D4: Tab. B7.2.7: | H4: VOŠ, denní forma vzdělávání – absolventi
D5: ve školním roce 2015/16 až 2025/26 – podle území
D7: Území | J7: 2015/16 | K7: 2016/17 | L7: 2017/18 | M7: 2018/19 | N7: 2019/20 | O7: 2020/21 | P7: 2021/22 | Q7: 2022/23 | R7: 2023/24 | S7: 2024/25 | T7: 2025/26
E12: Česká republika | H12: CZ0 | J12: 4139 | K12: 3683 | L12: 3168 | M12: 2721 | N12: 2372 | O12: 2272 | P12: 2420 | Q12: 2468 | R12: 2824 | S12: 2898 | T12: .
E13: Praha | H13: CZ01 | J13: 954 | K13: 792 | L13: 747 | M13: 665 | N13: 636 | O13: 617 | P13: 588 | Q13: 674 | R13: 654 | S13: 717 | T13: .
F14: Hlavní město Praha | H14: CZ010 | J14: 954 | K14: 792 | L14: 747 | M14: 665 | N14: 636 | O14: 617 | P14: 588 | Q14: 674 | R14: 654 | S14: 717 | T14: .
E15: Střední Čechy | H15: CZ02 | J15: 283 | K15: 238 | L15: 240 | M15: 187 | N15: 161 | O15: 99 | P15: 125 | Q15: 90 | R15: 123 | S15: 125 | T15: .
F16: Středočeský kraj | H16: CZ020 | J16: 283 | K16: 238 | L16: 240 | M16: 187 | N16: 161 | O16: 99 | P16: 125 | Q16: 90 | R16: 123 | S16: 125 | T16: .
E17: Jihozápad | H17: CZ03 | J17: 490 | K17: 444 | L17: 354 | M17: 317 | N17: 272 | O17: 296 | P17: 307 | Q17: 296 | R17: 312 | S17: 322 | T17: .
F18: Jihočeský kraj | H18: CZ031 | J18: 220 | K18: 202 | L18: 145 | M18: 124 | N18: 117 | O18: 96 | P18: 107 | Q18: 105 | R18: 96 | S18: 67 | T18: .
F19: Plzeňský kraj | H19: CZ032 | J19: 270 | K19: 242 | L19: 209 | M19: 193 | N19: 155 | O19: 200 | P19: 200 | Q19: 191 | R19: 216 | S19: 255 | T19: .
E20: Severozápad | H20: CZ04 | J20: 395 | K20: 335 | L20: 245 | M20: 200 | N20: 154 | O20: 126 | P20: 155 | Q20: 177 | R20: 187 | S20: 193 | T20: .
F21: Karlovarský kraj | H21: CZ041 | J21: 115 | K21: 92 | L21: 82 | M21: 57 | N21: 29 | O21: 29 | P21: 65 | Q21: 50 | R21: 44 | S21: 65 | T21: .
F22: Ústecký kraj | H22: CZ042 | J22: 280 | K22: 243 | L22: 163 | M22: 143 | N22: 125 | O22: 97 | P22: 90 | Q22: 127 | R22: 143 | S22: 128 | T22: .
E23: Severovýchod | H23: CZ05 | J23: 524 | K23: 463 | L23: 406 | M23: 324 | N23: 251 | O23: 226 | P23: 234 | Q23: 262 | R23: 295 | S23: 290 | T23: .
F24: Liberecký kraj | H24: CZ051 | J24: 70 | K24: 55 | L24: 52 | M24: 35 | N24: 30 | O24: 39 | P24: 31 | Q24: 30 | R24: 43 | S24: 36 | T24: .
F25: Královéhradecký kraj | H25: CZ052 | J25: 213 | K25: 186 | L25: 175 | M25: 149 | N25: 123 | O25: 112 | P25: 99 | Q25: 124 | R25: 117 | S25: 120 | T25: .
F26: Pardubický kraj | H26: CZ053 | J26: 241 | K26: 222 | L26: 179 | M26: 140 | N26: 98 | O26: 75 | P26: 104 | Q26: 108 | R26: 135 | S26: 134 | T26: .
E27: Jihovýchod | H27: CZ06 | J27: 749 | K27: 671 | L27: 575 | M27: 498 | N27: 419 | O27: 394 | P27: 391 | Q27: 362 | R27: 451 | S27: 488 | T27: .
F28: Kraj Vysočina | H28: CZ063 | J28: 216 | K28: 173 | L28: 154 | M28: 131 | N28: 102 | O28: 64 | P28: 74 | Q28: 73 | R28: 90 | S28: 89 | T28: .
F29: Jihomoravský kraj | H29: CZ064 | J29: 533 | K29: 498 | L29: 421 | M29: 367 | N29: 317 | O29: 330 | P29: 317 | Q29: 289 | R29: 361 | S29: 399 | T29: .
E30: Střední Morava | H30: CZ07 | J30: 404 | K30: 391 | L30: 334 | M30: 258 | N30: 237 | O30: 222 | P30: 297 | Q30: 272 | R30: 375 | S30: 345 | T30: .
F31: Olomoucký kraj | H31: CZ071 | J31: 226 | K31: 227 | L31: 192 | M31: 148 | N31: 153 | O31: 135 | P31: 177 | Q31: 159 | R31: 251 | S31: 251 | T31: .
F32: Zlínský kraj | H32: CZ072 | J32: 178 | K32: 164 | L32: 142 | M32: 110 | N32: 84 | O32: 87 | P32: 120 | Q32: 113 | R32: 124 | S32: 94 | T32: .
E33: Moravskoslezsko | H33: CZ08 | J33: 340 | K33: 349 | L33: 267 | M33: 272 | N33: 242 | O33: 292 | P33: 323 | Q33: 335 | R33: 427 | S33: 418 | T33: .
F34: Moravskoslezský kraj | H34: CZ080 | J34: 340 | K34: 349 | L34: 267 | M34: 272 | N34: 242 | O34: 292 | P34: 323 | Q34: 335 | R34: 427 | S34: 418 | T34: .
T35: Zdroj: databáze MŠMT

Sheet B7.2.8
D4: Tab. B7.2.8: | H4: VOŠ – přehled o přijímacím řízení
D5: ve školním roce 2015/16 až 2025/26 – podle formy vzdělávání
D7: Forma vzdělávání | J7: 2015/16 | K7: 2016/17 | L7: 2017/18 | M7: 2018/19 | N7: 2019/20 | O7: 2020/21 | P7: 2021/22 | Q7: 2022/23 | R7: 2023/24 | S7: 2024/25 | T7: 2025/26
D12: Všechny formy vzdělávání
E13: Počet podaných přihlášek | J13: 17385 | K13: 15036 | L13: 13743 | M13: 12850 | N13: 13049 | O13: 14199 | P13: 17507 | Q13: 17730 | R13: 18879 | S13: 19499 | T13: 21210
E14: Počet přihlášených1) | J14: 14397 | K14: 12699 | L14: 11732 | M14: 11006 | N14: 10916 | O14: 11554 | P14: 13716 | Q14: 13747 | R14: 14258 | S14: 14825 | T14: 15955
E15: Index přihlášek | J15: 1.2075432 | K15: 1.1840302 | L15: 1.1714115 | M15: 1.167545 | N15: 1.1954012 | O15: 1.228925 | P15: 1.2763925 | Q15: 1.2897359 | R15: 1.3240988 | S15: 1.3152782 | T15: 1.3293638
E16: Počet přijatých2) | J16: 11580 | K16: 10362 | L16: 9825 | M16: 9028 | N16: 8900 | O16: 9212 | P16: 10793 | Q16: 10652 | R16: 10645 | S16: 11535 | T16: 12257
E17: Počet zapsaných3) | J17: 10032 | K17: 9025 | L17: 8304 | M17: 7844 | N17: 7833 | O17: 8075 | P17: 9369 | Q17: 9048 | R17: 9184 | S17: 9760 | T17: 10133
E18: Úspěšnost uchazečů4) | J18: 0.88067534 | K18: 0.89714286 | L18: 0.92566422 | M18: 0.88910774 | N18: 0.89627392 | O18: 0.86603366 | P18: 0.86579496 | Q18: 0.81281953 | R18: 0.81228539 | S18: 0.82605271 | T18: 0.80574546
D19: Denní forma vzdělávání
E20: Počet podaných přihlášek | J20: 12492 | K20: 10674 | L20: 9151 | M20: 8497 | N20: 8644 | O20: 9308 | P20: 11141 | Q20: 11654 | R20: 11838 | S20: 12560 | T20: 12490
E21: Počet přihlášených1) | J21: 10145 | K21: 8881 | L21: 7657 | M21: 7105 | N21: 7045 | O21: 7398 | P21: 8463 | Q21: 8816 | R21: 8894 | S21: 9233 | T21: 9946
E22: Index přihlášek | J22: 1.2313455 | K22: 1.2018917 | L22: 1.1951156 | M22: 1.1959184 | N22: 1.2269695 | O22: 1.2581779 | P22: 1.3164363 | Q22: 1.3219147 | R22: 1.3310097 | S22: 1.3603379 | T22: 1.2557812
E23: Počet přijatých2) | J23: 8398 | K23: 7398 | L23: 6362 | M23: 5929 | N23: 5924 | O23: 6087 | P23: 7095 | Q23: 7059 | R23: 7040 | S23: 7395 | T23: 7811
E24: Počet zapsaných3) | J24: 7134 | K24: 6342 | L24: 5449 | M24: 5080 | N24: 5081 | O24: 5266 | P24: 6107 | Q24: 5964 | R24: 6013 | S24: 6268 | T24: 6294
E25: Úspěšnost uchazečů4) | J25: 0.904567 | K25: 0.91097156 | L25: 0.92082791 | M25: 0.90532906 | N25: 0.92432517 | O25: 0.89147627 | P25: 0.91631151 | Q25: 0.83459447 | R25: 0.83521177 | S25: 0.84678805 | T25: 0.82822606
D26: Ostatní formy vzdělávání
E27: Počet podaných přihlášek | J27: 4893 | K27: 4362 | L27: 4592 | M27: 4353 | N27: 4405 | O27: 4891 | P27: 6366 | Q27: 6076 | R27: 7041 | S27: 6939 | T27: 7720
E28: Počet přihlášených1) | J28: 4523 | K28: 4033 | L28: 4271 | M28: 4271 | N28: 4097 | O28: 4425 | P28: 5622 | Q28: 5356 | R28: 5861 | S28: 6000 | T28: 6632
E29: Index přihlášek | J29: 1.0818041 | K29: 1.081577 | L29: 1.075158 | M29: 1.0191993 | N29: 1.075177 | O29: 1.1053107 | P29: 1.1323372 | Q29: 1.1344287 | R29: 1.2013308 | S29: 1.1565 | T29: 1.1640531
E30: Počet přijatých2) | J30: 3250 | K30: 3035 | L30: 3230 | M30: 3167 | N30: 3040 | O30: 3213 | P30: 3833 | Q30: 3767 | R30: 3733 | S30: 4309 | T30: 4651
E31: Počet zapsaných3) | J31: 2914 | K31: 2708 | L31: 2879 | M31: 2793 | N31: 2760 | O31: 2831 | P31: 3287 | Q31: 3121 | R31: 3189 | S31: 3524 | T31: 3856
E32: Úspěšnost uchazečů4) | J32: 0.80765408 | K32: 0.85157127 | L32: 0.8380903 | M32: 0.84951717 | N32: 0.82856364 | O32: 0.79985063 | P32: 0.76187637 | Q32: 0.75657763 | R32: 0.68244973 | S32: 0.77388649 | T32: 0.73521973
D33: Komentáře: | T33: Zdroj: databáze MŠMT
E34: Data bez škol jiných resortů.
D35: 1) | E35: Každý uchazeč je započten pouze jednou bez ohledu na to, kolik přihlášek ke studiu podal.
D36: 2) | E36: Každý přijatý je započten pouze jednou bez ohledu na to, na kolik škol byl přijat.
D37: 3) | E37: Každý zapsaný je započten pouze jednou bez ohledu na to, na kolik škol se zapsal.
D38: 4) | E38: Úspěšnost = % přijatých z těch přihlášených, kteří se dostavili k přijímacímu řízení.

Sheet B7.2.9
D4: Tab. B7.2.9: | H4: VOŠ – přehled o přijímacím řízení
D5: ve školním roce 2015/16 až 2025/26 – podle zřizovatele
D7: Zřizovatel | J7: 2015/16 | K7: 2016/17 | L7: 2017/18 | M7: 2018/19 | N7: 2019/20 | O7: 2020/21 | P7: 2021/22 | Q7: 2022/23 | R7: 2023/24 | S7: 2024/25 | T7: 2025/26
D12: Celkem
E13: Počet podaných přihlášek | J13: 17385 | K13: 15036 | L13: 13743 | M13: 12850 | N13: 13049 | O13: 14199 | P13: 17507 | Q13: 17730 | R13: 18879 | S13: 19499 | T13: 21210
E14: Počet přihlášených1) | J14: 14397 | K14: 12699 | L14: 11732 | M14: 11006 | N14: 10916 | O14: 11554 | P14: 13716 | Q14: 13747 | R14: 14258 | S14: 14825 | T14: 15955
E15: Index přihlášek | J15: 1.2075432 | K15: 1.1840302 | L15: 1.1714115 | M15: 1.167545 | N15: 1.1954012 | O15: 1.228925 | P15: 1.2763925 | Q15: 1.2897359 | R15: 1.3240988 | S15: 1.3152782 | T15: 1.3293638
E16: Počet přijatých2) | J16: 11580 | K16: 10362 | L16: 9825 | M16: 9028 | N16: 8900 | O16: 9212 | P16: 10793 | Q16: 10652 | R16: 10645 | S16: 11535 | T16: 12257
E17: Počet zapsaných3) | J17: 10032 | K17: 9025 | L17: 8304 | M17: 7844 | N17: 7833 | O17: 8075 | P17: 9369 | Q17: 9048 | R17: 9184 | S17: 9760 | T17: 10133
E18: Úspěšnost uchazečů4) | J18: 0.88067534 | K18: 0.89714286 | L18: 0.92566422 | M18: 0.88910774 | N18: 0.89627392 | O18: 0.86603366 | P18: 0.86579496 | Q18: 0.81281953 | R18: 0.81228539 | S18: 0.82605271 | T18: 0.80574546
D19: Veřejný
E20: Počet podaných přihlášek | J20: 13503 | K20: 11508 | L20: 10386 | M20: 9051 | N20: 9338 | O20: 9827 | P20: 11589 | Q20: 11090 | R20: 12054 | S20: 11026 | T20: 11973
E21: Počet přihlášených1) | J21: 11166 | K21: 9735 | L21: 8864 | M21: 7739 | N21: 7782 | O21: 8130 | P21: 9169 | Q21: 8768 | R21: 9270 | S21: 8524 | T21: 9139
E22: Index přihlášek | J22: 1.2092961 | K22: 1.1821263 | L22: 1.1717058 | M22: 1.1695309 | N22: 1.1999486 | O22: 1.2087331 | P22: 1.2639328 | Q22: 1.2648266 | R22: 1.3003236 | S22: 1.2935242 | T22: 1.3100996
E23: Počet přijatých2) | J23: 8661 | K23: 7764 | L23: 7040 | M23: 6207 | N23: 6331 | O23: 6336 | P23: 7159 | Q23: 6599 | R23: 6817 | S23: 6371 | T23: 6696
E24: Počet zapsaných3) | J24: 7406 | K24: 6694 | L24: 6058 | M24: 5354 | N24: 5481 | O24: 5512 | P24: 6080 | Q24: 5579 | R24: 5784 | S24: 5348 | T24: 5519
E25: Úspěšnost uchazečů4) | J25: 0.85982329 | K25: 0.88087134 | L25: 0.88888889 | M25: 0.8794276 | N25: 0.89598075 | O25: 0.85621622 | P25: 0.87390137 | Q25: 0.82580403 | R25: 0.77962031 | S25: 0.78888063 | T25: 0.77116204
D26: Privátní sektor
E27: Počet podaných přihlášek | J27: 2850 | K27: 2506 | L27: 2275 | M27: 2807 | N27: 2774 | O27: 3165 | P27: 4726 | Q27: 5508 | R27: 5481 | S27: 7139 | T27: 7869
E28: Počet přihlášených1) | J28: 2759 | K28: 2429 | L28: 2198 | M28: 2641 | N28: 2591 | O28: 2767 | P28: 4156 | Q28: 4742 | R28: 4661 | S28: 6068 | T28: 6683
