Workbook
Name data_1: 'B7.1.2'!$J$12:$T$23
Name data_1: 'B7.1.3'!$J$12:$T$23
Name data_1: 'B7.1.1'!$J$12:$T$23
Name data_10: #REF!
Name data_10: #REF!
Name data_10: 'B7.2.5'!$J$12:$T$34
Name data_11: 'B7.2.6'!$J$12:$T$34
Name data_12: 'B7.2.7'!#REF!
Name data_13: #REF!
Name data_13: #REF!
Name data_13: #REF!
Name data_14: #REF!
Name data_14: #REF!
Name data_14: 'B7.2.8'!$J$12:$T$32
Name data_15: #REF!
Name data_15: #REF!
Name data_15: 'B7.2.9'!$J$12:$T$39
Name data_16: #REF!
Name data_16: #REF!
Name data_16: 'B7.2.11'!$J$12:$T$14
Name data_17: #REF!
Name data_17: #REF!
Name data_17: 'B7.2.10'!$J$12:$T$15
Name data_18: #REF!
Name data_18: #REF!
Name data_18: #REF!
Name data_19: #REF!
Name data_19: #REF!
Name data_19: 'B7.2.12'!$J$12:$T$25
Name data_2: 'B7.2.16'!$J$13:$U$31
Name data_2: #REF!
Name data_2: #REF!
Name data_20: #REF!
Name data_20: #REF!
Name data_20: #REF!
Name data_21: #REF!
Name data_21: #REF!
Name data_21: 'B7.2.14'!#REF!
Name data_22: #REF!
Name data_22: #REF!
Name data_22: 'B7.2.15'!$J$19:$T$21
Name data_23: #REF!
Name data_23: #REF!
Name data_23: 'B7.3.1'!$K$12:$AE$14
Name data_24: #REF!
Name data_24: #REF!
Name data_24: 'B7.3.3'!$J$12:$T$47
Name data_24: 'B7.3.4'!$J$12:$T$47
Name data_24: 'B7.3.2'!$J$12:$T$47
Name data_25: #REF!
Name data_25: #REF!
Name data_25: #REF!
Name data_26: #REF!
Name data_26: #REF!
Name data_26: #REF!
Name data_27: #REF!
Name data_27: #REF!
Name data_27: #REF!
Name data_28: #REF!
Name data_29: 'B7.3.10'!$J$12:$T$41

Sheet Obsah
C2: 100
A4: B7 Vývoj terciárního vzdělávání
A5: Zdroje dat jsou uvedeny v zápatí jednotlivých tabulek
B6: Ekonomické ukazatele budou doplněny.
A7: Text | C7: Obsah
B8: Terciární vzdělávání celkem
A9: Tabulka 1 | C9: ='B7.1.1'!H4&" "&" "&" "&'B7.1.1'!D5 -> Terciární vzdělávání – studenti ve školním/akademickém roce 2015/16 až 2025/26 – podle formy vzdělávání/studia a typu studijního programu
A11: Tabulka 2 | C11: ='B7.1.2'!H4&" "&'B7.1.2'!D5 -> Terciární vzdělávání – nově přijatí studenti na VOŠ/poprvé zapsaní ke studiu na VŠ ve školním/akademickém roce 2015/16 až 2025/26 – podle formy vzdělávání/studia a typu studijního programu
A13: Tabulka 3 | C13: ='B7.1.3'!H4&" "&'B7.1.3'!D5 -> Terciární vzdělávání – absolventi ve školním/akademickém roce 2015/16 až 2025/26 – podle formy vzdělávání/studia a typu studijního programu
A15: Tabulka 4 | C15: ='B7.1.4'!H4&" "&'B7.1.4'!D5 -> Terciární vzdělávání – celkový přehled o přijímacím řízení ve školním/akademickém roce 2015/16 až 2025/26 – podle formy vzdělávání/studia a typu studijního programu
A17: Tabulka 5 | C17: ='B7.1.5'!H4&" "&'B7.1.5'!D5 -> Terciární vzdělávání – uchazeči o studium ve školním/akademickém roce 2015/16 až 2025/26 – podle druhu školy
B19: Vyšší odborné školy
A20: Tabulka 6 | C20: ='B7.2.1'!H4&" "&'B7.2.1'!D5 -> VOŠ – školy ve školním roce 2015/16 až 2025/26 – podle formy vzdělávání a zřizovatele
A22: Tabulka 7 | C22: ='B7.2.2'!H4&" "&'B7.2.2'!D5 -> VOŠ – školy ve školním roce 2015/16 až 2025/26 – podle území
A24: Tabulka 8 | C24: ='B7.2.3'!H4&" "&'B7.2.3'!D5 -> VOŠ – studenti, nově přijatí a absolventi ve školním roce 2015/16 až 2025/26 – podle formy vzdělávání a zřizovatele
A26: Tabulka 9 | C26: ='B7.2.4'!H4&" "&'B7.2.4'!D5 -> VOŠ – studentky, nově přijaté a absolventky ve školním roce 2015/16 až 2025/26 – podle formy vzdělávání a zřizovatele
A28: Tabulka 10 | C28: ='B7.2.5'!H4&" "&'B7.2.5'!D5 -> VOŠ, denní forma vzdělávání – studenti ve školním roce 2015/16 až 2025/26 – podle území
A30: Tabulka 11 | C30: ='B7.2.6'!H4&" "&'B7.2.6'!D5 -> VOŠ, denní forma vzdělávání – nově přijatí ve školním roce 2015/16 až 2025/26 – podle území
A32: Tabulka 12 | C32: ='B7.2.7'!H4&" "&'B7.2.7'!D5 -> VOŠ, denní forma vzdělávání – absolventi ve školním roce 2015/16 až 2025/26 – podle území
A34: Tabulka 13 | C34: ='B7.2.8'!H4&" "&'B7.2.8'!D5 -> VOŠ – přehled o přijímacím řízení ve školním roce 2015/16 až 2025/26 – podle formy vzdělávání
A36: Tabulka 14 | C36: ='B7.2.9'!H4&" "&'B7.2.9'!D5 -> VOŠ – přehled o přijímacím řízení ve školním roce 2015/16 až 2025/26 – podle zřizovatele
A38: Tabulka 15 | C38: ='B7.2.10'!H4&" "&'B7.2.10'!D5 -> VOŠ, denní forma vzdělávání – nově přijatí ve školním roce 2015/16 až 2025/26 – podle předchozího působiště
A40: Tabulka 16 | C40: ='B7.2.11'!H4&" "&'B7.2.11'!D5 -> VOŠ – poměrové ukazatele ve školním roce 2015/16 až 2025/26
A42: Tabulka 17 | C42: ='B7.2.12'!H4&" "&'B7.2.12'!D5 -> VOŠ – učitelé (přepočtené počty) ve školním roce 2015/16 až 2025/26 – podle zřizovatele
A44: Tabulka 19 | C44: ='B7.2.14'!H4&" "&'B7.2.14'!D5 -> VOŠ – zaměstnanci (přepočtené počty) v letech 2015 až 2025
A46: Tabulka 20 | C46: ='B7.2.15'!H4&" "&'B7.2.15'!D5 -> VOŠ – průměrné měsíční mzdy zaměstnanců v letech 2015 až 2025
A48: Tabulka 21 | C48: ='B7.2.16'!H4&" "&'B7.2.16'!D5 -> VOŠ – struktura učitelů v letech 2015 až 2025 – podle nejvyššího dosaženého vzdělání
A50: Tabulka 22 | C50: ='B7.2.17'!H4&" "&'B7.2.17'!D5 -> VOŠ – struktura učitelů v letech 2015 až 2025 – podle věku
B52: Vysoké školy
A53: Tabulka 23 | C53: ='B7.3.1'!H4&" "&'B7.3.1'!D5 -> VŠ – počty škol v letech 2015 až 2025
A55: Tabulka 24 | C55: ='B7.3.2'!H4&" "&'B7.3.2'!D5 -> VŠ – počty studentů podle formy studia a typu studijního programu v letech 2015 až 2025 – podle státního občanství
A57: Tabulka 25 | C57: ='B7.3.3'!H4&" "&'B7.3.3'!D5 -> VŠ – počty poprvé zapsaných studentů podle formy studia a typu studijního programu v letech 2015 až 2025 – podle státního občanství
A59: Tabulka 26 | C59: ='B7.3.4'!H4&" "&'B7.3.4'!D5 -> VŠ – počty absolventů podle formy studia a typu studijního programu v letech 2015 až 2025 – podle státního občanství
A61: Tabulka 27 | C61: ='B7.3.5'!H4&" "&'B7.3.5'!D5 -> Veřejné a soukromé VŠ – počty studentů podle formy studia a typu studijního programu v letech 2015 až 2025 – podle státního občanství
A63: Tabulka 28 | C63: ='B7.3.5.1'!H4&" "&'B7.3.5.1'!D5 -> Veřejné VŠ – počty studentů podle formy studia a typu studijního programu v letech 2015 až 2025 – podle státního občanství
A65: Tabulka 29 | C65: ='B7.3.5.2'!H4&" "&'B7.3.5.2'!D5 -> Soukromé VŠ – počty studentů podle formy studia a typu studijního programu v letech 2015 až 2025 – podle státního občanství
A67: Tabulka 30 | C67: ='B7.3.6'!H4&" "&'B7.3.6'!D5 -> Veřejné a soukromé VŠ – počty poprvé zapsaných studentů podle formy studia a typu studijního programu v letech 2015 až 2025 – podle státního občanství
A69: Tabulka 31 | C69: ='B7.3.6.1'!H4&" "&'B7.3.6.1'!D5 -> Veřejné VŠ – počty poprvé zapsaných studentů podle formy studia a typu studijního programu v letech 2015 až 2025 – podle státního občanství
A71: Tabulka 32 | C71: ='B7.3.6.2'!H4&" "&'B7.3.6.2'!D5 -> Soukromé VŠ – počty poprvé zapsaných studentů podle formy studia a typu studijního programu v letech 2015 až 2025 – podle státního občanství
A73: Tabulka 33 | C73: ='B7.3.7'!H4&" "&'B7.3.7'!D5 -> Veřejné a soukromé VŠ – počty absolventů podle formy studia a typu studijního programu v letech 2015 až 2025 – podle státního občanství
A75: Tabulka 34 | C75: ='B7.3.7.1'!H4&" "&'B7.3.7.1'!D5 -> Veřejné VŠ – počty absolventů podle formy studia a typu studijního programu v letech 2015 až 2025 – podle státního občanství
A77: Tabulka 35 | C77: ='B7.3.7.2'!H4&" "&'B7.3.7.2'!D5 -> Soukromé VŠ – počty absolventů podle formy studia a typu studijního programu v letech 2015 až 2025 – podle státního občanství
A79: Tabulka 36 | C79: ='B7.3.8'!H4&" "&'B7.3.8'!D5 -> VŠ – přehled o přijímacím řízení v letech 2015 až 2025 – podle formy studia a typu studijního programu
A81: Tabulka 37 | C81: ='B7.3.8.1'!H4&" "&'B7.3.8.1'!D5 -> Veřejné VŠ – přehled o přijímacím řízení v letech 2015 až 2025 – podle formy studia a typu studijního programu
A83: Tabulka 38 | C83: ='B7.3.8.2'!H4&" "&'B7.3.8.2'!D5 -> Soukromé VŠ – přehled o přijímacím řízení v letech 2015 až 2025 – podle formy studia a typu studijního programu
A85: Tabulka 39 | C85: ='B7.3.9'!H4&" "&'B7.3.9'!D5 -> VŠ – počty studentů celkem podle formy studia a podle skupin studijních programů v letech 2015 až 2025
A87: Tabulka 40 | C87: ='B7.3.10'!H4&" "&'B7.3.10'!D5 -> VŠ – poprvé zapsaní podle formy studia a podle skupin studijních programů v letech 2015 až 2025
A89: Tabulka 41 | C89: ='B7.3.11'!H4&" "&'B7.3.11'!D5 -> VŠ – počty absolventů celkem podle zřizovatele VŠ a podle skupin studijních programů v letech 2015 až 2025
A91: Tabulka 44 | C91: ='B7.3.14'!H4&" "&'B7.3.14'!D5 -> Veřejné VŠ – zaměstnanci (přepočtené počty), z rozpočtu kap. 333-MŠMT v letech 2015 až 2025
A93: Tabulka 45 | C93: ='B7.3.15'!H4&" "&'B7.3.15'!D5 -> Veřejné VŠ – průměrné měsíční mzdy, z rozpočtu kap. 333-MŠMT v letech 2015 až 2025
A95: Tabulka 46 | C95: ='B7.3.16'!$H$4&" "&'B7.3.16'!$D$5 -> Veřejné VŠ – zaměstnanci (přepočtené počty) v letech 2015 až 2025
B97: Obrazová příloha
A99: Graf 1 | C99: ='GB1'!$H$4&" "&'GB1'!$D$5 -> Terciární vzdělávání – uchazeči o studium ve školním/akademickém roce 2015/16 až 2025/26 – podle druhu školy
A101: Graf 2 | C101: ='GB2'!$H$4&" "&'GB2'!$D$5 -> VOŠ, denní forma vzdělávání – struktura škol ve školním roce 2015/16 až 2025/26 – podle počtu studentů
A103: Graf 3 | C103: ='GB3'!$H$4&" "&'GB3'!$D$5 -> VOŠ – všichni zřizovatelé – přepočtené počty zaměstnanců a učitelů, průměrné nominální a reálné mzdy v letech 2015 až 2025
A105: Graf 4 | C105: ='GB4'!$H$4&" "&'GB4'!$D$5 -> VŠ, prezenční studium – poprvé zapsaní (občané ČR), populace 19letých, absolventi SŠ s maturitní zkouškou včetně zkráceného a nástavbového studia v denní formě vzdělávání ve školním/akademickém roce 2015/16 až 2025/26
A107: Graf 5 | C107: ='GB5'!$H$4&" "&'GB5'!$D$5 -> VŠ – studenti, poprvé zapsaní a absolventi v letech 2015 až 2025
A109: Graf 6 | C109: ='GB6'!$H$4&" "&'GB6'!$D$5 -> VŠ, denní forma vzdělávání – struktura přihlášených v letech 2015 až 2025
A111: Graf 7 | C111: ='GB7'!$H$4&" "&'GB7'!$D$5 -> Veřejné VŠ – přepočtené počty zaměstnanců a akademických (pedagogických) pracovníků, průměrné nominální a reálné mzdy v letech 2015 až 2025

Sheet B7.1.1
D4: Tab. B7.1.1: | H4: Terciární vzdělávání – studenti
B5: 12 | D5: ve školním/akademickém roce 2015/16 až 2025/26 – podle formy vzdělávání/studia a typu studijního programu
D7: Forma vzdělávání/studia Typ studijního programu | J7: 2015/16 | K7: 2016/17 | L7: 2017/18 | M7: 2018/19 | N7: 2019/20 | O7: 2020/21 | P7: 2021/22 | Q7: 2022/23 | R7: 2023/24 | S7: 2024/25 | T7: 2025/26
D12: Vyšší odborné školy1)
D13: Celkem | J13: 24786 | K13: 22002 | L13: 19883 | M13: 18416 | N13: 17954 | O13: 18458 | P13: 20096 | Q13: 20639 | R13: 21676 | S13: 22373 | T13: 22900
E14: v tom | F14: denní forma vzdělávání | J14: 17129 | K14: 14876 | L14: 12901 | M14: 11474 | N14: 11117 | O14: 11349 | P14: 12411 | Q14: 12781 | R14: 13180 | S14: 13590 | T14: 13931
F15: ostatní formy vzdělávání | J15: 7657 | K15: 7126 | L15: 6982 | M15: 6942 | N15: 6837 | O15: 7109 | P15: 7685 | Q15: 7858 | R15: 8496 | S15: 8783 | T15: 8969
D16: Vysoké školy2),3)
D17: Celkem | J17: 326423 | K17: 311045 | L17: 298665 | M17: 289659 | N17: 288587 | O17: 298986 | P17: 303625 | Q17: 304303 | R17: 308518 | S17: 314715 | T17: 330547
E18: z toho | F18: prezenční studium | J18: 249267 | K18: 236688 | L18: 227393 | M18: 222291 | N18: 224684 | O18: 235527 | P18: 241546 | Q18: 246168 | R18: 251960 | S18: 259782 | T18: 273915
F19: distanční a kombinované studium | J19: 79803 | K19: 76834 | L19: 73487 | M19: 69305 | N19: 65894 | O19: 65681 | P19: 64282 | Q19: 60224 | R19: 58784 | S19: 57156 | T19: 59048
E20: Bakalářské studijní programy | J20: 192271 | K20: 179748 | L20: 172112 | M20: 167910 | N20: 170039 | O20: 178495 | P20: 182124 | Q20: 183825 | R20: 188172 | S20: 193355 | T20: 205307
E21: Magisterské studijní programy | J21: 31770 | K21: 31211 | L21: 30807 | M21: 30731 | N21: 30863 | O21: 31816 | P21: 32519 | Q21: 33225 | R21: 33977 | S21: 34707 | T21: 35756
E22: Magisterské navazující studijní programy | J22: 81349 | K22: 79567 | L22: 75926 | M22: 71791 | N22: 68909 | O22: 69413 | P22: 69955 | Q22: 69046 | R22: 68950 | S22: 70782 | T22: 74586
E23: Doktorské studijní programy | J23: 23861 | K23: 23179 | L23: 22132 | M23: 21341 | N23: 20876 | O23: 21600 | P23: 21338 | Q23: 20479 | R23: 19754 | S23: 18267 | T23: 17440
D24: Komentáře: | T24: Zdroj: databáze MŠMT
D25: 1) | E25: Do nevysokoškolského terciárního vzdělávání nebylo zařazeno studium na konzervatořích ani PMS na jazykových školách s právem státní závěrečné zkoušky. Údaje za studia na VOŠ k 30. 9. daného roku, od roku 2016 k 31. 10.
D26: 2) | E26: Údaje za VŠ ve fyzických osobách k 31. 12. daného roku, podle stavu SIMS k 20. 1. 2026.
D27: 3) | E27: Data bez škol jiných resortů.

Sheet B7.1.2
D4: Tab. B7.1.2: | H4: Terciární vzdělávání – nově přijatí studenti na VOŠ/poprvé zapsaní ke studiu
B5: 12 | D5: na VŠ ve školním/akademickém roce 2015/16 až 2025/26 – podle formy vzdělávání/studia a typu studijního programu
D7: Forma vzdělávání/studia Typ studijního programu | J7: 2015/16 | K7: 2016/17 | L7: 2017/18 | M7: 2018/19 | N7: 2019/20 | O7: 2020/21 | P7: 2021/22 | Q7: 2022/23 | R7: 2023/24 | S7: 2024/25 | T7: 2025/26
D12: Vyšší odborné školy1)
D13: Celkem | J13: 9868 | K13: 8684 | L13: 7878 | M13: 7361 | N13: 7687 | O13: 7900 | P13: 9240 | Q13: 8968 | R13: 9159 | S13: 9525 | T13: 9402
E14: v tom | F14: denní forma vzdělávání | J14: 6887 | K14: 5990 | L14: 5131 | M14: 4703 | N14: 4972 | O14: 5106 | P14: 5909 | Q14: 5844 | R14: 5947 | S14: 6129 | T14: 6067
F15: ostatní formy vzdělávání | J15: 2981 | K15: 2694 | L15: 2747 | M15: 2658 | N15: 2715 | O15: 2794 | P15: 3331 | Q15: 3124 | R15: 3212 | S15: 3396 | T15: 3335
D16: Vysoké školy2),3)
D17: Celkem | J17: 55600 | K17: 53563 | L17: 53335 | M17: 53837 | N17: 56896 | O17: 61132 | P17: 61670 | Q17: 60641 | R17: 62323 | S17: 64835 | T17: 71305
E18: z toho | F18: prezenční studium | J18: 46334 | K18: 44945 | L18: 44778 | M18: 46068 | N18: 49108 | O18: 53001 | P18: 53389 | Q18: 53846 | R18: 55266 | S18: 58072 | T18: 64005
F19: distanční a kombinované studium | J19: 9275 | K19: 8633 | L19: 8574 | M19: 7777 | N19: 7800 | O19: 8143 | P19: 8298 | Q19: 6818 | R19: 7077 | S19: 6795 | T19: 7347
E20: Bakalářské studijní programy | J20: 52283 | K20: 49975 | L20: 49681 | M20: 50052 | N20: 52869 | O20: 57049 | P20: 57393 | Q20: 56083 | R20: 57767 | S20: 60184 | T20: 66564
E21: Magisterské studijní programy | J21: 6015 | K21: 6035 | L21: 6084 | M21: 6263 | N21: 6546 | O21: 6755 | P21: 6890 | Q21: 7131 | R21: 7163 | S21: 7291 | T21: 7497
E22: Magisterské navazující studijní programy | J22: 32890 | K22: 32299 | L22: 29644 | M22: 27920 | N22: 27197 | O22: 28344 | P22: 28286 | Q22: 26706 | R22: 28034 | S22: 29181 | T22: 31514
E23: Doktorské studijní programy | J23: 4639 | K23: 4404 | L23: 4106 | M23: 4126 | N23: 4160 | O23: 4317 | P23: 3966 | Q23: 3502 | R23: 3415 | S23: 3314 | T23: 2974
D24: Komentáře: | T24: Zdroj: databáze MŠMT
D25: 1) | E25: Do nevysokoškolského terciárního vzdělávání nebylo zařazeno studium na konzervatořích ani PMS na jazykových školách s právem státní závěrečné zkoušky. Údaje za VOŠ k 30. 9. daného roku, od roku 2016 k 31. 10.
D26: 2) | E26: Do celkového počtu poprvé zapsaných nejsou započteni poprvé zapsaní do navazujících magisterských a doktorských studijních programů. Údaje za fyzické osoby za kalendářní rok (např. 2020/21 = kalendářní rok 2020).
D27: 3) | E27: Data bez škol jiných resortů.

Sheet B7.1.3
D4: Tab. B7.1.3: | H4: Terciární vzdělávání – absolventi
D5: ve školním/akademickém roce 2015/16 až 2025/26 – podle formy vzdělávání/studia a typu studijního programu
D7: Forma vzdělávání/studia Typ studijního programu | J7: 2015/16 | K7: 2016/17 | L7: 2017/18 | M7: 2018/19 | N7: 2019/20 | O7: 2020/21 | P7: 2021/22 | Q7: 2022/23 | R7: 2023/24 | S7: 2024/25 | T7: 2025/26
D12: Vyšší odborné školy1)
D13: Celkem | J13: 5685 | K13: 5174 | L13: 4582 | M13: 4056 | N13: 3683 | O13: 3621 | P13: 3906 | Q13: 3786 | R13: 4575 | S13: 4688 | T13: .
E14: v tom | F14: denní forma vzdělávání | J14: 4139 | K14: 3683 | L14: 3168 | M14: 2721 | N14: 2372 | O14: 2272 | P14: 2420 | Q14: 2468 | R14: 2824 | S14: 2898 | T14: .
F15: ostatní formy vzdělávání | J15: 1546 | K15: 1491 | L15: 1414 | M15: 1335 | N15: 1311 | O15: 1349 | P15: 1486 | Q15: 1318 | R15: 1751 | S15: 1790 | T15: .
D16: Vysoké školy2),3)
D17: Celkem | J17: 82039 | K17: 77382 | L17: 72084 | M17: 68574 | N17: 64257 | O17: 62961 | P17: 60598 | Q17: 58722 | R17: 63231 | S17: 66396 | T17: 69076
E18: z toho | F18: prezenční studium | J18: 60682 | K18: 58796 | L18: 54775 | M18: 52253 | N18: 49046 | O18: 48131 | P18: 46988 | Q18: 46720 | R18: 50295 | S18: 52722 | T18: 56237
F19: distanční a kombinované studium | J19: 21437 | K19: 18663 | L19: 17392 | M19: 16386 | N19: 15271 | O19: 14879 | P19: 13651 | Q19: 12042 | R19: 12985 | S19: 13737 | T19: 12902
E20: Bakalářské studijní programy | J20: 43564 | K20: 41076 | L20: 37132 | M20: 34792 | N20: 32542 | O20: 32538 | P20: 31890 | Q20: 31034 | R20: 33752 | S20: 35674 | T20: 37959
E21: Magisterské studijní programy | J21: 5001 | K21: 4899 | L21: 4743 | M21: 4539 | N21: 4570 | O21: 4404 | P21: 4253 | Q21: 4358 | R21: 4468 | S21: 4754 | T21: 4742
E22: Magisterské navazující studijní programy | J22: 31155 | K22: 29155 | L22: 27890 | M22: 26927 | N22: 24895 | O22: 24223 | P22: 22414 | Q22: 21322 | R22: 22771 | S22: 22870 | T22: 24202
E23: Doktorské studijní programy | J23: 2410 | K23: 2343 | L23: 2387 | M23: 2372 | N23: 2309 | O23: 1846 | P23: 2084 | Q23: 2044 | R23: 2280 | S23: 3145 | T23: 2214
D24: Komentáře: | T24: Zdroj: databáze MŠMT
D25: 1) | E25: Do nevysokoškolského terciárního vzdělávání nebylo zařazeno studium na konzervatořích ani PMS na jazykových školách s právem státní závěrečné zkoušky. Údaje za VOŠ k 30. 9. daného roku, od roku 2016 k 31. 10.
D26: 2) | E26: Údaje za fyzické osoby za kalendářní rok (např. 2020/21 = kalendářní rok 2020).
D27: 3) | E27: Data bez škol jiných resortů.

Sheet B7.1.4
D4: Tab. B7.1.4: | H4: Terciární vzdělávání – celkový přehled o přijímacím řízení
D5: ve školním/akademickém roce 2015/16 až 2025/26 – podle formy vzdělávání/studia a typu studijního programu
D7: Forma vzdělávání/studia Typ studijního programu | J7: Počet podaných přihlášek | K7: Počet přihlášených1) | L7: Počet přihlášených, kteří se dostavili k přijímacímu řízení | M7: Index přihlášek | N7: Počet přijatých2) | O7: Počet zapsaných3) | P7: Počet přijatých z přihlášených v % | Q7: Úspěšnost uchazečů v %4)
D12: 2015/16
E13: Celkem | J13: 261103 | K13: 121269 | L13: 111515 | M13: 2.1530894 | N13: 90138 | O13: 84278 | P13: 0.74328971 | Q13: 0.80830382
E14: Denní vzdělávání/prezenční studium | J14: 209845 | K14: 86823 | L14: 81044 | M14: 2.4169287 | N14: 66389 | O14: 62028 | P14: 0.76464762 | Q14: 0.8191723
E15: v tom | F15: bakalářský studijní program | J15: 167100 | K15: 77049 | L15: 71501 | M15: 2.1687498 | N15: 56533 | O15: 51032 | P15: 0.73372789 | Q15: 0.79066027
F16: magisterský studijní program | J16: 30253 | K16: 14805 | L16: 13395 | M16: 2.0434313 | N16: 5159 | O16: 4606 | P16: 0.34846336 | Q16: 0.38514371
F17: vyšší odborné školy | J17: 12492 | K17: 10145 | L17: 9284 | M17: 1.2313455 | N17: 8398 | O17: 7134 | P17: 0.82779694 | Q17: 0.904567
E18: Ost. formy vzděl./distanční a kombin. studium | J18: 51258 | K18: 40598 | L18: 35115 | M18: 1.2625745 | N18: 25472 | O18: 22810 | P18: 0.62742007 | Q18: 0.72538801
E19: v tom | F19: bakalářský studijní program | J19: 45072 | K19: 36176 | L19: 31051 | M19: 1.2459089 | N19: 22031 | O19: 19646 | P19: 0.60899491 | Q19: 0.70951016
F20: magisterský studijní program | J20: 1293 | K20: 1037 | L20: 896 | M20: 1.246866 | N20: 455 | O20: 378 | P20: 0.43876567 | Q20: 0.5078125
F21: vyšší odborné školy | J21: 4893 | K21: 4523 | L21: 4024 | M21: 1.0818041 | N21: 3250 | O21: 2914 | P21: 0.71854964 | Q21: 0.80765408
D22: 2016/17
E23: Celkem | J23: 239187 | K23: 110163 | L23: 100860 | M23: 2.1712099 | N23: 82862 | O23: 78257 | P23: 0.75217632 | Q23: 0.82155463
E24: Denní vzdělávání/prezenční studium | J24: 194684 | K24: 79985 | L24: 74403 | M24: 2.4340064 | N24: 61822 | O24: 57837 | P24: 0.77291992 | Q24: 0.83090736
E25: v tom | F25: bakalářský studijní program | J25: 154760 | K25: 71028 | L25: 66005 | M25: 2.178859 | N25: 52913 | O25: 47748 | P25: 0.74495973 | Q25: 0.80165139
F26: magisterský studijní program | J26: 29250 | K26: 14060 | L26: 12639 | M26: 2.0803698 | N26: 5044 | O26: 4474 | P26: 0.35874822 | Q26: 0.39908221
F27: vyšší odborné školy | J27: 10674 | K27: 8881 | L27: 8121 | M27: 1.2018917 | N27: 7398 | O27: 6342 | P27: 0.8330143 | Q27: 0.91097156
E28: Ost. formy vzděl./distanční a kombin. studium | J28: 44503 | K28: 35654 | L28: 30707 | M28: 1.2481909 | N28: 23335 | O28: 20965 | P28: 0.65448477 | Q28: 0.75992445
E29: v tom | F29: bakalářský studijní program | J29: 39054 | K29: 31617 | L29: 27109 | M29: 1.2352216 | N29: 20081 | O29: 17967 | P29: 0.635133 | Q29: 0.7407503
F30: magisterský studijní program | J30: 1087 | K30: 884 | L30: 761 | M30: 1.229638 | N30: 448 | O30: 398 | P30: 0.50678733 | Q30: 0.58869908
F31: vyšší odborné školy | J31: 4362 | K31: 4033 | L31: 3564 | M31: 1.081577 | N31: 3035 | O31: 2708 | P31: 0.75254153 | Q31: 0.85157127
D32: 2017/18
E33: Celkem | J33: 227060 | K33: 105039 | L33: 97302 | M33: 2.1616733 | N33: 82539 | O33: 77587 | P33: 0.78579385 | Q33: 0.8482765
E34: Denní vzdělávání/prezenční studium | J34: 185467 | K34: 76471 | L34: 73831 | M34: 2.4253246 | N34: 61005 | O34: 57269 | P34: 0.7977534 | Q34: 0.82627893
E35: v tom | F35: bakalářský studijní program | J35: 147525 | K35: 68397 | L35: 64113 | M35: 2.1568928 | N35: 52990 | O35: 47876 | P35: 0.77474158 | Q35: 0.82650944
F36: magisterský studijní program | J36: 28791 | K36: 13357 | L36: 11853 | M36: 2.155499 | N36: 5257 | O36: 4670 | P36: 0.3935764 | Q36: 0.44351641
F37: vyšší odborné školy | J37: 9151 | K37: 7657 | L37: 6909 | M37: 1.1951156 | N37: 6362 | O37: 5449 | P37: 0.83087371 | Q37: 0.92082791
E38: Ost. formy vzděl./distanční a kombin. studium | J38: 41593 | K38: 33428 | L38: 29210 | M38: 1.2442563 | N38: 23204 | O38: 20837 | P38: 0.69414862 | Q38: 0.79438548
E39: v tom | F39: bakalářský studijní program | J39: 35935 | K39: 29234 | L39: 25410 | M39: 1.2292194 | N39: 19765 | O39: 17664 | P39: 0.67609633 | Q39: 0.77784337
F40: magisterský studijní program | J40: 1066 | K40: 852 | L40: 734 | M40: 1.2511737 | N40: 493 | O40: 440 | P40: 0.5786385 | Q40: 0.67166213
F41: vyšší odborné školy | J41: 4592 | K41: 4271 | L41: 3854 | M41: 1.075158 | N41: 3230 | O41: 2879 | P41: 0.75626317 | Q41: 0.8380903
D42: 2018/19
E43: Celkem | J43: 216903 | K43: 101834 | L43: 94508 | M43: 2.1299664 | N43: 80910 | O43: 76012 | P43: 0.79452835 | Q43: 0.856118
E44: Denní vzdělávání/prezenční studium | J44: 178842 | K44: 75301 | L44: 70819 | M44: 2.3750282 | N44: 60666 | O44: 56972 | P44: 0.80564667 | Q44: 0.85663452
E45: v tom | F45: bakalářský studijní program | J45: 143096 | K45: 67609 | L45: 63523 | M45: 2.1165229 | N45: 52756 | O45: 47871 | P45: 0.78031031 | Q45: 0.83050234
F46: magisterský studijní program | J46: 27249 | K46: 12846 | L46: 11466 | M46: 2.121205 | N46: 5405 | O46: 4758 | P46: 0.42075354 | Q46: 0.47139369
F47: vyšší odborné školy | J47: 8497 | K47: 7105 | L47: 6549 | M47: 1.1959184 | N47: 5929 | O47: 5080 | P47: 0.83448276 | Q47: 0.90532906
E48: Ost. formy vzděl./distanční a kombin. studium | J48: 38061 | K48: 30842 | L48: 26984 | M48: 1.2340639 | N48: 21686 | O48: 19510 | P48: 0.70313209 | Q48: 0.80366143
E49: v tom | F49: bakalářský studijní program | J49: 32504 | K49: 26722 | L49: 23240 | M49: 1.216376 | N49: 18238 | O49: 16355 | P49: 0.68250879 | Q49: 0.78476764
F50: magisterský studijní program | J50: 1204 | K50: 937 | L50: 802 | M50: 1.284952 | N50: 566 | O50: 509 | P50: 0.6040555 | Q50: 0.70573566
F51: vyšší odborné školy | J51: 4353 | K51: 4271 | L51: 3728 | M51: 1.0191993 | N51: 3167 | O51: 2793 | P51: 0.74151253 | Q51: 0.84951717
D52: 2019/20
E53: Celkem | J53: 224496 | K53: 104521 | L53: 97896 | M53: 2.1478555 | N53: 84782 | O53: 79919 | P53: 0.811148 | Q53: 0.86604151
E54: Denní vzdělávání/prezenční studium | J54: 187447 | K54: 78647 | L54: 74525 | M54: 2.3833967 | N54: 64660 | O54: 61136 | P54: 0.82215469 | Q54: 0.86762831
E55: v tom | F55: bakalářský studijní program | J55: 150663 | K55: 71323 | L55: 67518 | M55: 2.1124041 | N55: 56935 | O55: 51818 | P55: 0.79826984 | Q55: 0.84325661
F56: magisterský studijní program | J56: 28140 | K56: 13049 | L56: 11726 | M56: 2.1564871 | N56: 5699 | O56: 5081 | P56: 0.43673845 | Q56: 0.48601399
F57: vyšší odborné školy | J57: 8644 | K57: 7049 | L57: 6409 | M57: 1.2262732 | N57: 5924 | O57: 5081 | P57: 0.84040289 | Q57: 0.92432517
E58: Ost. formy vzděl./distanční a kombin. studium | J58: 37049 | K58: 29952 | L58: 26471 | M58: 1.2369458 | N58: 21496 | O58: 19228 | P58: 0.71768162 | Q58: 0.81205848
E59: v tom | F59: bakalářský studijní program | J59: 31347 | K59: 25792 | L59: 22693 | M59: 1.2153769 | N59: 18228 | O59: 16140 | P59: 0.70673077 | Q59: 0.80324329
F60: magisterský studijní program | J60: 1297 | K60: 988 | L60: 837 | M60: 1.312753 | N60: 507 | O60: 459 | P60: 0.51315789 | Q60: 0.60573477
F61: vyšší odborné školy | J61: 4405 | K61: 4097 | L61: 3669 | M61: 1.075177 | N61: 3040 | O61: 2760 | P61: 0.74200635 | Q61: 0.82856364
D62: 2020/21
E63: Celkem | J63: 225646 | K63: 106209 | L63: 101609 | M63: 2.1245469 | N63: 87637 | O63: 83222 | P63: 0.82513723 | Q63: 0.8624925
E64: Denní vzdělávání/prezenční studium | J64: 188214 | K64: 79850 | L64: 76747 | M64: 2.3570946 | N64: 66715 | O64: 63495 | P64: 0.83550407 | Q64: 0.86928479
E65: v tom | F65: bakalářský studijní program | J65: 151937 | K65: 72137 | L65: 69415 | M65: 2.1062284 | N65: 58321 | O65: 53893 | P65: 0.80847554 | Q65: 0.84017864
F66: magisterský studijní program | J66: 26969 | K66: 12472 | L66: 11523 | M66: 2.1623637 | N66: 5605 | O66: 5037 | P66: 0.44940667 | Q66: 0.48641847
F67: vyšší odborné školy | J67: 9308 | K67: 7398 | L67: 6828 | M67: 1.2581779 | N67: 6087 | O67: 5266 | P67: 0.82278994 | Q67: 0.89147627
E68: Ost. formy vzděl./distanční a kombin. studium | J68: 37432 | K68: 30593 | L68: 28419 | M68: 1.2235479 | N68: 22534 | O68: 20256 | P68: 0.73657373 | Q68: 0.79292023
E69: v tom | F69: bakalářský studijní program | J69: 31396 | K69: 26104 | L69: 24308 | M69: 1.2027276 | N69: 19114 | O69: 17095 | P69: 0.73222495 | Q69: 0.78632549
F70: magisterský studijní program | J70: 1145 | K70: 919 | L70: 825 | M70: 1.2459195 | N70: 472 | O70: 432 | P70: 0.51360174 | Q70: 0.57212121
F71: vyšší odborné školy | J71: 4891 | K71: 4425 | L71: 4017 | M71: 1.1053107 | N71: 3213 | O71: 2831 | P71: 0.72610169 | Q71: 0.79985063
D72: 2021/22
E73: Celkem | J73: 245990 | K73: 110482 | L73: 105072 | M73: 2.2265165 | N73: 88751 | O73: 84092 | P73: 0.80330733 | Q73: 0.84466842
E74: Denní vzdělávání/prezenční studium | J74: 201517 | K74: 81117 | L74: 77918 | M74: 2.4842758 | N74: 66885 | O74: 63893 | P74: 0.82454972 | Q74: 0.85840242
E75: v tom | F75: bakalářský studijní program | J75: 161621 | K75: 72971 | L75: 69819 | M75: 2.2148662 | N75: 57376 | O75: 53310 | P75: 0.78628496 | Q75: 0.82178204
F76: magisterský studijní program | J76: 28755 | K76: 13123 | L76: 11865 | M76: 2.191191 | N76: 5698 | O76: 5201 | P76: 0.4341995 | Q76: 0.48023599
F77: vyšší odborné školy | J77: 11141 | K77: 8463 | L77: 7743 | M77: 1.3164363 | N77: 7095 | O77: 6107 | P77: 0.83835519 | Q77: 0.91631151
E78: Ost. formy vzděl./distanční a kombin. studium | J78: 44473 | K78: 34597 | L78: 31481 | M78: 1.2854583 | N78: 23734 | O78: 20702 | P78: 0.68601324 | Q78: 0.75391506
E79: v tom | F79: bakalářský studijní program | J79: 36381 | K79: 29033 | L79: 26334 | M79: 1.2530913 | N79: 19750 | O79: 17119 | P79: 0.68026039 | Q79: 0.74998101
F80: magisterský studijní program | J80: 1726 | K80: 1340 | L80: 1154 | M80: 1.2880597 | N80: 475 | O80: 423 | P80: 0.35447761 | Q80: 0.41161179
F81: vyšší odborné školy | J81: 6366 | K81: 5622 | L81: 5031 | M81: 1.1323372 | N81: 3833 | O81: 3287 | P81: 0.68178584 | Q81: 0.76187637
D82: 2022/23
E83: Celkem | J83: 249505 | K83: 108378 | L83: 101324 | M83: 2.3021739 | N83: 84839 | O83: 80943 | P83: 0.78280647 | Q83: 0.83730409
E84: Denní vzdělávání/prezenční studium | J84: 209797 | K84: 82802 | L84: 78404 | M84: 2.533719 | N84: 65993 | O84: 63248 | P84: 0.79699766 | Q84: 0.8417045
E85: v tom | F85: bakalářský studijní program | J85: 169322 | K85: 75271 | L85: 66560 | M85: 2.2494985 | N85: 56673 | O85: 53007 | P85: 0.75291945 | Q85: 0.85145733
F86: magisterský studijní program | J86: 28821 | K86: 12973 | L86: 10802 | M86: 2.2216141 | N86: 5725 | O86: 5242 | P86: 0.44130116 | Q86: 0.52999445
F87: vyšší odborné školy | J87: 11654 | K87: 8816 | L87: 8458 | M87: 1.3219147 | N87: 7059 | O87: 5964 | P87: 0.80070327 | Q87: 0.83459447
E88: Ost. formy vzděl./distanční a kombin. studium | J88: 39708 | K88: 30868 | L88: 27004 | M88: 1.2863807 | N88: 20574 | O88: 18186 | P88: 0.66651549 | Q88: 0.76188713
E89: v tom | F89: bakalářský studijní program | J89: 31828 | K89: 25634 | L89: 21595 | M89: 1.2416322 | N89: 16671 | O89: 14802 | P89: 0.6503472 | Q89: 0.77198426
F90: magisterský studijní program | J90: 1804 | K90: 1370 | L90: 1078 | M90: 1.3167883 | N90: 526 | O90: 485 | P90: 0.38394161 | Q90: 0.48794063
F91: vyšší odborné školy | J91: 6076 | K91: 5356 | L91: 4979 | M91: 1.1344287 | N91: 3767 | O91: 3121 | P91: 0.70332338 | Q91: 0.75657763
D92: 2023/24
E93: Celkem | J93: 266128 | K93: 112643 | L93: 105880 | M93: 2.3625791 | N93: 87624 | O93: 83760 | P93: 0.77789121 | Q93: 0.82757839
E94: Denní vzdělávání/prezenční studium | J94: 223996 | K94: 86062 | L94: 81856 | M94: 2.6027283 | N94: 68582 | O94: 65930 | P94: 0.79689061 | Q94: 0.83783718
E95: v tom | F95: bakalářský studijní program | J95: 181277 | K95: 78226 | L95: 73801 | M95: 2.3173497 | N95: 59056 | O95: 55051 | P95: 0.75494081 | Q95: 0.80020596
F96: magisterský studijní program | J96: 30881 | K96: 13973 | L96: 12691 | M96: 2.2100479 | N96: 5884 | O96: 5304 | P96: 0.42109783 | Q96: 0.46363565
F97: vyšší odborné školy | J97: 11838 | K97: 8894 | L97: 8429 | M97: 1.3310097 | N97: 7040 | O97: 6013 | P97: 0.79154486 | Q97: 0.83521177
E98: Ost. formy vzděl./distanční a kombin. studium | J98: 42132 | K98: 32326 | L98: 28506 | M98: 1.3033472 | N98: 20768 | O98: 18362 | P98: 0.64245499 | Q98: 0.72854838
E99: v tom | F99: bakalářský studijní program | J99: 33114 | K99: 26349 | L99: 22871 | M99: 1.256746 | N99: 16787 | O99: 14810 | P99: 0.63710198 | Q99: 0.73398627
F100: magisterský studijní program | J100: 1977 | K100: 1505 | L100: 1240 | M100: 1.3136213 | N100: 546 | O100: 483 | P100: 0.3627907 | Q100: 0.44032258
F101: vyšší odborné školy | J101: 7041 | K101: 5861 | L101: 5470 | M101: 1.2013308 | N101: 3733 | O101: 3189 | P101: 0.63692203 | Q101: 0.68244973
D102: 2024/25
E103: Celkem | J103: 276064 | K103: 115418 | L103: 108554 | M103: 2.3918626 | N103: 91000 | O103: 86792 | P103: 0.78843855 | Q103: 0.83829246
E104: Denní vzdělávání/prezenční studium | J104: 234702 | K104: 89711 | L104: 85298 | M104: 2.6162009 | N104: 71880 | O104: 68970 | P104: 0.80123954 | Q104: 0.84269268
E105: v tom | F105: bakalářský studijní program | J105: 188607 | K105: 81332 | L105: 71014 | M105: 2.3189765 | N105: 62084 | O105: 58015 | P105: 0.76334038 | Q105: 0.87425015
F106: magisterský studijní program | J106: 33535 | K106: 14802 | L106: 12877 | M106: 2.2655722 | N106: 5989 | O106: 5579 | P106: 0.40460749 | Q106: 0.4650928
F107: vyšší odborné školy | J107: 12560 | K107: 9233 | L107: 8733 | M107: 1.3603379 | N107: 7395 | O107: 6268 | P107: 0.80093144 | Q107: 0.84678805
E108: Ost. formy vzděl./distanční a kombin. studium | J108: 41362 | K108: 31997 | L108: 28298 | M108: 1.2926837 | N108: 21201 | O108: 18372 | P108: 0.66259337 | Q108: 0.74920489
...

Sheet B7.1.5
D4: Tab. B7.1.5: | H4: Terciární vzdělávání – uchazeči o studium
D5: ve školním/akademickém roce 2015/16 až 2025/26 – podle druhu školy
D7: Druh školy | J7: 2015/16 | K7: 2016/17 | L7: 2017/18 | M7: 2018/19 | N7: 2019/20 | O7: 2020/21 | P7: 2021/22 | Q7: 2022/23 | R7: 2023/24 | S7: 2024/25 | T7: 2025/26
D12: Přihlášení1)
E13: Celkem | J13: 121269 | K13: 110163 | L13: 105039 | M13: 101834 | N13: 104521 | O13: 105829 | P13: 110195 | Q13: 108378 | R13: 112643 | S13: 115418 | T13: 119970
E14: v tom | F14: jen na vysokou školu | J14: 106872 | K14: 97464 | L14: 93307 | M14: 90828 | N14: 93605 | O14: 94275 | P14: 96479 | Q14: 94952 | R14: 98385 | S14: 100593 | T14: 104015
F15: jen na vyšší odbornou školu | J15: 8112 | K15: 7324 | L15: 7017 | M15: 6664 | N15: 6394 | O15: 6961 | P15: 7840 | Q15: 7429 | R15: 8047 | S15: 8125 | T15: 8598
F16: na VŠ i VOŠ současně | J16: 6285 | K16: 5375 | L16: 4715 | M16: 4342 | N16: 4522 | O16: 4593 | P16: 5876 | Q16: 5997 | R16: 6211 | S16: 6700 | T16: 7357
D17: Přijatí2)
E18: Celkem | J18: 89413 | K18: 82862 | L18: 82539 | M18: 80910 | N18: 84782 | O18: 87432 | P18: 88587 | Q18: 84839 | R18: 87624 | S18: 91000 | T18: 96215
E19: v tom | F19: jen na vysokou školu | J19: 79381 | K19: 73837 | L19: 73027 | M19: 71882 | N19: 75882 | O19: 78220 | P19: 77794 | Q19: 74413 | R19: 76979 | S19: 79465 | T19: 83958
F20: jen na vyšší odbornou školu | J20: 9074 | K20: 8067 | L20: 7905 | M20: 7548 | N20: 7297 | O20: 7632 | P20: 8966 | Q20: 8701 | R20: 8874 | S20: 9572 | T20: 9934
F21: na VŠ i VOŠ současně | J21: 958 | K21: 958 | L21: 1607 | M21: 1480 | N21: 1603 | O21: 1580 | P21: 1827 | Q21: 1725 | R21: 1771 | S21: 1963 | T21: 2323
D22: Zapsaní3)
E23: Celkem | J23: 84278 | K23: 78257 | L23: 77587 | M23: 76012 | N23: 79919 | O23: 83062 | P23: 83978 | Q23: 80943 | R23: 83760 | S23: 86792 | T23: 91796
E24: v tom | F24: jen na vysokou školu | J24: 74246 | K24: 69232 | L24: 69283 | M24: 68168 | N24: 72094 | O24: 74987 | P24: 74609 | Q24: 72088 | R24: 74576 | S24: 77032 | T24: 81663
F25: jen na vyšší odbornou školu | J25: 9431 | K25: 8394 | L25: 7668 | M25: 7249 | N25: 7189 | O25: 7458 | P25: 8713 | Q25: 8230 | R25: 8545 | S25: 9121 | T25: 9473
F26: na VŠ i VOŠ současně | J26: 601 | K26: 631 | L26: 636 | M26: 595 | N26: 636 | O26: 617 | P26: 656 | Q26: 625 | R26: 639 | S26: 639 | T26: 660
D27: Komentáře: | T27: Zdroj: databáze MŠMT
E28: Data bez škol jiných resortů.
E29: U VŠ programů se jedná pouze o přihlášené s českým státním občanstvím do bakalářských a magisterských studijních programů.
D30: 1) | E30: Každý uchazeč je započten pouze jednou bez ohledu na to, kolik přihlášek ke studiu podal.
D31: 2) | E31: Každý přijatý je započten pouze jednou bez ohledu na to, na kolik škol byl přijat.
D32: 3) | E32: Každý zapsaný je započten pouze jednou bez ohledu na to, na kolik škol se zapsal.

Sheet B7.2.1
D4: Tab. B7.2.1: | H4: VOŠ – školy
D5: ve školním roce 2015/16 až 2025/26 – podle formy vzdělávání a zřizovatele
D7: Forma vzdělávání Zřizovatel | J7: 2015/16 | K7: 2016/17 | L7: 2017/18 | M7: 2018/19 | N7: 2019/20 | O7: 2020/21 | P7: 2021/22 | Q7: 2022/23 | R7: 2023/24 | S7: 2024/25 | T7: 2025/26
D12: Všechny formy vzdělávání
E13: Celkem | J13: 171 | K13: 168 | L13: 166 | M13: 166 | N13: 160 | O13: 156 | P13: 151 | Q13: 150 | R13: 151 | S13: 155 | T13: 153
E14: v tom | F14: veřejný | J14: 115 | K14: 115 | L14: 114 | M14: 114 | N14: 110 | O14: 105 | P14: 101 | Q14: 100 | R14: 101 | S14: 103 | T14: 100
F15: v tom | G15: MŠMT | J15: 0 | K15: 0 | L15: 0 | M15: 0 | N15: 0 | O15: 0 | P15: 0 | Q15: 0 | R15: 0 | S15: 0 | T15: 0
G16: obec | J16: 0 | K16: 0 | L16: 0 | M16: 0 | N16: 0 | O16: 0 | P16: 0 | Q16: 0 | R16: 0 | S16: 0 | T16: 0
G17: kraj | J17: 110 | K17: 111 | L17: 110 | M17: 110 | N17: 106 | O17: 101 | P17: 97 | Q17: 96 | R17: 97 | S17: 99 | T17: 96
G18: jiný resort | J18: 5 | K18: 4 | L18: 4 | M18: 4 | N18: 4 | O18: 4 | P18: 4 | Q18: 4 | R18: 4 | S18: 4 | T18: 4
F19: neveřejný | J19: 56 | K19: 53 | L19: 52 | M19: 52 | N19: 50 | O19: 51 | P19: 50 | Q19: 50 | R19: 50 | S19: 52 | T19: 53
F20: v tom | G20: privátní sektor | J20: 44 | K20: 42 | L20: 41 | M20: 41 | N20: 40 | O20: 41 | P20: 41 | Q20: 41 | R20: 41 | S20: 43 | T20: 45
G21: církev | J21: 12 | K21: 11 | L21: 11 | M21: 11 | N21: 10 | O21: 10 | P21: 9 | Q21: 9 | R21: 9 | S21: 9 | T21: 8
D22: Denní forma vzdělávání
E23: Celkem | J23: 161 | K23: 157 | L23: 155 | M23: 153 | N23: 142 | O23: 135 | P23: 133 | Q23: 132 | R23: 129 | S23: 129 | T23: 131
E24: v tom | F24: veřejný | J24: 107 | K24: 106 | L24: 106 | M24: 105 | N24: 96 | O24: 89 | P24: 88 | Q24: 87 | R24: 86 | S24: 85 | T24: 84
F25: v tom | G25: MŠMT | J25: 0 | K25: 0 | L25: 0 | M25: 0 | N25: 0 | O25: 0 | P25: 0 | Q25: 0 | R25: 0 | S25: 0 | T25: 0
G26: obec | J26: 0 | K26: 0 | L26: 0 | M26: 0 | N26: 0 | O26: 0 | P26: 0 | Q26: 0 | R26: 0 | S26: 0 | T26: 0
G27: kraj | J27: 107 | K27: 106 | L27: 106 | M27: 105 | N27: 96 | O27: 89 | P27: 88 | Q27: 87 | R27: 86 | S27: 85 | T27: 84
G28: jiný resort | J28: 0 | K28: 0 | L28: 0 | M28: 0 | N28: 0 | O28: 0 | P28: 0 | Q28: 0 | R28: 0 | S28: 0 | T28: 0
F29: neveřejný | J29: 54 | K29: 51 | L29: 49 | M29: 48 | N29: 46 | O29: 46 | P29: 45 | Q29: 45 | R29: 43 | S29: 44 | T29: 47
F30: v tom | G30: privátní sektor | J30: 43 | K30: 41 | L30: 40 | M30: 39 | N30: 38 | O30: 38 | P30: 37 | Q30: 38 | R30: 36 | S30: 37 | T30: 40
G31: církev | J31: 11 | K31: 10 | L31: 9 | M31: 9 | N31: 8 | O31: 8 | P31: 8 | Q31: 7 | R31: 7 | S31: 7 | T31: 7
D32: Ostatní formy vzdělávání
E33: Celkem | J33: 93 | K33: 89 | L33: 86 | M33: 84 | N33: 81 | O33: 83 | P33: 82 | Q33: 82 | R33: 86 | S33: 89 | T33: 83
E34: v tom | F34: veřejný | J34: 58 | K34: 57 | L34: 54 | M34: 54 | N34: 52 | O34: 54 | P34: 53 | Q34: 53 | R34: 56 | S34: 57 | T34: 51
F35: v tom | G35: MŠMT | J35: 0 | K35: 0 | L35: 0 | M35: 0 | N35: 0 | O35: 0 | P35: 0 | Q35: 0 | R35: 0 | S35: 0 | T35: 0
G36: obec | J36: 0 | K36: 0 | L36: 0 | M36: 0 | N36: 0 | O36: 0 | P36: 0 | Q36: 0 | R36: 0 | S36: 0 | T36: 0
G37: kraj | J37: 53 | K37: 53 | L37: 50 | M37: 50 | N37: 48 | O37: 50 | P37: 49 | Q37: 49 | R37: 52 | S37: 53 | T37: 47
G38: jiný resort | J38: 5 | K38: 4 | L38: 4 | M38: 4 | N38: 4 | O38: 4 | P38: 4 | Q38: 4 | R38: 4 | S38: 4 | T38: 4
F39: neveřejný | J39: 35 | K39: 32 | L39: 32 | M39: 30 | N39: 29 | O39: 29 | P39: 29 | Q39: 29 | R39: 30 | S39: 32 | T39: 32
F40: v tom | G40: privátní sektor | J40: 25 | K40: 23 | L40: 23 | M40: 21 | N40: 20 | O40: 20 | P40: 21 | Q40: 21 | R40: 22 | S40: 24 | T40: 25
G41: církev | J41: 10 | K41: 9 | L41: 9 | M41: 9 | N41: 9 | O41: 9 | P41: 8 | Q41: 8 | R41: 8 | S41: 8 | T41: 7
T42: Zdroj: databáze MŠMT

Sheet B7.2.2
D4: Tab. B7.2.2: | H4: VOŠ – školy
D5: ve školním roce 2015/16 až 2025/26 – podle území
D7: Území | J7: 2015/16 | K7: 2016/17 | L7: 2017/18 | M7: 2018/19 | N7: 2019/20 | O7: 2020/21 | P7: 2021/22 | Q7: 2022/23 | R7: 2023/24 | S7: 2024/25 | T7: 2025/26
E12: Česká republika | H12: CZ0 | J12: 171 | K12: 168 | L12: 166 | M12: 166 | N12: 160 | O12: 156 | P12: 151 | Q12: 150 | R12: 151 | S12: 155 | T12: 153
E13: Praha | H13: CZ01 | J13: 37 | K13: 37 | L13: 36 | M13: 37 | N13: 37 | O13: 35 | P13: 34 | Q13: 34 | R13: 35 | S13: 36 | T13: 35
F14: Hlavní město Praha | H14: CZ010 | J14: 37 | K14: 37 | L14: 36 | M14: 37 | N14: 37 | O14: 35 | P14: 34 | Q14: 34 | R14: 35 | S14: 36 | T14: 35
E15: Střední Čechy | H15: CZ02 | J15: 19 | K15: 19 | L15: 19 | M15: 19 | N15: 18 | O15: 17 | P15: 16 | Q15: 14 | R15: 14 | S15: 14 | T15: 13
F16: Středočeský kraj | H16: CZ020 | J16: 19 | K16: 19 | L16: 19 | M16: 19 | N16: 18 | O16: 17 | P16: 16 | Q16: 14 | R16: 14 | S16: 14 | T16: 13
E17: Jihozápad | H17: CZ03 | J17: 22 | K17: 22 | L17: 22 | M17: 20 | N17: 20 | O17: 19 | P17: 19 | Q17: 20 | R17: 20 | S17: 20 | T17: 18
F18: Jihočeský kraj | H18: CZ031 | J18: 17 | K18: 17 | L18: 17 | M18: 15 | N18: 15 | O18: 14 | P18: 14 | Q18: 14 | R18: 14 | S18: 14 | T18: 12
F19: Plzeňský kraj | H19: CZ032 | J19: 5 | K19: 5 | L19: 5 | M19: 5 | N19: 5 | O19: 5 | P19: 5 | Q19: 6 | R19: 6 | S19: 6 | T19: 6
E20: Severozápad | H20: CZ04 | J20: 13 | K20: 12 | L20: 12 | M20: 12 | N20: 12 | O20: 11 | P20: 10 | Q20: 11 | R20: 11 | S20: 11 | T20: 11
F21: Karlovarský kraj | H21: CZ041 | J21: 4 | K21: 4 | L21: 4 | M21: 4 | N21: 4 | O21: 4 | P21: 3 | Q21: 4 | R21: 4 | S21: 4 | T21: 4
F22: Ústecký kraj | H22: CZ042 | J22: 9 | K22: 8 | L22: 8 | M22: 8 | N22: 8 | O22: 7 | P22: 7 | Q22: 7 | R22: 7 | S22: 7 | T22: 7
E23: Severovýchod | H23: CZ05 | J23: 26 | K23: 24 | L23: 24 | M23: 24 | N23: 21 | O23: 21 | P23: 20 | Q23: 20 | R23: 20 | S23: 22 | T23: 20
F24: Liberecký kraj | H24: CZ051 | J24: 6 | K24: 6 | L24: 6 | M24: 6 | N24: 5 | O24: 5 | P24: 5 | Q24: 5 | R24: 5 | S24: 6 | T24: 6
F25: Královéhradecký kraj | H25: CZ052 | J25: 10 | K25: 10 | L25: 9 | M25: 9 | N25: 9 | O25: 10 | P25: 9 | Q25: 9 | R25: 9 | S25: 9 | T25: 7
F26: Pardubický kraj | H26: CZ053 | J26: 10 | K26: 8 | L26: 9 | M26: 9 | N26: 7 | O26: 6 | P26: 6 | Q26: 6 | R26: 6 | S26: 7 | T26: 7
E27: Jihovýchod | H27: CZ06 | J27: 23 | K27: 23 | L27: 22 | M27: 23 | N27: 23 | O27: 22 | P27: 20 | Q27: 19 | R27: 19 | S27: 20 | T27: 23
F28: Kraj Vysočina | H28: CZ063 | J28: 13 | K28: 13 | L28: 12 | M28: 13 | N28: 13 | O28: 12 | P28: 11 | Q28: 10 | R28: 10 | S28: 10 | T28: 9
F29: Jihomoravský kraj | H29: CZ064 | J29: 10 | K29: 10 | L29: 10 | M29: 10 | N29: 10 | O29: 10 | P29: 9 | Q29: 9 | R29: 9 | S29: 10 | T29: 14
E30: Střední Morava | H30: CZ07 | J30: 18 | K30: 18 | L30: 18 | M30: 18 | N30: 16 | O30: 18 | P30: 18 | Q30: 19 | R30: 19 | S30: 19 | T30: 20
F31: Olomoucký kraj | H31: CZ071 | J31: 8 | K31: 8 | L31: 8 | M31: 8 | N31: 6 | O31: 8 | P31: 8 | Q31: 9 | R31: 9 | S31: 9 | T31: 9
F32: Zlínský kraj | H32: CZ072 | J32: 10 | K32: 10 | L32: 10 | M32: 10 | N32: 10 | O32: 10 | P32: 10 | Q32: 10 | R32: 10 | S32: 10 | T32: 11
E33: Moravskoslezsko | H33: CZ08 | J33: 13 | K33: 13 | L33: 13 | M33: 13 | N33: 13 | O33: 13 | P33: 14 | Q33: 13 | R33: 13 | S33: 13 | T33: 13
F34: Moravskoslezský kraj | H34: CZ080 | J34: 13 | K34: 13 | L34: 13 | M34: 13 | N34: 13 | O34: 13 | P34: 14 | Q34: 13 | R34: 13 | S34: 13 | T34: 13
D35: Komentáře: | T35: Zdroj: databáze MŠMT
E36: Údaje za všechny formy vzdělávání.

Sheet B7.2.3
D4: Tab. B7.2.3: | H4: VOŠ – studenti, nově přijatí a absolventi
D5: ve školním roce 2015/16 až 2025/26 – podle formy vzdělávání a zřizovatele
D7: Forma vzdělávání Zřizovatel | J7: 2015/16 | K7: 2016/17 | L7: 2017/18 | M7: 2018/19 | N7: 2019/20 | O7: 2020/21 | P7: 2021/22 | Q7: 2022/23 | R7: 2023/24 | S7: 2024/25 | T7: 2025/26
D12: Studenti
E13: Všechny formy vzdělávání | J13: 24786 | K13: 22002 | L13: 19883 | M13: 18416 | N13: 17954 | O13: 18458 | P13: 20096 | Q13: 20639 | R13: 21676 | S13: 22373 | T13: 22900
E14: v tom | F14: veřejný | J14: 18062 | K14: 15880 | L14: 14278 | M14: 12689 | N14: 12052 | O14: 11998 | P14: 12671 | Q14: 12600 | R14: 13008 | S14: 12676 | T14: 12704
F15: v tom | G15: MŠMT | J15: 0 | K15: 0 | L15: 0 | M15: 0 | N15: 0 | O15: 0 | P15: 0 | Q15: 0 | R15: 0 | S15: 0 | T15: 0
G16: obec | J16: 0 | K16: 0 | L16: 0 | M16: 0 | N16: 0 | O16: 0 | P16: 0 | Q16: 0 | R16: 0 | S16: 0 | T16: 0
G17: kraj | J17: 17540 | K17: 15392 | L17: 13820 | M17: 12252 | N17: 11657 | O17: 11595 | P17: 12178 | Q17: 12000 | R17: 12330 | S17: 12072 | T17: 12145
G18: jiný resort | J18: 522 | K18: 488 | L18: 458 | M18: 437 | N18: 395 | O18: 403 | P18: 493 | Q18: 600 | R18: 678 | S18: 604 | T18: 559
F19: neveřejný | J19: 6724 | K19: 6122 | L19: 5605 | M19: 5727 | N19: 5902 | O19: 6460 | P19: 7425 | Q19: 8039 | R19: 8668 | S19: 9697 | T19: 10196
F20: v tom | G20: privátní sektor | J20: 5191 | K20: 4671 | L20: 4192 | M20: 4287 | N20: 4448 | O20: 4902 | P20: 5817 | Q20: 6523 | R20: 7102 | S20: 8041 | T20: 8543
G21: církev | J21: 1533 | K21: 1451 | L21: 1413 | M21: 1440 | N21: 1454 | O21: 1558 | P21: 1608 | Q21: 1516 | R21: 1566 | S21: 1656 | T21: 1653
E22: Denní vzdělávání | J22: 17129 | K22: 14876 | L22: 12901 | M22: 11474 | N22: 11117 | O22: 11349 | P22: 12411 | Q22: 12781 | R22: 13180 | S22: 13590 | T22: 13931
E23: v tom | F23: veřejný | J23: 12663 | K23: 10915 | L23: 9422 | M23: 8047 | N23: 7638 | O23: 7569 | P23: 8146 | Q23: 8133 | R23: 8160 | S23: 7979 | T23: 7875
F24: v tom | G24: MŠMT | J24: 0 | K24: 0 | L24: 0 | M24: 0 | N24: 0 | O24: 0 | P24: 0 | Q24: 0 | R24: 0 | S24: 0 | T24: 0
G25: obec | J25: 0 | K25: 0 | L25: 0 | M25: 0 | N25: 0 | O25: 0 | P25: 0 | Q25: 0 | R25: 0 | S25: 0 | T25: 0
G26: kraj | J26: 12663 | K26: 10915 | L26: 9422 | M26: 8047 | N26: 7638 | O26: 7569 | P26: 8146 | Q26: 8133 | R26: 8160 | S26: 7979 | T26: 7875
G27: jiný resort | J27: 0 | K27: 0 | L27: 0 | M27: 0 | N27: 0 | O27: 0 | P27: 0 | Q27: 0 | R27: 0 | S27: 0 | T27: 0
F28: neveřejný | J28: 4466 | K28: 3961 | L28: 3479 | M28: 3427 | N28: 3479 | O28: 3780 | P28: 4265 | Q28: 4648 | R28: 5020 | S28: 5611 | T28: 6056
F29: v tom | G29: privátní sektor | J29: 3536 | K29: 3175 | L29: 2755 | M29: 2723 | N29: 2781 | O29: 3000 | P29: 3425 | Q29: 3830 | R29: 4168 | S29: 4680 | T29: 5142
G30: církev | J30: 930 | K30: 786 | L30: 724 | M30: 704 | N30: 698 | O30: 780 | P30: 840 | Q30: 818 | R30: 852 | S30: 931 | T30: 914
E31: Ostatní formy vzdělávání | J31: 7657 | K31: 7126 | L31: 6982 | M31: 6942 | N31: 6837 | O31: 7109 | P31: 7685 | Q31: 7858 | R31: 8496 | S31: 8783 | T31: 8969
E32: v tom | F32: veřejný | J32: 5399 | K32: 4965 | L32: 4856 | M32: 4642 | N32: 4414 | O32: 4429 | P32: 4525 | Q32: 4467 | R32: 4848 | S32: 4697 | T32: 4829
F33: v tom | G33: MŠMT | J33: 0 | K33: 0 | L33: 0 | M33: 0 | N33: 0 | O33: 0 | P33: 0 | Q33: 0 | R33: 0 | S33: 0 | T33: 0
G34: obec | J34: 0 | K34: 0 | L34: 0 | M34: 0 | N34: 0 | O34: 0 | P34: 0 | Q34: 0 | R34: 0 | S34: 0 | T34: 0
G35: kraj | J35: 4877 | K35: 4477 | L35: 4398 | M35: 4205 | N35: 4019 | O35: 4026 | P35: 4032 | Q35: 3867 | R35: 4170 | S35: 4093 | T35: 4270
G36: jiný resort | J36: 522 | K36: 488 | L36: 458 | M36: 437 | N36: 395 | O36: 403 | P36: 493 | Q36: 600 | R36: 678 | S36: 604 | T36: 559
F37: neveřejný | J37: 2258 | K37: 2161 | L37: 2126 | M37: 2300 | N37: 2423 | O37: 2680 | P37: 3160 | Q37: 3391 | R37: 3648 | S37: 4086 | T37: 4140
F38: v tom | G38: privátní sektor | J38: 1655 | K38: 1496 | L38: 1437 | M38: 1564 | N38: 1667 | O38: 1902 | P38: 2392 | Q38: 2693 | R38: 2934 | S38: 3361 | T38: 3401
G39: církev | J39: 603 | K39: 665 | L39: 689 | M39: 736 | N39: 756 | O39: 778 | P39: 768 | Q39: 698 | R39: 714 | S39: 725 | T39: 739
D40: Nově přijatí
E41: Všechny formy vzdělávání | J41: 9868 | K41: 8684 | L41: 7878 | M41: 7361 | N41: 7687 | O41: 7900 | P41: 9240 | Q41: 8968 | R41: 9159 | S41: 9525 | T41: 9402
E42: v tom | F42: veřejný | J42: 7346 | K42: 6413 | L42: 5677 | M42: 4926 | N42: 5201 | O42: 5208 | P42: 5809 | Q42: 5451 | R42: 5571 | S42: 5088 | T42: 5218
F43: v tom | G43: MŠMT | J43: 0 | K43: 0 | L43: 0 | M43: 0 | N43: 0 | O43: 0 | P43: 0 | Q43: 0 | R43: 0 | S43: 0 | T43: 0
G44: obec | J44: 0 | K44: 0 | L44: 0 | M44: 0 | N44: 0 | O44: 0 | P44: 0 | Q44: 0 | R44: 0 | S44: 0 | T44: 0
G45: kraj | J45: 7171 | K45: 6237 | L45: 5544 | M45: 4799 | N45: 5078 | O45: 5070 | P45: 5606 | Q45: 5214 | R45: 5415 | S45: 5007 | T45: 5131
G46: jiný resort | J46: 175 | K46: 176 | L46: 133 | M46: 127 | N46: 123 | O46: 138 | P46: 203 | Q46: 237 | R46: 156 | S46: 81 | T46: 87
F47: neveřejný | J47: 2522 | K47: 2271 | L47: 2201 | M47: 2435 | N47: 2486 | O47: 2692 | P47: 3431 | Q47: 3517 | R47: 3588 | S47: 4437 | T47: 4184
F48: v tom | G48: privátní sektor | J48: 1898 | K48: 1659 | L48: 1582 | M48: 1831 | N48: 1844 | O48: 1995 | P48: 2745 | Q48: 2908 | R48: 2908 | S48: 3755 | T48: 3598
G49: církev | J49: 624 | K49: 612 | L49: 619 | M49: 604 | N49: 642 | O49: 697 | P49: 686 | Q49: 609 | R49: 680 | S49: 682 | T49: 586
E50: Denní vzdělávání | J50: 6887 | K50: 5990 | L50: 5131 | M50: 4703 | N50: 4972 | O50: 5106 | P50: 5909 | Q50: 5844 | R50: 5947 | S50: 6129 | T50: 6067
E51: v tom | F51: veřejný | J51: 5189 | K51: 4435 | L51: 3780 | M51: 3225 | N51: 3450 | O51: 3451 | P51: 3904 | Q51: 3747 | R51: 3646 | S51: 3498 | T51: 3435
F52: v tom | G52: MŠMT | J52: 0 | K52: 0 | L52: 0 | M52: 0 | N52: 0 | O52: 0 | P52: 0 | Q52: 0 | R52: 0 | S52: 0 | T52: 0
G53: obec | J53: 0 | K53: 0 | L53: 0 | M53: 0 | N53: 0 | O53: 0 | P53: 0 | Q53: 0 | R53: 0 | S53: 0 | T53: 0
G54: kraj | J54: 5189 | K54: 4435 | L54: 3780 | M54: 3225 | N54: 3450 | O54: 3451 | P54: 3904 | Q54: 3747 | R54: 3646 | S54: 3498 | T54: 3435
G55: jiný resort | J55: 0 | K55: 0 | L55: 0 | M55: 0 | N55: 0 | O55: 0 | P55: 0 | Q55: 0 | R55: 0 | S55: 0 | T55: 0
F56: neveřejný | J56: 1698 | K56: 1555 | L56: 1351 | M56: 1478 | N56: 1522 | O56: 1655 | P56: 2005 | Q56: 2097 | R56: 2301 | S56: 2631 | T56: 2632
F57: v tom | G57: privátní sektor | J57: 1335 | K57: 1243 | L57: 1063 | M57: 1199 | N57: 1202 | O57: 1299 | P57: 1636 | Q57: 1762 | R57: 1917 | S57: 2236 | T57: 2324
G58: církev | J58: 363 | K58: 312 | L58: 288 | M58: 279 | N58: 320 | O58: 356 | P58: 369 | Q58: 335 | R58: 384 | S58: 395 | T58: 308
E59: Ostatní formy vzdělávání | J59: 2981 | K59: 2694 | L59: 2747 | M59: 2658 | N59: 2715 | O59: 2794 | P59: 3331 | Q59: 3124 | R59: 3212 | S59: 3396 | T59: 3335
E60: v tom | F60: veřejný | J60: 2157 | K60: 1978 | L60: 1897 | M60: 1701 | N60: 1751 | O60: 1757 | P60: 1905 | Q60: 1704 | R60: 1925 | S60: 1590 | T60: 1783
F61: v tom | G61: MŠMT | J61: 0 | K61: 0 | L61: 0 | M61: 0 | N61: 0 | O61: 0 | P61: 0 | Q61: 0 | R61: 0 | S61: 0 | T61: 0
G62: obec | J62: 0 | K62: 0 | L62: 0 | M62: 0 | N62: 0 | O62: 0 | P62: 0 | Q62: 0 | R62: 0 | S62: 0 | T62: 0
G63: kraj | J63: 1982 | K63: 1802 | L63: 1764 | M63: 1574 | N63: 1628 | O63: 1619 | P63: 1702 | Q63: 1467 | R63: 1769 | S63: 1509 | T63: 1696
G64: jiný resort | J64: 175 | K64: 176 | L64: 133 | M64: 127 | N64: 123 | O64: 138 | P64: 203 | Q64: 237 | R64: 156 | S64: 81 | T64: 87
F65: neveřejný | J65: 824 | K65: 716 | L65: 850 | M65: 957 | N65: 964 | O65: 1037 | P65: 1426 | Q65: 1420 | R65: 1287 | S65: 1806 | T65: 1552
F66: v tom | G66: privátní sektor | J66: 563 | K66: 416 | L66: 519 | M66: 632 | N66: 642 | O66: 696 | P66: 1109 | Q66: 1146 | R66: 991 | S66: 1519 | T66: 1274
G67: církev | J67: 261 | K67: 300 | L67: 331 | M67: 325 | N67: 322 | O67: 341 | P67: 317 | Q67: 274 | R67: 296 | S67: 287 | T67: 278
D68: Absolventi
E69: Všechny formy vzdělávání | J69: 5685 | K69: 5174 | L69: 4582 | M69: 4056 | N69: 3683 | O69: 3621 | P69: 3906 | Q69: 3786 | R69: 4575 | S69: 4688 | T69: .
E70: v tom | F70: veřejný | J70: 4353 | K70: 3868 | L70: 3452 | M70: 3050 | N70: 2692 | O70: 2443 | P70: 2576 | Q70: 2492 | R70: 2762 | S70: 2841 | T70: .
F71: v tom | G71: MŠMT | J71: 0 | K71: 0 | L71: 0 | M71: 0 | N71: 0 | O71: 0 | P71: 0 | Q71: 0 | R71: 0 | S71: 0 | T71: .
G72: obec | J72: 0 | K72: 0 | L72: 0 | M72: 0 | N72: 0 | O72: 0 | P72: 0 | Q72: 0 | R72: 0 | S72: 0 | T72: .
G73: kraj | J73: 4218 | K73: 3759 | L73: 3337 | M73: 2937 | N73: 2606 | O73: 2353 | P73: 2471 | Q73: 2450 | R73: 2655 | S73: 2687 | T73: .
G74: jiný resort | J74: 135 | K74: 109 | L74: 115 | M74: 113 | N74: 86 | O74: 90 | P74: 105 | Q74: 42 | R74: 107 | S74: 154 | T74: .
F75: neveřejný | J75: 1332 | K75: 1306 | L75: 1130 | M75: 1006 | N75: 991 | O75: 1178 | P75: 1330 | Q75: 1294 | R75: 1813 | S75: 1847 | T75: .
F76: v tom | G76: privátní sektor | J76: 1062 | K76: 1045 | L76: 951 | M76: 809 | N76: 775 | O76: 955 | P76: 1105 | Q76: 1033 | R76: 1582 | S76: 1589 | T76: .
G77: církev | J77: 270 | K77: 261 | L77: 179 | M77: 197 | N77: 216 | O77: 223 | P77: 225 | Q77: 261 | R77: 231 | S77: 258 | T77: .
E78: Denní vzdělávání | J78: 4139 | K78: 3683 | L78: 3168 | M78: 2721 | N78: 2372 | O78: 2272 | P78: 2420 | Q78: 2468 | R78: 2824 | S78: 2898 | T78: .
E79: v tom | F79: veřejný | J79: 3205 | K79: 2836 | L79: 2458 | M79: 2101 | N79: 1784 | O79: 1559 | P79: 1696 | Q79: 1659 | R79: 1870 | S79: 1849 | T79: .
F80: v tom | G80: MŠMT | J80: 0 | K80: 0 | L80: 0 | M80: 0 | N80: 0 | O80: 0 | P80: 0 | Q80: 0 | R80: 0 | S80: 0 | T80: .
G81: obec | J81: 0 | K81: 0 | L81: 0 | M81: 0 | N81: 0 | O81: 0 | P81: 0 | Q81: 0 | R81: 0 | S81: 0 | T81: .
G82: kraj | J82: 3205 | K82: 2836 | L82: 2458 | M82: 2101 | N82: 1784 | O82: 1559 | P82: 1696 | Q82: 1659 | R82: 1870 | S82: 1849 | T82: .
G83: jiný resort | J83: 0 | K83: 0 | L83: 0 | M83: 0 | N83: 0 | O83: 0 | P83: 0 | Q83: 0 | R83: 0 | S83: 0 | T83: .
F84: neveřejný | J84: 934 | K84: 847 | L84: 710 | M84: 620 | N84: 588 | O84: 713 | P84: 724 | Q84: 809 | R84: 954 | S84: 1049 | T84: .
F85: v tom | G85: privátní sektor | J85: 737 | K85: 666 | L85: 590 | M85: 499 | N85: 471 | O85: 577 | P85: 599 | Q85: 650 | R85: 807 | S85: 893 | T85: .
G86: církev | J86: 197 | K86: 181 | L86: 120 | M86: 121 | N86: 117 | O86: 136 | P86: 125 | Q86: 159 | R86: 147 | S86: 156 | T86: .
E87: Ostatní formy vzdělávání | J87: 1546 | K87: 1491 | L87: 1414 | M87: 1335 | N87: 1311 | O87: 1349 | P87: 1486 | Q87: 1318 | R87: 1751 | S87: 1790 | T87: .
E88: v tom | F88: veřejný | J88: 1148 | K88: 1032 | L88: 994 | M88: 949 | N88: 908 | O88: 884 | P88: 880 | Q88: 833 | R88: 892 | S88: 992 | T88: .
F89: v tom | G89: MŠMT | J89: 0 | K89: 0 | L89: 0 | M89: 0 | N89: 0 | O89: 0 | P89: 0 | Q89: 0 | R89: 0 | S89: 0 | T89: .
G90: obec | J90: 0 | K90: 0 | L90: 0 | M90: 0 | N90: 0 | O90: 0 | P90: 0 | Q90: 0 | R90: 0 | S90: 0 | T90: .
G91: kraj | J91: 1013 | K91: 923 | L91: 879 | M91: 836 | N91: 822 | O91: 794 | P91: 775 | Q91: 791 | R91: 785 | S91: 838 | T91: .
G92: jiný resort | J92: 135 | K92: 109 | L92: 115 | M92: 113 | N92: 86 | O92: 90 | P92: 105 | Q92: 42 | R92: 107 | S92: 154 | T92: .
F93: neveřejný | J93: 398 | K93: 459 | L93: 420 | M93: 386 | N93: 403 | O93: 465 | P93: 606 | Q93: 485 | R93: 859 | S93: 798 | T93: .
F94: v tom | G94: privátní sektor | J94: 325 | K94: 379 | L94: 361 | M94: 310 | N94: 304 | O94: 378 | P94: 506 | Q94: 383 | R94: 775 | S94: 696 | T94: .
G95: církev | J95: 73 | K95: 80 | L95: 59 | M95: 76 | N95: 99 | O95: 87 | P95: 100 | Q95: 102 | R95: 84 | S95: 102 | T95: .
T96: Zdroj: databáze MŠMT

Sheet B7.2.4
D4: Tab. B7.2.4: | H4: VOŠ – studentky, nově přijaté a absolventky
D5: ve školním roce 2015/16 až 2025/26 – podle formy vzdělávání a zřizovatele
D7: Forma vzdělávání Zřizovatel | J7: 2015/16 | K7: 2016/17 | L7: 2017/18 | M7: 2018/19 | N7: 2019/20 | O7: 2020/21 | P7: 2021/22 | Q7: 2022/23 | R7: 2023/24 | S7: 2024/25 | T7: 2025/26
D12: Studentky
E13: Všechny formy vzdělávání | J13: 18018 | K13: 15934 | L13: 14464 | M13: 13443 | N13: 13387 | O13: 13894 | P13: 15421 | Q13: 15939 | R13: 16778 | S13: 17555 | T13: 18091
E14: v tom | F14: veřejný | J14: 13182 | K14: 11542 | L14: 10419 | M14: 9323 | N14: 8970 | O14: 8999 | P14: 9638 | Q14: 9601 | R14: 9879 | S14: 9749 | T14: 9832
F15: v tom | G15: MŠMT | J15: 0 | K15: 0 | L15: 0 | M15: 0 | N15: 0 | O15: 0 | P15: 0 | Q15: 0 | R15: 0 | S15: 0 | T15: 0
G16: obec | J16: 0 | K16: 0 | L16: 0 | M16: 0 | N16: 0 | O16: 0 | P16: 0 | Q16: 0 | R16: 0 | S16: 0 | T16: 0
G17: kraj | J17: 13112 | K17: 11468 | L17: 10352 | M17: 9247 | N17: 8904 | O17: 8924 | P17: 9553 | Q17: 9488 | R17: 9768 | S17: 9636 | T17: 9718
G18: jiný resort | J18: 70 | K18: 74 | L18: 67 | M18: 76 | N18: 66 | O18: 75 | P18: 85 | Q18: 113 | R18: 111 | S18: 113 | T18: 114
F19: neveřejný | J19: 4836 | K19: 4392 | L19: 4045 | M19: 4120 | N19: 4417 | O19: 4895 | P19: 5783 | Q19: 6338 | R19: 6899 | S19: 7806 | T19: 8259
F20: v tom | G20: privátní sektor | J20: 3583 | K20: 3174 | L20: 2852 | M20: 2917 | N20: 3222 | O20: 3631 | P20: 4466 | Q20: 5078 | R20: 5580 | S20: 6437 | T20: 6891
G21: církev | J21: 1253 | K21: 1218 | L21: 1193 | M21: 1203 | N21: 1195 | O21: 1264 | P21: 1317 | Q21: 1260 | R21: 1319 | S21: 1369 | T21: 1368
E22: Denní vzdělávání | J22: 12340 | K22: 10629 | L22: 9233 | M22: 8186 | N22: 8057 | O22: 8249 | P22: 9231 | Q22: 9535 | R22: 9884 | S22: 10327 | T22: 10651
E23: v tom | F23: veřejný | J23: 9257 | K23: 7927 | L23: 6860 | M23: 5865 | N23: 5631 | O23: 5586 | P23: 6154 | Q23: 6170 | R23: 6228 | S23: 6146 | T23: 6057
F24: v tom | G24: MŠMT | J24: 0 | K24: 0 | L24: 0 | M24: 0 | N24: 0 | O24: 0 | P24: 0 | Q24: 0 | R24: 0 | S24: 0 | T24: 0
G25: obec | J25: 0 | K25: 0 | L25: 0 | M25: 0 | N25: 0 | O25: 0 | P25: 0 | Q25: 0 | R25: 0 | S25: 0 | T25: 0
G26: kraj | J26: 9257 | K26: 7927 | L26: 6860 | M26: 5865 | N26: 5631 | O26: 5586 | P26: 6154 | Q26: 6170 | R26: 6228 | S26: 6146 | T26: 6057
G27: jiný resort | J27: 0 | K27: 0 | L27: 0 | M27: 0 | N27: 0 | O27: 0 | P27: 0 | Q27: 0 | R27: 0 | S27: 0 | T27: 0
F28: neveřejný | J28: 3083 | K28: 2702 | L28: 2373 | M28: 2321 | N28: 2426 | O28: 2663 | P28: 3077 | Q28: 3365 | R28: 3656 | S28: 4181 | T28: 4594
F29: v tom | G29: privátní sektor | J29: 2333 | K29: 2047 | L29: 1763 | M29: 1739 | N29: 1872 | O29: 2056 | P29: 2404 | Q29: 2707 | R29: 2961 | S29: 3429 | T29: 3845
G30: církev | J30: 750 | K30: 655 | L30: 610 | M30: 582 | N30: 554 | O30: 607 | P30: 673 | Q30: 658 | R30: 695 | S30: 752 | T30: 749
E31: Ostatní formy vzdělávání | J31: 5678 | K31: 5305 | L31: 5231 | M31: 5257 | N31: 5330 | O31: 5645 | P31: 6190 | Q31: 6404 | R31: 6894 | S31: 7228 | T31: 7440
E32: v tom | F32: veřejný | J32: 3925 | K32: 3615 | L32: 3559 | M32: 3458 | N32: 3339 | O32: 3413 | P32: 3484 | Q32: 3431 | R32: 3651 | S32: 3603 | T32: 3775
F33: v tom | G33: MŠMT | J33: 0 | K33: 0 | L33: 0 | M33: 0 | N33: 0 | O33: 0 | P33: 0 | Q33: 0 | R33: 0 | S33: 0 | T33: 0
G34: obec | J34: 0 | K34: 0 | L34: 0 | M34: 0 | N34: 0 | O34: 0 | P34: 0 | Q34: 0 | R34: 0 | S34: 0 | T34: 0
G35: kraj | J35: 3855 | K35: 3541 | L35: 3492 | M35: 3382 | N35: 3273 | O35: 3338 | P35: 3399 | Q35: 3318 | R35: 3540 | S35: 3490 | T35: 3661
G36: jiný resort | J36: 70 | K36: 74 | L36: 67 | M36: 76 | N36: 66 | O36: 75 | P36: 85 | Q36: 113 | R36: 111 | S36: 113 | T36: 114
F37: neveřejný | J37: 1753 | K37: 1690 | L37: 1672 | M37: 1799 | N37: 1991 | O37: 2232 | P37: 2706 | Q37: 2973 | R37: 3243 | S37: 3625 | T37: 3665
F38: v tom | G38: privátní sektor | J38: 1250 | K38: 1127 | L38: 1089 | M38: 1178 | N38: 1350 | O38: 1575 | P38: 2062 | Q38: 2371 | R38: 2619 | S38: 3008 | T38: 3046
G39: církev | J39: 503 | K39: 563 | L39: 583 | M39: 621 | N39: 641 | O39: 657 | P39: 644 | Q39: 602 | R39: 624 | S39: 617 | T39: 619
D40: Nově přijaté
E41: Všechny formy vzdělávání | J41: 7043 | K41: 6109 | L41: 5688 | M41: 5341 | N41: 5728 | O41: 5867 | P41: 7034 | Q41: 6772 | R41: 6921 | S41: 7458 | T41: 7307
E42: v tom | F42: veřejný | J42: 5237 | K42: 4511 | L42: 4102 | M42: 3572 | N42: 3858 | O42: 3873 | P42: 4341 | Q42: 4005 | R42: 4143 | S42: 3895 | T42: 3995
F43: v tom | G43: MŠMT | J43: 0 | K43: 0 | L43: 0 | M43: 0 | N43: 0 | O43: 0 | P43: 0 | Q43: 0 | R43: 0 | S43: 0 | T43: 0
G44: obec | J44: 0 | K44: 0 | L44: 0 | M44: 0 | N44: 0 | O44: 0 | P44: 0 | Q44: 0 | R44: 0 | S44: 0 | T44: 0
G45: kraj | J45: 5224 | K45: 4478 | L45: 4076 | M45: 3542 | N45: 3834 | O45: 3842 | P45: 4303 | Q45: 3957 | R45: 4114 | S45: 3885 | T45: 3977
G46: jiný resort | J46: 13 | K46: 33 | L46: 26 | M46: 30 | N46: 24 | O46: 31 | P46: 38 | Q46: 48 | R46: 29 | S46: 10 | T46: 18
F47: neveřejný | J47: 1806 | K47: 1598 | L47: 1586 | M47: 1769 | N47: 1870 | O47: 1994 | P47: 2693 | Q47: 2767 | R47: 2778 | S47: 3563 | T47: 3312
F48: v tom | G48: privátní sektor | J48: 1300 | K48: 1064 | L48: 1061 | M48: 1270 | N48: 1368 | O48: 1443 | P48: 2133 | Q48: 2265 | R48: 2205 | S48: 2998 | T48: 2841
G49: církev | J49: 506 | K49: 534 | L49: 525 | M49: 499 | N49: 502 | O49: 551 | P49: 560 | Q49: 502 | R49: 573 | S49: 565 | T49: 471
E50: Denní vzdělávání | J50: 4842 | K50: 4100 | L50: 3582 | M50: 3275 | N50: 3563 | O50: 3620 | P50: 4334 | Q50: 4231 | R50: 4293 | S50: 4573 | T50: 4513
E51: v tom | F51: veřejný | J51: 3679 | K51: 3082 | L51: 2654 | M51: 2267 | N51: 2514 | O51: 2485 | P51: 2875 | Q51: 2712 | R51: 2646 | S51: 2604 | T51: 2543
F52: v tom | G52: MŠMT | J52: 0 | K52: 0 | L52: 0 | M52: 0 | N52: 0 | O52: 0 | P52: 0 | Q52: 0 | R52: 0 | S52: 0 | T52: 0
G53: obec | J53: 0 | K53: 0 | L53: 0 | M53: 0 | N53: 0 | O53: 0 | P53: 0 | Q53: 0 | R53: 0 | S53: 0 | T53: 0
G54: kraj | J54: 3679 | K54: 3082 | L54: 2654 | M54: 2267 | N54: 2514 | O54: 2485 | P54: 2875 | Q54: 2712 | R54: 2646 | S54: 2604 | T54: 2543
G55: jiný resort | J55: 0 | K55: 0 | L55: 0 | M55: 0 | N55: 0 | O55: 0 | P55: 0 | Q55: 0 | R55: 0 | S55: 0 | T55: 0
F56: neveřejný | J56: 1163 | K56: 1018 | L56: 928 | M56: 1008 | N56: 1049 | O56: 1135 | P56: 1459 | Q56: 1519 | R56: 1647 | S56: 1969 | T56: 1970
F57: v tom | G57: privátní sektor | J57: 875 | K57: 749 | L57: 683 | M57: 783 | N57: 814 | O57: 865 | P57: 1159 | Q57: 1251 | R57: 1329 | S57: 1649 | T57: 1714
G58: církev | J58: 288 | K58: 269 | L58: 245 | M58: 225 | N58: 235 | O58: 270 | P58: 300 | Q58: 268 | R58: 318 | S58: 320 | T58: 256
E59: Ostatní formy vzdělávání | J59: 2201 | K59: 2009 | L59: 2106 | M59: 2066 | N59: 2165 | O59: 2247 | P59: 2700 | Q59: 2541 | R59: 2628 | S59: 2885 | T59: 2794
E60: v tom | F60: veřejný | J60: 1558 | K60: 1429 | L60: 1448 | M60: 1305 | N60: 1344 | O60: 1388 | P60: 1466 | Q60: 1293 | R60: 1497 | S60: 1291 | T60: 1452
F61: v tom | G61: MŠMT | J61: 0 | K61: 0 | L61: 0 | M61: 0 | N61: 0 | O61: 0 | P61: 0 | Q61: 0 | R61: 0 | S61: 0 | T61: 0
G62: obec | J62: 0 | K62: 0 | L62: 0 | M62: 0 | N62: 0 | O62: 0 | P62: 0 | Q62: 0 | R62: 0 | S62: 0 | T62: 0
G63: kraj | J63: 1545 | K63: 1396 | L63: 1422 | M63: 1275 | N63: 1320 | O63: 1357 | P63: 1428 | Q63: 1245 | R63: 1468 | S63: 1281 | T63: 1434
G64: jiný resort | J64: 13 | K64: 33 | L64: 26 | M64: 30 | N64: 24 | O64: 31 | P64: 38 | Q64: 48 | R64: 29 | S64: 10 | T64: 18
F65: neveřejný | J65: 643 | K65: 580 | L65: 658 | M65: 761 | N65: 821 | O65: 859 | P65: 1234 | Q65: 1248 | R65: 1131 | S65: 1594 | T65: 1342
F66: v tom | G66: privátní sektor | J66: 425 | K66: 315 | L66: 378 | M66: 487 | N66: 554 | O66: 578 | P66: 974 | Q66: 1014 | R66: 876 | S66: 1349 | T66: 1127
G67: církev | J67: 218 | K67: 265 | L67: 280 | M67: 274 | N67: 267 | O67: 281 | P67: 260 | Q67: 234 | R67: 255 | S67: 245 | T67: 215
D68: Absolventky
E69: Všechny formy vzdělávání | J69: 4383 | K69: 3970 | L69: 3529 | M69: 3083 | N69: 2861 | O69: 2804 | P69: 3123 | Q69: 3055 | R69: 3790 | S69: 3780 | T69: .
E70: v tom | F70: veřejný | J70: 3354 | K70: 2975 | L70: 2653 | M70: 2336 | N70: 2099 | O70: 1882 | P70: 2038 | Q70: 2029 | R70: 2249 | S70: 2244 | T70: .
F71: v tom | G71: MŠMT | J71: 0 | K71: 0 | L71: 0 | M71: 0 | N71: 0 | O71: 0 | P71: 0 | Q71: 0 | R71: 0 | S71: 0 | T71: .
G72: obec | J72: 0 | K72: 0 | L72: 0 | M72: 0 | N72: 0 | O72: 0 | P72: 0 | Q72: 0 | R72: 0 | S72: 0 | T72: .
G73: kraj | J73: 3329 | K73: 2953 | L73: 2640 | M73: 2310 | N73: 2090 | O73: 1861 | P73: 2020 | Q73: 2024 | R73: 2232 | S73: 2219 | T73: .
G74: jiný resort | J74: 25 | K74: 22 | L74: 13 | M74: 26 | N74: 9 | O74: 21 | P74: 18 | Q74: 5 | R74: 17 | S74: 25 | T74: .
F75: neveřejný | J75: 1029 | K75: 995 | L75: 876 | M75: 747 | N75: 762 | O75: 922 | P75: 1085 | Q75: 1026 | R75: 1541 | S75: 1536 | T75: .
F76: v tom | G76: privátní sektor | J76: 800 | K76: 762 | L76: 720 | M76: 575 | N76: 571 | O76: 732 | P76: 894 | Q76: 805 | R76: 1335 | S76: 1319 | T76: .
G77: církev | J77: 229 | K77: 233 | L77: 156 | M77: 172 | N77: 191 | O77: 190 | P77: 191 | Q77: 221 | R77: 206 | S77: 217 | T77: .
E78: Denní vzdělávání | J78: 3176 | K78: 2803 | L78: 2448 | M78: 2050 | N78: 1851 | O78: 1729 | P78: 1952 | Q78: 1944 | R78: 2290 | S78: 2306 | T78: .
E79: v tom | F79: veřejný | J79: 2486 | K79: 2163 | L79: 1916 | M79: 1613 | N79: 1409 | O79: 1195 | P79: 1387 | Q79: 1329 | R79: 1538 | S79: 1491 | T79: .
F80: v tom | G80: MŠMT | J80: 0 | K80: 0 | L80: 0 | M80: 0 | N80: 0 | O80: 0 | P80: 0 | Q80: 0 | R80: 0 | S80: 0 | T80: .
G81: obec | J81: 0 | K81: 0 | L81: 0 | M81: 0 | N81: 0 | O81: 0 | P81: 0 | Q81: 0 | R81: 0 | S81: 0 | T81: .
G82: kraj | J82: 2486 | K82: 2163 | L82: 1916 | M82: 1613 | N82: 1409 | O82: 1195 | P82: 1387 | Q82: 1329 | R82: 1538 | S82: 1491 | T82: .
G83: jiný resort | J83: 0 | K83: 0 | L83: 0 | M83: 0 | N83: 0 | O83: 0 | P83: 0 | Q83: 0 | R83: 0 | S83: 0 | T83: .
F84: neveřejný | J84: 690 | K84: 640 | L84: 532 | M84: 437 | N84: 442 | O84: 534 | P84: 565 | Q84: 615 | R84: 752 | S84: 815 | T84: .
F85: v tom | G85: privátní sektor | J85: 528 | K85: 483 | L85: 429 | M85: 334 | N85: 340 | O85: 422 | P85: 464 | Q85: 482 | R85: 626 | S85: 687 | T85: .
G86: církev | J86: 162 | K86: 157 | L86: 103 | M86: 103 | N86: 102 | O86: 112 | P86: 101 | Q86: 133 | R86: 126 | S86: 128 | T86: .
E87: Ostatní formy vzdělávání | J87: 1207 | K87: 1167 | L87: 1081 | M87: 1033 | N87: 1010 | O87: 1075 | P87: 1171 | Q87: 1111 | R87: 1500 | S87: 1474 | T87: .
E88: v tom | F88: veřejný | J88: 868 | K88: 812 | L88: 737 | M88: 723 | N88: 690 | O88: 687 | P88: 651 | Q88: 700 | R88: 711 | S88: 753 | T88: .
F89: v tom | G89: MŠMT | J89: 0 | K89: 0 | L89: 0 | M89: 0 | N89: 0 | O89: 0 | P89: 0 | Q89: 0 | R89: 0 | S89: 0 | T89: .
G90: obec | J90: 0 | K90: 0 | L90: 0 | M90: 0 | N90: 0 | O90: 0 | P90: 0 | Q90: 0 | R90: 0 | S90: 0 | T90: .
G91: kraj | J91: 843 | K91: 790 | L91: 724 | M91: 697 | N91: 681 | O91: 666 | P91: 633 | Q91: 695 | R91: 694 | S91: 728 | T91: .
G92: jiný resort | J92: 25 | K92: 22 | L92: 13 | M92: 26 | N92: 9 | O92: 21 | P92: 18 | Q92: 5 | R92: 17 | S92: 25 | T92: .
F93: neveřejný | J93: 339 | K93: 355 | L93: 344 | M93: 310 | N93: 320 | O93: 388 | P93: 520 | Q93: 411 | R93: 789 | S93: 721 | T93: .
F94: v tom | G94: privátní sektor | J94: 272 | K94: 279 | L94: 291 | M94: 241 | N94: 231 | O94: 310 | P94: 430 | Q94: 323 | R94: 709 | S94: 632 | T94: .
G95: církev | J95: 67 | K95: 76 | L95: 53 | M95: 69 | N95: 89 | O95: 78 | P95: 90 | Q95: 88 | R95: 80 | S95: 89 | T95: .
T96: Zdroj: databáze MŠMT

Sheet B7.2.5
D4: Tab. B7.2.5: | H4: VOŠ, denní forma vzdělávání – studenti
D5: ve školním roce 2015/16 až 2025/26 – podle území
D7: Území | J7: 2015/16 | K7: 2016/17 | L7: 2017/18 | M7: 2018/19 | N7: 2019/20 | O7: 2020/21 | P7: 2021/22 | Q7: 2022/23 | R7: 2023/24 | S7: 2024/25 | T7: 2025/26
E12: Česká republika | H12: CZ0 | J12: 17129 | K12: 14876 | L12: 12901 | M12: 11474 | N12: 11117 | O12: 11349 | P12: 12411 | Q12: 12781 | R12: 13180 | S12: 13590 | T12: 13931
E13: Praha | H13: CZ01 | J13: 4322 | K13: 3772 | L13: 3312 | M13: 3099 | N13: 3041 | O13: 3050 | P13: 3305 | Q13: 3464 | R13: 3538 | S13: 3882 | T13: 4020
F14: Hlavní město Praha | H14: CZ010 | J14: 4322 | K14: 3772 | L14: 3312 | M14: 3099 | N14: 3041 | O14: 3050 | P14: 3305 | Q14: 3464 | R14: 3538 | S14: 3882 | T14: 4020
E15: Střední Čechy | H15: CZ02 | J15: 1105 | K15: 939 | L15: 803 | M15: 606 | N15: 535 | O15: 449 | P15: 532 | Q15: 479 | R15: 506 | S15: 486 | T15: 485
F16: Středočeský kraj | H16: CZ020 | J16: 1105 | K16: 939 | L16: 803 | M16: 606 | N16: 535 | O16: 449 | P16: 532 | Q16: 479 | R16: 506 | S16: 486 | T16: 485
E17: Jihozápad | H17: CZ03 | J17: 2093 | K17: 1824 | L17: 1541 | M17: 1391 | N17: 1347 | O17: 1423 | P17: 1465 | Q17: 1489 | R17: 1584 | S17: 1656 | T17: 1715
F18: Jihočeský kraj | H18: CZ031 | J18: 983 | K18: 821 | L18: 679 | M18: 578 | N18: 527 | O18: 519 | P18: 528 | Q18: 448 | R18: 467 | S18: 436 | T18: 480
F19: Plzeňský kraj | H19: CZ032 | J19: 1110 | K19: 1003 | L19: 862 | M19: 813 | N19: 820 | O19: 904 | P19: 937 | Q19: 1041 | R19: 1117 | S19: 1220 | T19: 1235
E20: Severozápad | H20: CZ04 | J20: 1548 | K20: 1227 | L20: 981 | M20: 823 | N20: 819 | O20: 799 | P20: 860 | Q20: 918 | R20: 877 | S20: 890 | T20: 871
F21: Karlovarský kraj | H21: CZ041 | J21: 412 | K21: 339 | L21: 269 | M21: 228 | N21: 219 | O21: 249 | P21: 249 | Q21: 294 | R21: 229 | S21: 261 | T21: 259
F22: Ústecký kraj | H22: CZ042 | J22: 1136 | K22: 888 | L22: 712 | M22: 595 | N22: 600 | O22: 550 | P22: 611 | Q22: 624 | R22: 648 | S22: 629 | T22: 612
E23: Severovýchod | H23: CZ05 | J23: 1963 | K23: 1653 | L23: 1505 | M23: 1204 | N23: 1063 | O23: 1138 | P23: 1307 | Q23: 1272 | R23: 1218 | S23: 1238 | T23: 1185
F24: Liberecký kraj | H24: CZ051 | J24: 314 | K24: 233 | L24: 248 | M24: 222 | N24: 174 | O24: 194 | P24: 238 | Q24: 198 | R24: 184 | S24: 222 | T24: 225
F25: Královéhradecký kraj | H25: CZ052 | J25: 722 | K25: 643 | L25: 584 | M25: 489 | N25: 441 | O25: 442 | P25: 451 | Q25: 484 | R25: 466 | S25: 427 | T25: 386
F26: Pardubický kraj | H26: CZ053 | J26: 927 | K26: 777 | L26: 673 | M26: 493 | N26: 448 | O26: 502 | P26: 618 | Q26: 590 | R26: 568 | S26: 589 | T26: 574
E27: Jihovýchod | H27: CZ06 | J27: 2819 | K27: 2395 | L27: 2049 | M27: 1781 | N27: 1684 | O27: 1624 | P27: 1694 | Q27: 1740 | R27: 1844 | S27: 1800 | T27: 1862
F28: Kraj Vysočina | H28: CZ063 | J28: 787 | K28: 627 | L28: 512 | M28: 374 | N28: 320 | O28: 319 | P28: 338 | Q28: 335 | R28: 357 | S28: 363 | T28: 360
F29: Jihomoravský kraj | H29: CZ064 | J29: 2032 | K29: 1768 | L29: 1537 | M29: 1407 | N29: 1364 | O29: 1305 | P29: 1356 | Q29: 1405 | R29: 1487 | S29: 1437 | T29: 1502
E30: Střední Morava | H30: CZ07 | J30: 1642 | K30: 1497 | L30: 1279 | M30: 1147 | N30: 1150 | O30: 1296 | P30: 1435 | Q30: 1515 | R30: 1584 | S30: 1603 | T30: 1672
F31: Olomoucký kraj | H31: CZ071 | J31: 933 | K31: 886 | L31: 818 | M31: 731 | N31: 731 | O31: 793 | P31: 922 | Q31: 1039 | R31: 1100 | S31: 1148 | T31: 1164
F32: Zlínský kraj | H32: CZ072 | J32: 709 | K32: 611 | L32: 461 | M32: 416 | N32: 419 | O32: 503 | P32: 513 | Q32: 476 | R32: 484 | S32: 455 | T32: 508
E33: Moravskoslezsko | H33: CZ08 | J33: 1637 | K33: 1569 | L33: 1431 | M33: 1423 | N33: 1478 | O33: 1570 | P33: 1813 | Q33: 1904 | R33: 2029 | S33: 2035 | T33: 2121
F34: Moravskoslezský kraj | H34: CZ080 | J34: 1637 | K34: 1569 | L34: 1431 | M34: 1423 | N34: 1478 | O34: 1570 | P34: 1813 | Q34: 1904 | R34: 2029 | S34: 2035 | T34: 2121
T35: Zdroj: databáze MŠMT

Sheet B7.2.6
D4: Tab. B7.2.6: | H4: VOŠ, denní forma vzdělávání – nově přijatí
D5: ve školním roce 2015/16 až 2025/26 – podle území
D7: Území | J7: 2015/16 | K7: 2016/17 | L7: 2017/18 | M7: 2018/19 | N7: 2019/20 | O7: 2020/21 | P7: 2021/22 | Q7: 2022/23 | R7: 2023/24 | S7: 2024/25 | T7: 2025/26
E12: Česká republika | H12: CZ0 | J12: 6887 | K12: 5990 | L12: 5131 | M12: 4703 | N12: 4972 | O12: 5106 | P12: 5909 | Q12: 5844 | R12: 5947 | S12: 6129 | T12: 6067
E13: Praha | H13: CZ01 | J13: 1770 | K13: 1603 | L13: 1373 | M13: 1292 | N13: 1337 | O13: 1374 | P13: 1511 | Q13: 1544 | R13: 1622 | S13: 1774 | T13: 1691
F14: Hlavní město Praha | H14: CZ010 | J14: 1770 | K14: 1603 | L14: 1373 | M14: 1292 | N14: 1337 | O14: 1374 | P14: 1511 | Q14: 1544 | R14: 1622 | S14: 1774 | T14: 1691
E15: Střední Čechy | H15: CZ02 | J15: 484 | K15: 374 | L15: 294 | M15: 196 | N15: 230 | O15: 190 | P15: 265 | Q15: 219 | R15: 208 | S15: 224 | T15: 220
F16: Středočeský kraj | H16: CZ020 | J16: 484 | K16: 374 | L16: 294 | M16: 196 | N16: 230 | O16: 190 | P16: 265 | Q16: 219 | R16: 208 | S16: 224 | T16: 220
E17: Jihozápad | H17: CZ03 | J17: 835 | K17: 754 | L17: 597 | M17: 578 | N17: 593 | O17: 623 | P17: 664 | Q17: 714 | R17: 786 | S17: 802 | T17: 754
F18: Jihočeský kraj | H18: CZ031 | J18: 382 | K18: 312 | L18: 264 | M18: 218 | N18: 216 | O18: 225 | P18: 219 | Q18: 168 | R18: 233 | S18: 197 | T18: 222
F19: Plzeňský kraj | H19: CZ032 | J19: 453 | K19: 442 | L19: 333 | M19: 360 | N19: 377 | O19: 398 | P19: 445 | Q19: 546 | R19: 553 | S19: 605 | T19: 532
E20: Severozápad | H20: CZ04 | J20: 606 | K20: 476 | L20: 417 | M20: 334 | N20: 404 | O20: 401 | P20: 407 | Q20: 461 | R20: 422 | S20: 417 | T20: 395
F21: Karlovarský kraj | H21: CZ041 | J21: 169 | K21: 129 | L21: 95 | M21: 95 | N21: 119 | O21: 121 | P21: 105 | Q21: 178 | R21: 97 | S21: 120 | T21: 104
F22: Ústecký kraj | H22: CZ042 | J22: 437 | K22: 347 | L22: 322 | M22: 239 | N22: 285 | O22: 280 | P22: 302 | Q22: 283 | R22: 325 | S22: 297 | T22: 291
E23: Severovýchod | H23: CZ05 | J23: 738 | K23: 594 | L23: 563 | M23: 435 | N23: 424 | O23: 507 | P23: 623 | Q23: 506 | R23: 497 | S23: 521 | T23: 440
F24: Liberecký kraj | H24: CZ051 | J24: 124 | K24: 80 | L24: 87 | M24: 102 | N24: 73 | O24: 83 | P24: 125 | Q24: 82 | R24: 74 | S24: 110 | T24: 105
F25: Královéhradecký kraj | H25: CZ052 | J25: 267 | K25: 245 | L25: 224 | M25: 178 | N25: 168 | O25: 200 | P25: 192 | Q25: 194 | R25: 189 | S25: 164 | T25: 136
F26: Pardubický kraj | H26: CZ053 | J26: 347 | K26: 269 | L26: 252 | M26: 155 | N26: 183 | O26: 224 | P26: 306 | Q26: 230 | R26: 234 | S26: 247 | T26: 199
E27: Jihovýchod | H27: CZ06 | I27: 0 | J27: 1130 | K27: 913 | L27: 773 | M27: 703 | N27: 732 | O27: 694 | P27: 804 | Q27: 779 | R27: 772 | S27: 739 | T27: 865
F28: Kraj Vysočina | H28: CZ063 | J28: 305 | K28: 230 | L28: 177 | M28: 102 | N28: 126 | O28: 141 | P28: 154 | Q28: 142 | R28: 160 | S28: 165 | T28: 155
F29: Jihomoravský kraj | H29: CZ064 | J29: 825 | K29: 683 | L29: 596 | M29: 601 | N29: 606 | O29: 553 | P29: 650 | Q29: 637 | R29: 612 | S29: 574 | T29: 710
E30: Střední Morava | H30: CZ07 | J30: 650 | K30: 600 | L30: 483 | M30: 497 | N30: 569 | O30: 621 | P30: 701 | Q30: 734 | R30: 713 | S30: 732 | T30: 734
F31: Olomoucký kraj | H31: CZ071 | J31: 380 | K31: 371 | L31: 342 | M31: 308 | N31: 348 | O31: 371 | P31: 460 | Q31: 533 | R31: 478 | S31: 498 | T31: 454
F32: Zlínský kraj | H32: CZ072 | J32: 270 | K32: 229 | L32: 141 | M32: 189 | N32: 221 | O32: 250 | P32: 241 | Q32: 201 | R32: 235 | S32: 234 | T32: 280
E33: Moravskoslezsko | H33: CZ08 | J33: 674 | K33: 676 | L33: 631 | M33: 668 | N33: 683 | O33: 696 | P33: 934 | Q33: 887 | R33: 927 | S33: 920 | T33: 968
F34: Moravskoslezský kraj | H34: CZ080 | J34: 674 | K34: 676 | L34: 631 | M34: 668 | N34: 683 | O34: 696 | P34: 934 | Q34: 887 | R34: 927 | S34: 920 | T34: 968
T35: Zdroj: databáze MŠMT

Sheet B7.2.7
D4: Tab. B7.2.7: | H4: VOŠ, denní forma vzdělávání – absolventi
D5: ve školním roce 2015/16 až 2025/26 – podle území
D7: Území | J7: 2015/16 | K7: 2016/17 | L7: 2017/18 | M7: 2018/19 | N7: 2019/20 | O7: 2020/21 | P7: 2021/22 | Q7: 2022/23 | R7: 2023/24 | S7: 2024/25 | T7: 2025/26
E12: Česká republika | H12: CZ0 | J12: 4139 | K12: 3683 | L12: 3168 | M12: 2721 | N12: 2372 | O12: 2272 | P12: 2420 | Q12: 2468 | R12: 2824 | S12: 2898 | T12: .
E13: Praha | H13: CZ01 | J13: 954 | K13: 792 | L13: 747 | M13: 665 | N13: 636 | O13: 617 | P13: 588 | Q13: 674 | R13: 654 | S13: 717 | T13: .
F14: Hlavní město Praha | H14: CZ010 | J14: 954 | K14: 792 | L14: 747 | M14: 665 | N14: 636 | O14: 617 | P14: 588 | Q14: 674 | R14: 654 | S14: 717 | T14: .
E15: Střední Čechy | H15: CZ02 | J15: 283 | K15: 238 | L15: 240 | M15: 187 | N15: 161 | O15: 99 | P15: 125 | Q15: 90 | R15: 123 | S15: 125 | T15: .
F16: Středočeský kraj | H16: CZ020 | J16: 283 | K16: 238 | L16: 240 | M16: 187 | N16: 161 | O16: 99 | P16: 125 | Q16: 90 | R16: 123 | S16: 125 | T16: .
E17: Jihozápad | H17: CZ03 | J17: 490 | K17: 444 | L17: 354 | M17: 317 | N17: 272 | O17: 296 | P17: 307 | Q17: 296 | R17: 312 | S17: 322 | T17: .
F18: Jihočeský kraj | H18: CZ031 | J18: 220 | K18: 202 | L18: 145 | M18: 124 | N18: 117 | O18: 96 | P18: 107 | Q18: 105 | R18: 96 | S18: 67 | T18: .
F19: Plzeňský kraj | H19: CZ032 | J19: 270 | K19: 242 | L19: 209 | M19: 193 | N19: 155 | O19: 200 | P19: 200 | Q19: 191 | R19: 216 | S19: 255 | T19: .
E20: Severozápad | H20: CZ04 | J20: 395 | K20: 335 | L20: 245 | M20: 200 | N20: 154 | O20: 126 | P20: 155 | Q20: 177 | R20: 187 | S20: 193 | T20: .
F21: Karlovarský kraj | H21: CZ041 | J21: 115 | K21: 92 | L21: 82 | M21: 57 | N21: 29 | O21: 29 | P21: 65 | Q21: 50 | R21: 44 | S21: 65 | T21: .
F22: Ústecký kraj | H22: CZ042 | J22: 280 | K22: 243 | L22: 163 | M22: 143 | N22: 125 | O22: 97 | P22: 90 | Q22: 127 | R22: 143 | S22: 128 | T22: .
E23: Severovýchod | H23: CZ05 | J23: 524 | K23: 463 | L23: 406 | M23: 324 | N23: 251 | O23: 226 | P23: 234 | Q23: 262 | R23: 295 | S23: 290 | T23: .
F24: Liberecký kraj | H24: CZ051 | J24: 70 | K24: 55 | L24: 52 | M24: 35 | N24: 30 | O24: 39 | P24: 31 | Q24: 30 | R24: 43 | S24: 36 | T24: .
F25: Královéhradecký kraj | H25: CZ052 | J25: 213 | K25: 186 | L25: 175 | M25: 149 | N25: 123 | O25: 112 | P25: 99 | Q25: 124 | R25: 117 | S25: 120 | T25: .
F26: Pardubický kraj | H26: CZ053 | J26: 241 | K26: 222 | L26: 179 | M26: 140 | N26: 98 | O26: 75 | P26: 104 | Q26: 108 | R26: 135 | S26: 134 | T26: .
E27: Jihovýchod | H27: CZ06 | J27: 749 | K27: 671 | L27: 575 | M27: 498 | N27: 419 | O27: 394 | P27: 391 | Q27: 362 | R27: 451 | S27: 488 | T27: .
F28: Kraj Vysočina | H28: CZ063 | J28: 216 | K28: 173 | L28: 154 | M28: 131 | N28: 102 | O28: 64 | P28: 74 | Q28: 73 | R28: 90 | S28: 89 | T28: .
F29: Jihomoravský kraj | H29: CZ064 | J29: 533 | K29: 498 | L29: 421 | M29: 367 | N29: 317 | O29: 330 | P29: 317 | Q29: 289 | R29: 361 | S29: 399 | T29: .
E30: Střední Morava | H30: CZ07 | J30: 404 | K30: 391 | L30: 334 | M30: 258 | N30: 237 | O30: 222 | P30: 297 | Q30: 272 | R30: 375 | S30: 345 | T30: .
F31: Olomoucký kraj | H31: CZ071 | J31: 226 | K31: 227 | L31: 192 | M31: 148 | N31: 153 | O31: 135 | P31: 177 | Q31: 159 | R31: 251 | S31: 251 | T31: .
F32: Zlínský kraj | H32: CZ072 | J32: 178 | K32: 164 | L32: 142 | M32: 110 | N32: 84 | O32: 87 | P32: 120 | Q32: 113 | R32: 124 | S32: 94 | T32: .
E33: Moravskoslezsko | H33: CZ08 | J33: 340 | K33: 349 | L33: 267 | M33: 272 | N33: 242 | O33: 292 | P33: 323 | Q33: 335 | R33: 427 | S33: 418 | T33: .
F34: Moravskoslezský kraj | H34: CZ080 | J34: 340 | K34: 349 | L34: 267 | M34: 272 | N34: 242 | O34: 292 | P34: 323 | Q34: 335 | R34: 427 | S34: 418 | T34: .
T35: Zdroj: databáze MŠMT

Sheet B7.2.8
D4: Tab. B7.2.8: | H4: VOŠ – přehled o přijímacím řízení
D5: ve školním roce 2015/16 až 2025/26 – podle formy vzdělávání
D7: Forma vzdělávání | J7: 2015/16 | K7: 2016/17 | L7: 2017/18 | M7: 2018/19 | N7: 2019/20 | O7: 2020/21 | P7: 2021/22 | Q7: 2022/23 | R7: 2023/24 | S7: 2024/25 | T7: 2025/26
D12: Všechny formy vzdělávání
E13: Počet podaných přihlášek | J13: 17385 | K13: 15036 | L13: 13743 | M13: 12850 | N13: 13049 | O13: 14199 | P13: 17507 | Q13: 17730 | R13: 18879 | S13: 19499 | T13: 21210
E14: Počet přihlášených1) | J14: 14397 | K14: 12699 | L14: 11732 | M14: 11006 | N14: 10916 | O14: 11554 | P14: 13716 | Q14: 13747 | R14: 14258 | S14: 14825 | T14: 15955
E15: Index přihlášek | J15: 1.2075432 | K15: 1.1840302 | L15: 1.1714115 | M15: 1.167545 | N15: 1.1954012 | O15: 1.228925 | P15: 1.2763925 | Q15: 1.2897359 | R15: 1.3240988 | S15: 1.3152782 | T15: 1.3293638
E16: Počet přijatých2) | J16: 11580 | K16: 10362 | L16: 9825 | M16: 9028 | N16: 8900 | O16: 9212 | P16: 10793 | Q16: 10652 | R16: 10645 | S16: 11535 | T16: 12257
E17: Počet zapsaných3) | J17: 10032 | K17: 9025 | L17: 8304 | M17: 7844 | N17: 7833 | O17: 8075 | P17: 9369 | Q17: 9048 | R17: 9184 | S17: 9760 | T17: 10133
E18: Úspěšnost uchazečů4) | J18: 0.88067534 | K18: 0.89714286 | L18: 0.92566422 | M18: 0.88910774 | N18: 0.89627392 | O18: 0.86603366 | P18: 0.86579496 | Q18: 0.81281953 | R18: 0.81228539 | S18: 0.82605271 | T18: 0.80574546
D19: Denní forma vzdělávání
E20: Počet podaných přihlášek | J20: 12492 | K20: 10674 | L20: 9151 | M20: 8497 | N20: 8644 | O20: 9308 | P20: 11141 | Q20: 11654 | R20: 11838 | S20: 12560 | T20: 12490
E21: Počet přihlášených1) | J21: 10145 | K21: 8881 | L21: 7657 | M21: 7105 | N21: 7045 | O21: 7398 | P21: 8463 | Q21: 8816 | R21: 8894 | S21: 9233 | T21: 9946
E22: Index přihlášek | J22: 1.2313455 | K22: 1.2018917 | L22: 1.1951156 | M22: 1.1959184 | N22: 1.2269695 | O22: 1.2581779 | P22: 1.3164363 | Q22: 1.3219147 | R22: 1.3310097 | S22: 1.3603379 | T22: 1.2557812
E23: Počet přijatých2) | J23: 8398 | K23: 7398 | L23: 6362 | M23: 5929 | N23: 5924 | O23: 6087 | P23: 7095 | Q23: 7059 | R23: 7040 | S23: 7395 | T23: 7811
E24: Počet zapsaných3) | J24: 7134 | K24: 6342 | L24: 5449 | M24: 5080 | N24: 5081 | O24: 5266 | P24: 6107 | Q24: 5964 | R24: 6013 | S24: 6268 | T24: 6294
E25: Úspěšnost uchazečů4) | J25: 0.904567 | K25: 0.91097156 | L25: 0.92082791 | M25: 0.90532906 | N25: 0.92432517 | O25: 0.89147627 | P25: 0.91631151 | Q25: 0.83459447 | R25: 0.83521177 | S25: 0.84678805 | T25: 0.82822606
D26: Ostatní formy vzdělávání
E27: Počet podaných přihlášek | J27: 4893 | K27: 4362 | L27: 4592 | M27: 4353 | N27: 4405 | O27: 4891 | P27: 6366 | Q27: 6076 | R27: 7041 | S27: 6939 | T27: 7720
E28: Počet přihlášených1) | J28: 4523 | K28: 4033 | L28: 4271 | M28: 4271 | N28: 4097 | O28: 4425 | P28: 5622 | Q28: 5356 | R28: 5861 | S28: 6000 | T28: 6632
E29: Index přihlášek | J29: 1.0818041 | K29: 1.081577 | L29: 1.075158 | M29: 1.0191993 | N29: 1.075177 | O29: 1.1053107 | P29: 1.1323372 | Q29: 1.1344287 | R29: 1.2013308 | S29: 1.1565 | T29: 1.1640531
E30: Počet přijatých2) | J30: 3250 | K30: 3035 | L30: 3230 | M30: 3167 | N30: 3040 | O30: 3213 | P30: 3833 | Q30: 3767 | R30: 3733 | S30: 4309 | T30: 4651
E31: Počet zapsaných3) | J31: 2914 | K31: 2708 | L31: 2879 | M31: 2793 | N31: 2760 | O31: 2831 | P31: 3287 | Q31: 3121 | R31: 3189 | S31: 3524 | T31: 3856
E32: Úspěšnost uchazečů4) | J32: 0.80765408 | K32: 0.85157127 | L32: 0.8380903 | M32: 0.84951717 | N32: 0.82856364 | O32: 0.79985063 | P32: 0.76187637 | Q32: 0.75657763 | R32: 0.68244973 | S32: 0.77388649 | T32: 0.73521973
D33: Komentáře: | T33: Zdroj: databáze MŠMT
E34: Data bez škol jiných resortů.
D35: 1) | E35: Každý uchazeč je započten pouze jednou bez ohledu na to, kolik přihlášek ke studiu podal.
D36: 2) | E36: Každý přijatý je započten pouze jednou bez ohledu na to, na kolik škol byl přijat.
D37: 3) | E37: Každý zapsaný je započten pouze jednou bez ohledu na to, na kolik škol se zapsal.
D38: 4) | E38: Úspěšnost = % přijatých z těch přihlášených, kteří se dostavili k přijímacímu řízení.

Sheet B7.2.9
D4: Tab. B7.2.9: | H4: VOŠ – přehled o přijímacím řízení
D5: ve školním roce 2015/16 až 2025/26 – podle zřizovatele
D7: Zřizovatel | J7: 2015/16 | K7: 2016/17 | L7: 2017/18 | M7: 2018/19 | N7: 2019/20 | O7: 2020/21 | P7: 2021/22 | Q7: 2022/23 | R7: 2023/24 | S7: 2024/25 | T7: 2025/26
D12: Celkem
E13: Počet podaných přihlášek | J13: 17385 | K13: 15036 | L13: 13743 | M13: 12850 | N13: 13049 | O13: 14199 | P13: 17507 | Q13: 17730 | R13: 18879 | S13: 19499 | T13: 21210
E14: Počet přihlášených1) | J14: 14397 | K14: 12699 | L14: 11732 | M14: 11006 | N14: 10916 | O14: 11554 | P14: 13716 | Q14: 13747 | R14: 14258 | S14: 14825 | T14: 15955
E15: Index přihlášek | J15: 1.2075432 | K15: 1.1840302 | L15: 1.1714115 | M15: 1.167545 | N15: 1.1954012 | O15: 1.228925 | P15: 1.2763925 | Q15: 1.2897359 | R15: 1.3240988 | S15: 1.3152782 | T15: 1.3293638
E16: Počet přijatých2) | J16: 11580 | K16: 10362 | L16: 9825 | M16: 9028 | N16: 8900 | O16: 9212 | P16: 10793 | Q16: 10652 | R16: 10645 | S16: 11535 | T16: 12257
E17: Počet zapsaných3) | J17: 10032 | K17: 9025 | L17: 8304 | M17: 7844 | N17: 7833 | O17: 8075 | P17: 9369 | Q17: 9048 | R17: 9184 | S17: 9760 | T17: 10133
E18: Úspěšnost uchazečů4) | J18: 0.88067534 | K18: 0.89714286 | L18: 0.92566422 | M18: 0.88910774 | N18: 0.89627392 | O18: 0.86603366 | P18: 0.86579496 | Q18: 0.81281953 | R18: 0.81228539 | S18: 0.82605271 | T18: 0.80574546
D19: Veřejný
E20: Počet podaných přihlášek | J20: 13503 | K20: 11508 | L20: 10386 | M20: 9051 | N20: 9338 | O20: 9827 | P20: 11589 | Q20: 11090 | R20: 12054 | S20: 11026 | T20: 11973
E21: Počet přihlášených1) | J21: 11166 | K21: 9735 | L21: 8864 | M21: 7739 | N21: 7782 | O21: 8130 | P21: 9169 | Q21: 8768 | R21: 9270 | S21: 8524 | T21: 9139
E22: Index přihlášek | J22: 1.2092961 | K22: 1.1821263 | L22: 1.1717058 | M22: 1.1695309 | N22: 1.1999486 | O22: 1.2087331 | P22: 1.2639328 | Q22: 1.2648266 | R22: 1.3003236 | S22: 1.2935242 | T22: 1.3100996
E23: Počet přijatých2) | J23: 8661 | K23: 7764 | L23: 7040 | M23: 6207 | N23: 6331 | O23: 6336 | P23: 7159 | Q23: 6599 | R23: 6817 | S23: 6371 | T23: 6696
E24: Počet zapsaných3) | J24: 7406 | K24: 6694 | L24: 6058 | M24: 5354 | N24: 5481 | O24: 5512 | P24: 6080 | Q24: 5579 | R24: 5784 | S24: 5348 | T24: 5519
E25: Úspěšnost uchazečů4) | J25: 0.85982329 | K25: 0.88087134 | L25: 0.88888889 | M25: 0.8794276 | N25: 0.89598075 | O25: 0.85621622 | P25: 0.87390137 | Q25: 0.82580403 | R25: 0.77962031 | S25: 0.78888063 | T25: 0.77116204
D26: Privátní sektor
E27: Počet podaných přihlášek | J27: 2850 | K27: 2506 | L27: 2275 | M27: 2807 | N27: 2774 | O27: 3165 | P27: 4726 | Q27: 5508 | R27: 5481 | S27: 7139 | T27: 7869
E28: Počet přihlášených1) | J28: 2759 | K28: 2429 | L28: 2198 | M28: 2641 | N28: 2591 | O28: 2767 | P28: 4156 | Q28: 4742 | R28: 4661 | S28: 6068 | T28: 6683
E29: Index přihlášek | J29: 1.032983 | K29: 1.0317003 | L29: 1.0350318 | M29: 1.062855 | N29: 1.0706291 | O29: 1.1438381 | P29: 1.1371511 | Q29: 1.1615352 | R29: 1.1759279 | S29: 1.1764997 | T29: 1.1774652
E30: Počet přijatých2) | J30: 2357 | K30: 1956 | L30: 1838 | M30: 2208 | N30: 1963 | O30: 2123 | P30: 3049 | Q30: 3586 | R30: 3212 | S30: 4600 | T30: 5178
E31: Počet zapsaných3) | J31: 2022 | K31: 1718 | L31: 1641 | M31: 1896 | N31: 1756 | O31: 1820 | P31: 2625 | Q31: 2912 | R31: 2736 | S31: 3768 | T31: 4027
E32: Úspěšnost uchazečů4) | J32: 0.93494645 | K32: 0.8964253 | L32: 0.8957115 | M32: 0.87863112 | N32: 0.84248927 | O32: 0.82159443 | P32: 0.77444755 | Q32: 0.7974205 | R32: 0.72735507 | S32: 0.82407739 | T32: 0.80216886
D33: Církev
E34: Počet podaných přihlášek | J34: 1032 | K34: 1022 | L34: 1082 | M34: 992 | N34: 937 | O34: 1207 | P34: 1192 | Q34: 1132 | R34: 1344 | S34: 1334 | T34: 1368
E35: Počet přihlášených1) | J35: 994 | K35: 957 | L35: 1041 | M35: 961 | N35: 903 | O35: 1148 | P35: 1144 | Q35: 1063 | R35: 1256 | S35: 1239 | T35: 1295
E36: Index přihlášek | J36: 1.0382294 | K36: 1.0679206 | L36: 1.0393852 | M36: 1.0322581 | N36: 1.0376523 | O36: 1.0513937 | P36: 1.041958 | Q36: 1.0649106 | R36: 1.0700637 | S36: 1.0766747 | T36: 1.0563707
E37: Počet přijatých2) | J37: 762 | K37: 803 | L37: 784 | M37: 762 | N37: 731 | O37: 924 | P37: 846 | Q37: 762 | R37: 873 | S37: 923 | T37: 776
E38: Počet zapsaných3) | J38: 640 | K38: 637 | L38: 640 | M38: 621 | N38: 619 | O38: 764 | P38: 698 | Q38: 624 | R38: 702 | S38: 712 | T38: 622
E39: Úspěšnost uchazečů4) | J39: 0.8410596 | K39: 0.95937873 | L39: 0.88687783 | M39: 0.92140266 | N39: 0.95306389 | O39: 0.89708738 | P39: 0.88586387 | Q39: 0.84478936 | R39: 0.80460829 | S39: 0.83153153 | T39: 0.75559883
D40: Komentáře: | T40: Zdroj: databáze MŠMT
E41: Data bez škol jiných resortů.
D42: 1) | E42: Každý uchazeč je započten pouze jednou bez ohledu na to, kolik přihlášek ke studiu podal.
D43: 2) | E43: Každý přijatý je započten pouze jednou bez ohledu na to, na kolik škol byl přijat.
D44: 3) | E44: Každý zapsaný je započten pouze jednou bez ohledu na to, na kolik škol se zapsal.
D45: 4) | E45: Úspěšnost = % přijatých z těch přihlášených, kteří se dostavili k přijímacímu řízení.

Sheet B7.2.10
D4: Tab. B7.2.10: | H4: VOŠ, denní forma vzdělávání – nově přijatí
D5: ve školním roce 2015/16 až 2025/26 – podle předchozího působiště
J7: 2015/16 | K7: 2016/17 | L7: 2017/18 | M7: 2018/19 | N7: 2019/20 | O7: 2020/21 | P7: 2021/22 | Q7: 2022/23 | R7: 2023/24 | S7: 2024/25 | T7: 2025/26
D12: Nově přijatí do denní formy vzdělávání
E13: Celkem | J13: 6887 | K13: 5990 | L13: 5129 | M13: 4703 | N13: 4971 | O13: 5105 | P13: 5909 | Q13: 5843 | R13: 5947 | S13: 6127 | T13: 6065
E14: v tom | F14: ihned po maturitě | J14: 4011 | K14: 3374 | L14: 2906 | M14: 2642 | N14: 2870 | O14: 3023 | P14: 3620 | Q14: 3254 | R14: 3540 | S14: 3719 | T14: 3857
F15: později | J15: 2876 | K15: 2616 | L15: 2223 | M15: 2061 | N15: 2101 | O15: 2082 | P15: 2289 | Q15: 2589 | R15: 2407 | S15: 2408 | T15: 2208
T16: Zdroj: databáze MŠMT

Sheet B7.2.11
D4: Tab. B7.2.11: | H4: VOŠ – poměrové ukazatele
D5: ve školním roce 2015/16 až 2025/26
J7: 2015/16 | K7: 2016/17 | L7: 2017/18 | M7: 2018/19 | N7: 2019/20 | O7: 2020/21 | P7: 2021/22 | Q7: 2022/23 | R7: 2023/24 | S7: 2024/25 | T7: 2025/26
E12: Průměrný počet studentů na školu | J12: 144.94737 | K12: 130.96429 | L12: 119.77711 | M12: 110.93976 | N12: 112.2125 | O12: 118.32051 | P12: 133.08609 | Q12: 137.59333 | R12: 143.54967 | S12: 144.34194 | T12: 149.6732
E13: Průměrný počet studentů denní formy vzdělávání na školu | J13: 106.3913 | K13: 94.751592 | L13: 83.232258 | M13: 74.993464 | N13: 78.288732 | O13: 84.066667 | P13: 93.315789 | Q13: 96.825758 | R13: 102.17054 | S13: 105.34884 | T13: 106.34351
E14: Průměrný počet studentů na učitelský úvazek | J14: 14.865951 | K14: 14.415253 | L14: 13.709577 | M14: 13.511372 | N14: 14.084883 | O14: 14.48027 | P14: 16.186871 | Q14: 16.598842 | R14: 16.922476 | S14: 17.053891 | T14: 16.444888
T15: Zdroj: databáze MŠMT

Sheet B7.2.12
D4: Tab. B7.2.12: | H4: VOŠ – učitelé (přepočtené počty)
D5: ve školním roce 2015/16 až 2025/26 – podle zřizovatele
D7: Zřizovatel | J7: 2015/16 | K7: 2016/17 | L7: 2017/18 | M7: 2018/19 | N7: 2019/20 | O7: 2020/21 | P7: 2021/22 | Q7: 2022/23 | R7: 2023/24 | S7: 2024/25 | T7: 2025/26
E12: Celkem učitelů | J12: 1667.3 | K12: 1526.3 | L12: 1450.3 | M12: 1363 | N12: 1274.7 | O12: 1241.5 | P12: 1243.4 | Q12: 1280.9 | R12: 1311.9 | S12: 1311.7 | T12: 1392.53
E13: Veřejné celkem | J13: 1236 | K13: 1128.5 | L13: 1073.4 | M13: 985.9 | N13: 903.5 | O13: 804.8 | P13: 843.1 | Q13: 842.7 | R13: 856 | S13: 838.1 | T13: 826.99
D14: v tom | G14: kraj | J14: 1101 | K14: 1052.5 | L14: 995.4 | M14: 905.9 | N14: 828.5 | O14: 745.8 | P14: 774.1 | Q14: 773.7 | R14: 796 | S14: 789.1 | T14: 779.99
G15: jiný resort | J15: 135 | K15: 76 | L15: 78 | M15: 80 | N15: 75 | O15: 59 | P15: 69 | Q15: 69 | R15: 60 | S15: 49 | T15: 47
E16: Neveřejné celkem | J16: 431.3 | K16: 397.8 | L16: 376.9 | M16: 377.1 | N16: 371.2 | O16: 436.7 | P16: 400.3 | Q16: 438.2 | R16: 455.9 | S16: 473.6 | T16: 565.54
D17: v tom | G17: privátní sektor | J17: 334.3 | K17: 310.1 | L17: 290.5 | M17: 299 | N17: 289.4 | O17: 360.2 | P17: 320.5 | Q17: 357.9 | R17: 375.3 | S17: 393.5 | T17: 483.81
G18: církevní | J18: 97 | K18: 87.7 | L18: 86.4 | M18: 78.1 | N18: 81.8 | O18: 76.5 | P18: 79.8 | Q18: 80.3 | R18: 80.6 | S18: 80.1 | T18: 81.73
E19: Z toho ženy | J19: 1050.8 | K19: 1005.8 | L19: 945.9 | M19: 899.5 | N19: 862.9 | O19: 819.7 | P19: 821.4 | Q19: 865.1 | R19: 892 | S19: 899.7 | T19: 950.4
E20: Veřejné celkem | J20: 789.3 | K20: 769.7 | L20: 723.7 | M20: 676.2 | N20: 638.8 | O20: 558.7 | P20: 584.4 | Q20: 588.5 | R20: 603.7 | S20: 599.3 | T20: 594.03
D21: v tom | G21: kraj | J21: 739.3 | K21: 738.7 | L21: 690.7 | M21: 639.2 | N21: 602.8 | O21: 533.7 | P21: 551.4 | Q21: 555.5 | R21: 572.7 | S21: 581.3 | T21: 574.03
G22: jiný resort | J22: 50 | K22: 31 | L22: 33 | M22: 37 | N22: 36 | O22: 25 | P22: 33 | Q22: 33 | R22: 31 | S22: 18 | T22: 20
E23: Neveřejné celkem | J23: 261.5 | K23: 236.1 | L23: 222.2 | M23: 223.3 | N23: 224.1 | O23: 261 | P23: 237 | Q23: 276.6 | R23: 288.3 | S23: 300.4 | T23: 356.37
D24: v tom | G24: privátní sektor | J24: 204.9 | K24: 184.1 | L24: 176.6 | M24: 177.6 | N24: 177.6 | O24: 218.7 | P24: 194.4 | Q24: 229.3 | R24: 240.5 | S24: 253.5 | T24: 305.53
G25: církevní | J25: 56.6 | K25: 52 | L25: 45.6 | M25: 45.7 | N25: 46.5 | O25: 42.3 | P25: 42.6 | Q25: 47.3 | R25: 47.8 | S25: 46.9 | T25: 50.84
T26: Zdroj: databáze MŠMT

Sheet B7.2.14
D4: Tab. B7.2.14: | H4: VOŠ – zaměstnanci (přepočtené počty)
D5: v letech 2015 až 2025
J7: 2015 | K7: 2016 | L7: 2017 | M7: 2018 | N7: 2019 | O7: 2020 | P7: 2021 | Q7: 2022 | R7: 2023 | S7: 2024 | T7: 2025
D12: Všichni zřizovatelé (bez jiných resortů)
E13: Zaměstnanci celkem | J13: 1675.504 | K13: 1561.462 | L13: 1458.744 | M13: 1373.4183 | N13: 1259.2501 | O13: 1175.3082 | P13: 1174.7451 | Q13: 1181.6148 | R13: 1174.9586 | S13: 1182.151 | T13: 1178.3999
F14: z toho učitelé1) | J14: 1262.482 | K14: 1174.855 | L14: 1095.586 | M14: 1025.8434 | N14: 920.9169 | O14: 856.8472 | P14: 862.2567 | Q14: 861.9482 | R14: 846.4089 | S14: 845.2459 | T14: 872.9978
D15: Komentáře: | T15: Zdroj: databáze MŠMT
D16: 1) | E16: Včetně vedoucích zaměstnanců.

Sheet B7.2.15
D4: Tab. B7.2.15: | H4: VOŠ – průměrné měsíční mzdy zaměstnanců
D5: v letech 2015 až 2025
J7: 2015 | K7: 2016 | L7: 2017 | M7: 2018 | N7: 2019 | O7: 2020 | P7: 2021 | Q7: 2022 | R7: 2023 | S7: 2024 | T7: 2025
D12: Všichni zřizovatelé (bez jiných resortů)
D13: Nominální mzda (v běžných cenách)
E14: Zaměstnanci celkem | J14: 27895.062 | K14: 29263.196 | L14: 31052.76 | M14: 34163.3 | N14: 37881.437 | O14: 42944.008 | P14: 46262.38 | Q14: 48727.443 | R14: 50826.005 | S14: 52500.06 | T14: 56714.099
F15: z toho učitelé1) | J15: 30524.818 | K15: 31966.908 | L15: 33959.633 | M15: 37401.5 | N15: 41734.304 | O15: 47430.685 | P15: 51398.297 | Q15: 54768.828 | R15: 57386.575 | S15: 59779.281 | T15: 62001.256
D16: Reálná mzda (ve stálých cenách roku 2005)
E17: Zaměstnanci celkem | J17: 27895.062 | K17: 29059.777 | L17: 30119.069 | M17: 32443.78 | N17: 34978.243 | O17: 38411.456 | P17: 40193.206 | Q17: 37425.072 | R17: 36072.395 | S17: 36636.469 | T17: 38898.559
F18: z toho učitelé1) | J18: 30524.818 | K18: 31744.696 | L18: 32938.538 | M18: 35518.993 | N18: 38535.83 | O18: 42424.584 | P18: 44655.34 | Q18: 42065.152 | R18: 40728.584 | S18: 41716.176 | T18: 42524.867
D19: Index spotřebitelských cen a meziroční inflace
E20: index spotřebitelských cen (rok 2015 = 100) | J20: 100 | K20: 100.7 | L20: 103.1 | M20: 105.3 | N20: 108.3 | O20: 111.8 | P20: 115.1 | Q20: 130.2 | R20: 140.9 | S20: 143.3 | T20: 145.8
E21: meziroční inflace | J21: 0.003 | K21: 0.007 | L21: 0.025 | M21: 0.021 | N21: 0.028 | O21: 0.032 | P21: 0.038 | Q21: 0.151 | R21: 0.107 | S21: 0.024 | T21: 0.025
D22: Komentáře: | T22: Zdroj: databáze MŠMT, ČSÚ
D23: 1) | E23: Včetně vedoucích zaměstnanců.

Sheet B7.2.16
D4: Tab. B7.2.16: | H4: VOŠ – struktura učitelů
D5: v letech 2015 až 2025 – podle nejvyššího dosaženého vzdělání
D7: Nejvyšší dosažené vzdělání | J7: 2015 | K7: 2016 | L7: 2017 | M7: 2018 | N7: 2019 | O7: 2020 | P7: 2021 | Q7: 2022 | R7: 2023 | S7: 2024 | T7: 2025
D12: Učitelé (bez ředitelů a zástupců ředitele/řídících pracovníků)
E13: Střední a střední vzdělání s výučním listem | J13: 0.0015719441 | K13: 0.001197468 | L13: 0.0024075949 | M13: 0.002059841 | N13: 0.0012490755 | O13: 0.0017418473 | P13: 0.0014966364 | Q13: 0.0016898455 | R13: 0.0011808608 | S13: 0.0012107249 | T13: 0.0010811356
E14: Střední vzdělání s maturitní zkouškou | J14: 0.035782569 | K14: 0.032316284 | L14: 0.03960676 | M14: 0.041118001 | N14: 0.038221711 | O14: 0.02886719 | P14: 0.029688946 | Q14: 0.03123449 | R14: 0.030612498 | S14: 0.026639211 | T14: 0.029843125
E15: Vyšší odborné vzdělání | J15: 0.0043407094 | K15: 0.0031993889 | L15: 0.0027024644 | M15: 0.0032132221 | N15: 0.0013835913 | O15: 0.0023000083 | P15: 0.0027402333 | Q15: 0.0028174333 | R15: 0.0032698375 | S15: 0.0040205203 | T15: 0.0046681103
E16: Vysokoškolské – bakalářské | J16: 0.020340004 | K16: 0.020375379 | L16: 0.019315477 | M16: 0.020260519 | N16: 0.02084675 | O16: 0.01985321 | P16: 0.021702771 | Q16: 0.025651855 | R16: 0.03203201 | S16: 0.038247158 | T16: 0.039630081
E17: Vysokoškolské – magisterské | J17: 0.92425194 | K17: 0.92895637 | L17: 0.92059193 | M17: 0.91661952 | N17: 0.92035062 | O17: 0.92856501 | P17: 0.92266556 | Q17: 0.91684117 | R17: 0.91105112 | S17: 0.90596812 | T17: 0.9003401
E18: Vysokoškolské – doktorské | J18: 0.013712831 | K18: 0.013955108 | L18: 0.015375776 | M18: 0.016728898 | N18: 0.017948254 | O18: 0.018672732 | P18: 0.021705857 | Q18: 0.02176521 | R18: 0.021853672 | S18: 0.023914264 | T18: 0.024437447
T19: Zdroj: databáze MŠMT

Sheet B7.2.17
D4: Tab. B7.2.17: | H4: VOŠ – struktura učitelů
D5: v letech 2015 až 2025 – podle věku
D7: Věk | J7: 2015 | K7: 2016 | L7: 2017 | M7: 2018 | N7: 2019 | O7: 2020 | P7: 2021 | Q7: 2022 | R7: 2023 | S7: 2024 | T7: 2025
D12: Učitelé (bez ředitelů a zástupců ředitele/řídících pracovníků)
E13: do 24 let | J13: 0.0018288548 | K13: 0.0017460817 | L13: 0.0013950808 | M13: 0.0018121713 | N13: 0.0018984737 | O13: 0.003100929 | P13: 0.0036518826 | Q13: 0.0058466168 | R13: 0.0081043948 | S13: 0.0079616123 | T13: 0.0083918813
E14: 25–29 let | J14: 0.036749294 | K14: 0.033524769 | L14: 0.035089316 | M14: 0.035692318 | N14: 0.036604747 | O14: 0.034721444 | P14: 0.040922023 | Q14: 0.037225811 | R14: 0.041688586 | S14: 0.04632655 | T14: 0.061657979
E15: 30–34 let | J15: 0.076966286 | K15: 0.071247487 | L15: 0.06329421 | M15: 0.053804305 | N15: 0.048346902 | O15: 0.046587538 | P15: 0.040340062 | Q15: 0.046789919 | R15: 0.047862037 | S15: 0.056662964 | T15: 0.057990859
E16: 35–39 let | J16: 0.12486506 | K16: 0.117284 | L16: 0.10626877 | M16: 0.096011816 | N16: 0.093479056 | O16: 0.088909299 | P16: 0.087161754 | Q16: 0.086546484 | R16: 0.081966097 | S16: 0.07602623 | T16: 0.071733902
E17: 40–44 let | J17: 0.14486549 | K17: 0.15297514 | L17: 0.16179905 | M17: 0.16882693 | N17: 0.16107303 | O17: 0.16032667 | P17: 0.14808599 | Q17: 0.14514448 | R17: 0.13747455 | S17: 0.13131774 | T17: 0.12433897
E18: 45–49 let | J18: 0.15459583 | K18: 0.14573962 | L18: 0.14709004 | M18: 0.14950899 | N18: 0.15647387 | O18: 0.15664332 | P18: 0.17607247 | Q18: 0.18018433 | R18: 0.17658854 | S18: 0.17637382 | T18: 0.17510891
E19: 50–54 let | J19: 0.19453256 | K19: 0.19005027 | L19: 0.17872198 | M19: 0.16638261 | N19: 0.15604559 | O19: 0.15532486 | P19: 0.14636167 | Q19: 0.14204489 | R19: 0.14800191 | S19: 0.15143351 | T19: 0.15293936
E20: 55–59 let | J20: 0.17905557 | K20: 0.1882705 | L20: 0.1871228 | M20: 0.1926056 | N20: 0.19051216 | O20: 0.18633415 | P20: 0.18183974 | Q20: 0.17044099 | R20: 0.15602275 | S20: 0.14935516 | T20: 0.14741822
E21: 60–64 let | J21: 0.072489155 | K21: 0.080595457 | L21: 0.096290905 | M21: 0.1063443 | N21: 0.12468562 | O21: 0.13243431 | P21: 0.13642214 | Q21: 0.14166472 | R21: 0.14874458 | S21: 0.14328296 | T21: 0.14271549
E22: 65 a více let | J22: 0.014051899 | K22: 0.018566669 | L22: 0.023018834 | M22: 0.029010949 | N22: 0.030880561 | O22: 0.035617482 | P22: 0.039142269 | Q22: 0.044111758 | R22: 0.053546562 | S22: 0.061259459 | T22: 0.057704414
T23: Zdroj: databáze MŠMT

Sheet B7.3.1
D4: Tab. B7.3.1: | H4: VŠ – počty škol
D5: v letech 2015 až 2025
J7: 2003 | K7: 2004 | L7: 2005 | M7: 2006 | N7: 2007 | O7: 2008 | P7: 2009 | Q7: 2010 | R7: 2011 | S7: 2012 | T7: 2013 | U7: 2015 | V7: 2016 | W7: 2017 | X7: 2018 | Y7: 2019 | Z7: 2020 | AA7: 2021 | AB7: 2022 | AC7: 2023 | AD7: 2024 | AE7: 2025
D12: Vysoké školy – veřejné a soukromé1),2) | J12: 52 | K12: 60 | L12: 64 | M12: 63 | N12: 68 | O12: 71 | P12: 71 | Q12: 70 | R12: 71 | S12: 70 | T12: 69 | U12: 67 | V12: 63 | W12: 62 | X12: 62 | Y12: 58 | Z12: 57 | AA12: 58 | AB12: 54 | AC12: 53 | AD12: 53 | AE12: 52
E13: z celkového počtu škol soukromé vysoké školy | J13: 28 | K13: 36 | L13: 39 | M13: 38 | N13: 42 | O13: 45 | P13: 45 | Q13: 44 | R13: 45 | S13: 44 | T13: 43 | U13: 41 | V13: 37 | W13: 36 | X13: 36 | Y13: 32 | Z13: 31 | AA13: 32 | AB13: 28 | AC13: 27 | AD13: 27 | AE13: 26
D14: Vysoké školy vojenské a policejní | J14: 4 | K14: 2 | L14: 2 | M14: 2 | N14: 2 | O14: 2 | P14: 2 | Q14: 2 | R14: 2 | S14: 2 | T14: 2 | U14: 2 | V14: 2 | W14: 2 | X14: 2 | Y14: 2 | Z14: 2 | AA14: 2 | AB14: 2 | AC14: 2 | AD14: 2 | AE14: 2
D15: Komentáře: | AE15: Zdroj: databáze MŠMT
D16: 1) | E16: Jsou zahrnuty pouze soukromé VŠ, které mají akreditaci k 30. 10. příslušného roku.
D17: 2) | E17: Počet institucí, které k 31. 12. daného roku vykázaly alespoň jednoho studenta v některém vzdělávacím programu.

Sheet B7.3.2
D4: Tab. B7.3.2: | H4: VŠ – počty studentů podle formy studia a typu studijního programu
D5: v letech 2015 až 2025 – podle státního občanství
D7: Státní občanství Forma studia Typ studiního programu | J7: 2015 | K7: 2016 | L7: 2017 | M7: 2018 | N7: 2019 | O7: 2020 | P7: 2021 | Q7: 2022 | R7: 2023 | S7: 2024 | T7: 2025
D12: VŠ veřejné a soukromé celkem
E13: Celkem | J13: 326423 | K13: 311045 | L13: 298665 | M13: 289659 | N13: 288587 | O13: 298986 | P13: 303625 | Q13: 304303 | R13: 308518 | S13: 314715 | T13: 330547
E14: Prezenční studium celkem | J14: 249267 | K14: 236688 | L14: 227393 | M14: 222291 | N14: 224684 | O14: 235527 | P14: 241546 | Q14: 246168 | R14: 251960 | S14: 259782 | T14: 273915
F15: v bakalářských studijních programech | J15: 147923 | K15: 138368 | L15: 132752 | M15: 130665 | N15: 134348 | O15: 142341 | P15: 146404 | Q15: 150423 | R15: 155199 | S15: 161698 | T15: 173094
F16: v magisterských studijních programech | J16: 30046 | K16: 29517 | L16: 29137 | M16: 29009 | N16: 29201 | O16: 30116 | P16: 30789 | Q16: 31411 | R16: 32057 | S16: 32872 | T16: 33734
F17: v navazujících magisterských studijních programech | J17: 60238 | K17: 58001 | L17: 54549 | M17: 51240 | N17: 49097 | O17: 49727 | P17: 50684 | Q17: 50866 | R17: 51642 | S17: 53290 | T17: 56519
F18: v doktorských studijních programech | J18: 12665 | K18: 12306 | L18: 12267 | M18: 12566 | N18: 13201 | O18: 14639 | P18: 14978 | Q18: 14776 | R18: 14355 | S18: 13273 | T18: 12004
E19: Distanční a kombinované studium celkem | J19: 79803 | K19: 76834 | L19: 73487 | M19: 69305 | N19: 65894 | O19: 65681 | P19: 64282 | Q19: 60224 | R19: 58784 | S19: 57156 | T19: 59048
F20: v bakalářských studijních programech | J20: 45381 | K20: 42327 | L20: 40204 | M20: 37978 | N20: 36390 | O20: 36963 | P20: 36557 | Q20: 34196 | R20: 33839 | S20: 32488 | T20: 33118
F21: v magisterských studijních programech | J21: 1734 | K21: 1701 | L21: 1674 | M21: 1727 | N21: 1666 | O21: 1705 | P21: 1734 | Q21: 1816 | R21: 1924 | S21: 1840 | T21: 2024
F22: v navazujících magisterských studijních programech | J22: 21644 | K22: 22070 | L22: 21859 | M22: 20946 | N22: 20263 | O22: 20186 | P22: 19772 | Q22: 18613 | R22: 17756 | S22: 17970 | T22: 18636
F23: v doktorských studijních programech | J23: 11237 | K23: 10913 | L23: 9902 | M23: 8817 | N23: 7709 | O23: 7008 | P23: 6398 | Q23: 5742 | R23: 5432 | S23: 5012 | T23: 5453
D24: VŠ veřejné a soukromé – občané ČR celkem
E25: Celkem | J25: 284434 | K25: 267630 | L25: 255039 | M25: 245034 | N25: 242313 | O25: 249162 | P25: 251921 | Q25: 249716 | R25: 253180 | S25: 258822 | T25: 271597
E26: Prezenční studium celkem | J26: 211879 | K26: 197889 | L26: 188350 | M26: 182200 | N26: 182769 | O26: 190134 | P26: 194136 | Q26: 195697 | R26: 200774 | S26: 208076 | T26: 219627
F27: v bakalářských studijních programech | J27: 127925 | K27: 118039 | L27: 112772 | M27: 110575 | N27: 113314 | O27: 119099 | P27: 121859 | Q27: 123574 | R27: 127503 | S27: 133252 | T27: 142320
F28: v magisterských studijních programech | J28: 22868 | K28: 21947 | L28: 21736 | M28: 21607 | N28: 21793 | O28: 22364 | P28: 23080 | Q28: 23518 | R28: 24155 | S28: 24808 | T28: 25523
F29: v navazujících magisterských studijních programech | J29: 52170 | K29: 49361 | L29: 45357 | M29: 41418 | N29: 38841 | O29: 39183 | P29: 39761 | Q29: 39483 | R29: 40380 | S29: 42180 | T29: 44911
F30: v doktorských studijních programech | J30: 10362 | K30: 9895 | L30: 9664 | M30: 9688 | N30: 9880 | O30: 10661 | P30: 10637 | Q30: 10300 | R30: 9929 | S30: 9083 | T30: 8204
E31: Distanční a kombinované studium celkem | J31: 75049 | K31: 72049 | L31: 68755 | M31: 64656 | N31: 61409 | O31: 61119 | P31: 59876 | Q31: 55998 | R31: 54537 | S31: 52867 | T31: 54262
F32: v bakalářských studijních programech | J32: 43259 | K32: 40292 | L32: 38268 | M32: 36109 | N32: 34613 | O32: 35088 | P32: 34627 | Q32: 32319 | R32: 31887 | S32: 30507 | T32: 30978
F33: v magisterských studijních programech | J33: 1723 | K33: 1691 | L33: 1665 | M33: 1721 | N33: 1658 | O33: 1698 | P33: 1726 | Q33: 1812 | R33: 1922 | S33: 1835 | T33: 2013
F34: v navazujících magisterských studijních programech | J34: 20527 | K34: 20880 | L34: 20570 | M34: 19635 | N34: 18913 | O34: 18813 | P34: 18528 | Q34: 17415 | R34: 16597 | S34: 16800 | T34: 17302
F35: v doktorských studijních programech | J35: 9727 | K35: 9357 | L35: 8398 | M35: 7352 | N35: 6353 | O35: 5686 | P35: 5163 | Q35: 4586 | R35: 4290 | S35: 3868 | T35: 4143
D36: VŠ veřejné a soukromé – cizinci celkem
E37: Celkem | J37: 42007 | K37: 43429 | L37: 43643 | M37: 44640 | N37: 46282 | O37: 49838 | P37: 51718 | Q37: 54603 | R37: 55358 | S37: 55903 | T37: 58962
E38: Prezenční studium celkem | J38: 37401 | K38: 38806 | L38: 39049 | M38: 40097 | N38: 41918 | O38: 45403 | P38: 47414 | Q38: 50481 | R38: 51199 | S38: 51711 | T38: 54293
F39: v bakalářských studijních programech | J39: 20004 | K39: 20333 | L39: 19984 | M39: 20094 | N39: 21035 | O39: 23248 | P39: 24549 | Q39: 26856 | R39: 27707 | S39: 28451 | T39: 30776
F40: v magisterských studijních programech | J40: 7178 | K40: 7570 | L40: 7401 | M40: 7402 | N40: 7408 | O40: 7752 | P40: 7709 | Q40: 7893 | R40: 7902 | S40: 8064 | T40: 8211
F41: v navazujících magisterských studijních programech | J41: 8069 | K41: 8640 | L41: 9192 | M41: 9822 | N41: 10256 | O41: 10544 | P41: 10923 | Q41: 11385 | R41: 11263 | S41: 11110 | T41: 11608
F42: v doktorských studijních programech | J42: 2303 | K42: 2411 | L42: 2603 | M42: 2879 | N42: 3321 | O42: 3979 | P42: 4341 | Q42: 4476 | R42: 4426 | S42: 4190 | T42: 3800
E43: Distanční a kombinované studium celkem | J43: 4754 | K43: 4789 | L43: 4735 | M43: 4651 | N43: 4487 | O43: 4562 | P43: 4408 | Q43: 4227 | R43: 4248 | S43: 4290 | T43: 4788
F44: v bakalářských studijních programech | J44: 2122 | K44: 2036 | L44: 1939 | M44: 1870 | N44: 1778 | O44: 1875 | P44: 1932 | Q44: 1877 | R44: 1953 | S44: 1981 | T44: 2140
F45: v magisterských studijních programech | J45: 11 | K45: 10 | L45: 9 | M45: 6 | N45: 8 | O45: 7 | P45: 8 | Q45: 4 | R45: 2 | S45: 5 | T45: 11
F46: v navazujících magisterských studijních programech | J46: 1117 | K46: 1191 | L46: 1289 | M46: 1311 | N46: 1350 | O46: 1373 | P46: 1244 | Q46: 1198 | R46: 1159 | S46: 1170 | T46: 1335
F47: v doktorských studijních programech | J47: 1510 | K47: 1556 | L47: 1504 | M47: 1465 | N47: 1356 | O47: 1322 | P47: 1235 | Q47: 1157 | R47: 1142 | S47: 1144 | T47: 1310
D48: Komentáře: | T48: Zdroj: databáze MŠMT
E49: Data bez škol jiných resortů.
E50: Údaje ve fyzických osobách k 31. 12. daného roku, podle stavu SIMS k 20. 1. 2026.

Sheet B7.3.3
D4: Tab. B7.3.3: | H4: VŠ – počty poprvé zapsaných studentů podle formy studia a typu
D5: studijního programu v letech 2015 až 2025 – podle státního občanství
D7: Státní občanství Forma studia Typ studiního programu | J7: 2015 | K7: 2016 | L7: 2017 | M7: 2018 | N7: 2019 | O7: 2020 | P7: 2021 | Q7: 2022 | R7: 2023 | S7: 2024 | T7: 2025
D12: VŠ veřejné a soukromé celkem
E13: Celkem | J13: 55600 | K13: 53563 | L13: 53335 | M13: 53837 | N13: 56896 | O13: 61132 | P13: 61670 | Q13: 60641 | R13: 62323 | S13: 64835 | T13: 71305
E14: Prezenční studium celkem | J14: 46334 | K14: 44945 | L14: 44778 | M14: 46068 | N14: 49108 | O14: 53001 | P14: 53389 | Q14: 53846 | R14: 55266 | S14: 58072 | T14: 64005
F15: v bakalářských studijních programech | J15: 42417 | K15: 40887 | L15: 40737 | M15: 41961 | N15: 44737 | O15: 48516 | P15: 48722 | Q15: 49031 | R15: 50421 | S15: 53115 | T15: 59078
F16: v magisterských studijních programech | J16: 5749 | K16: 5747 | L16: 5740 | M16: 5867 | N16: 6183 | O16: 6426 | P16: 6550 | Q16: 6742 | R16: 6790 | S16: 6929 | T16: 7019
F17: v navazujících magisterských studijních programech | J17: 24457 | K17: 23767 | L17: 21571 | M17: 20424 | N17: 19926 | O17: 21040 | P17: 21226 | Q17: 20672 | R17: 21824 | S17: 22665 | T17: 24624
F18: v doktorských studijních programech | J18: 3444 | K18: 3368 | L18: 3173 | M18: 3265 | N18: 3408 | O18: 3484 | P18: 3181 | Q18: 2864 | R18: 2745 | S18: 2650 | T18: 2015
E19: Distanční a kombinované studium celkem | J19: 9275 | K19: 8633 | L19: 8574 | M19: 7777 | N19: 7800 | O19: 8143 | P19: 8298 | Q19: 6818 | R19: 7077 | S19: 6795 | T19: 7347
F20: v bakalářských studijních programech | J20: 9875 | K20: 9102 | L20: 8959 | M20: 8100 | N20: 8146 | O20: 8546 | P20: 8688 | Q20: 7074 | R20: 7365 | S20: 7097 | T20: 7525
F21: v magisterských studijních programech | J21: 266 | K21: 288 | L21: 344 | M21: 396 | N21: 363 | O21: 329 | P21: 340 | Q21: 389 | R21: 373 | S21: 362 | T21: 478
F22: v navazujících magisterských studijních programech | J22: 8457 | K22: 8569 | L22: 8095 | M22: 7522 | N22: 7301 | O22: 7357 | P22: 7113 | Q22: 6074 | R22: 6274 | S22: 6565 | T22: 6976
F23: v doktorských studijních programech | J23: 1195 | K23: 1038 | L23: 933 | M23: 861 | N23: 752 | O23: 835 | P23: 785 | Q23: 638 | R23: 670 | S23: 664 | T23: 959
D24: VŠ veřejné a soukromé – občané ČR celkem
E25: Celkem | J25: 46957 | K25: 45073 | L25: 45873 | M25: 45431 | N25: 47784 | O25: 50645 | P25: 51073 | Q25: 48239 | R25: 51330 | S25: 53921 | T25: 58315
E26: Prezenční studium celkem | J26: 38234 | K26: 36955 | L26: 37792 | M26: 38135 | N26: 40466 | O26: 43030 | P26: 43373 | Q26: 41982 | R26: 44863 | S26: 47711 | T26: 51682
F27: v bakalářských studijních programech | J27: 35810 | K27: 34468 | L27: 35060 | M27: 35422 | N27: 37468 | O27: 40144 | P27: 40168 | Q27: 38876 | R27: 41539 | S27: 44320 | T27: 48372
F28: v magisterských studijních programech | J28: 4089 | K28: 4018 | L28: 4285 | M28: 4329 | N28: 4643 | O28: 4653 | P28: 4912 | Q28: 4871 | R28: 5084 | S28: 5200 | T28: 5239
F29: v navazujících magisterských studijních programech | J29: 20789 | K29: 19819 | L29: 17490 | M29: 16122 | N29: 15562 | O29: 16624 | P29: 16380 | Q29: 15754 | R29: 17112 | S29: 18085 | T29: 19494
F30: v doktorských studijních programech | J30: 2713 | K30: 2634 | L30: 2412 | M30: 2402 | N30: 2352 | O30: 2375 | P30: 2126 | Q30: 1931 | R30: 1943 | S30: 1776 | T30: 1371
E31: Distanční a kombinované studium celkem | J31: 8732 | K31: 8132 | L31: 8097 | M31: 7304 | N31: 7330 | O31: 7626 | P31: 7717 | Q31: 6280 | R31: 6486 | S31: 6242 | T31: 6678
F32: v bakalářských studijních programech | J32: 9309 | K32: 8578 | L32: 8451 | M32: 7618 | N32: 7665 | O32: 8015 | P32: 8087 | Q32: 6525 | R32: 6753 | S32: 6528 | T32: 6846
F33: v magisterských studijních programech | J33: 266 | K33: 287 | L33: 343 | M33: 396 | N33: 362 | O33: 327 | P33: 336 | Q33: 387 | R33: 373 | S33: 359 | T33: 471
F34: v navazujících magisterských studijních programech | J34: 8039 | K34: 8064 | L34: 7556 | M34: 7035 | N34: 6788 | O34: 6819 | P34: 6680 | Q34: 5664 | R34: 5844 | S34: 6055 | T34: 6367
F35: v doktorských studijních programech | J35: 958 | K35: 826 | L35: 723 | M35: 614 | N35: 560 | O35: 567 | P35: 544 | Q35: 450 | R35: 498 | S35: 459 | T35: 681
D36: VŠ veřejné a soukromé – cizinci celkem
E37: Celkem | J37: 8643 | K37: 8490 | L37: 7462 | M37: 8406 | N37: 9113 | O37: 10488 | P37: 10597 | Q37: 12403 | R37: 10993 | S37: 10914 | T37: 12990
E38: Prezenční studium celkem | J38: 8100 | K38: 7990 | L38: 6986 | M38: 7933 | N38: 8643 | O38: 9972 | P38: 10016 | Q38: 11865 | R38: 10403 | S38: 10361 | T38: 12323
F39: v bakalářských studijních programech | J39: 6607 | K39: 6419 | L39: 5677 | M39: 6539 | N39: 7269 | O39: 8373 | P39: 8554 | Q39: 10156 | R39: 8882 | S39: 8795 | T39: 10706
F40: v magisterských studijních programech | J40: 1660 | K40: 1729 | L40: 1455 | M40: 1538 | N40: 1540 | O40: 1773 | P40: 1638 | Q40: 1871 | R40: 1706 | S40: 1729 | T40: 1780
F41: v navazujících magisterských studijních programech | J41: 3668 | K41: 3948 | L41: 4081 | M41: 4302 | N41: 4364 | O41: 4416 | P41: 4846 | Q41: 4918 | R41: 4712 | S41: 4580 | T41: 5130
F42: v doktorských studijních programech | J42: 731 | K42: 734 | L42: 761 | M42: 863 | N42: 1056 | O42: 1109 | P42: 1055 | Q42: 933 | R42: 802 | S42: 874 | T42: 644
E43: Distanční a kombinované studium celkem | J43: 543 | K43: 501 | L43: 477 | M43: 473 | N43: 470 | O43: 517 | P43: 581 | Q43: 538 | R43: 591 | S43: 553 | T43: 669
F44: v bakalářských studijních programech | J44: 566 | K44: 524 | L44: 508 | M44: 482 | N44: 481 | O44: 531 | P44: 601 | Q44: 549 | R44: 612 | S44: 569 | T44: 679
F45: v magisterských studijních programech | J45: 0 | K45: 1 | L45: 1 | M45: 0 | N45: 1 | O45: 2 | P45: 4 | Q45: 2 | R45: 0 | S45: 3 | T45: 7
F46: v navazujících magisterských studijních programech | J46: 418 | K46: 505 | L46: 539 | M46: 487 | N46: 513 | O46: 538 | P46: 433 | Q46: 410 | R46: 430 | S46: 510 | T46: 609
F47: v doktorských studijních programech | J47: 237 | K47: 212 | L47: 210 | M47: 247 | N47: 192 | O47: 268 | P47: 241 | Q47: 188 | R47: 172 | S47: 205 | T47: 278
D48: Komentáře: | T48: Zdroj: databáze MŠMT
E49: Data bez škol jiných resortů.
E50: Do celkového počtu poprvé zapsaných nejsou započteni poprvé zapsaní do navazujících magisterských a doktorských studijních programů.
E51: Údaje ve fyzických osobách k 31. 12. daného roku, podle stavu SIMS k 20. 1. 2026.

Sheet B7.3.4
D4: Tab. B7.3.4: | H4: VŠ – počty absolventů podle formy studia a typu studijního programu
D5: v letech 2015 až 2025 – podle státního občanství
D7: Státní občanství Forma studia Typ studiního programu | J7: 2015 | K7: 2016 | L7: 2017 | M7: 2018 | N7: 2019 | O7: 2020 | P7: 2021 | Q7: 2022 | R7: 2023 | S7: 2024 | T7: 2025
D12: VŠ veřejné a soukromé celkem
E13: Celkem | J13: 82039 | K13: 77382 | L13: 72084 | M13: 68574 | N13: 64257 | O13: 62961 | P13: 60598 | Q13: 58722 | R13: 63231 | S13: 66396 | T13: 69076
E14: Prezenční studium celkem | J14: 60682 | K14: 58796 | L14: 54775 | M14: 52253 | N14: 49046 | O14: 48131 | P14: 46988 | Q14: 46720 | R14: 50295 | S14: 52722 | T14: 56237
F15: v bakalářských studijních programech | J15: 32905 | K15: 31780 | L15: 28901 | M15: 27234 | N15: 25511 | O15: 25608 | P15: 25620 | Q15: 25342 | R15: 27710 | S15: 29177 | T15: 31786
F16: v magisterských studijních programech | J16: 4760 | K16: 4681 | L16: 4519 | M16: 4334 | N16: 4342 | O16: 4180 | P16: 4078 | Q16: 4165 | R16: 4276 | S16: 4415 | T16: 4513
F17: v navazujících magisterských studijních programech | J17: 22517 | K17: 21817 | L17: 20778 | M17: 20032 | N17: 18463 | O17: 17631 | P17: 16394 | Q17: 16184 | R17: 17009 | S17: 17396 | T17: 18466
F18: v doktorských studijních programech | J18: 554 | K18: 568 | L18: 612 | M18: 684 | N18: 762 | O18: 737 | P18: 914 | Q18: 1045 | R18: 1320 | S18: 1752 | T18: 1490
E19: Distanční a kombinované studium celkem | J19: 21437 | K19: 18663 | L19: 17392 | M19: 16386 | N19: 15271 | O19: 14879 | P19: 13651 | Q19: 12042 | R19: 12985 | S19: 13737 | T19: 12902
F20: v bakalářských studijních programech | J20: 10680 | K20: 9313 | L20: 8254 | M20: 7578 | N20: 7046 | O20: 6942 | P20: 6280 | Q20: 5698 | R20: 6059 | S20: 6515 | T20: 6192
F21: v magisterských studijních programech | J21: 241 | K21: 218 | L21: 224 | M21: 205 | N21: 228 | O21: 224 | P21: 175 | Q21: 193 | R21: 192 | S21: 339 | T21: 229
F22: v navazujících magisterských studijních programech | J22: 8668 | K22: 7362 | L22: 7140 | M22: 6919 | N22: 6454 | O22: 6607 | P22: 6030 | Q22: 5153 | R22: 5779 | S22: 5491 | T22: 5761
F23: v doktorských studijních programech | J23: 1856 | K23: 1775 | L23: 1776 | M23: 1688 | N23: 1547 | O23: 1109 | P23: 1170 | Q23: 999 | R23: 960 | S23: 1394 | T23: 724
D24: VŠ veřejné a soukromé – občané ČR celkem
E25: Celkem | J25: 74121 | K25: 69293 | L25: 63803 | M25: 59993 | N25: 55412 | O25: 54046 | P25: 51671 | Q25: 50046 | R25: 53762 | S25: 56357 | T25: 57929
E26: Prezenční studium celkem | J26: 54091 | K26: 51736 | L26: 47451 | M26: 44550 | N26: 41102 | O26: 40067 | P26: 38961 | Q26: 38726 | R26: 41608 | S26: 43597 | T26: 45961
F27: v bakalářských studijních programech | J27: 29665 | K27: 28236 | L27: 25365 | M27: 23413 | N27: 21760 | O27: 22064 | P27: 22120 | Q27: 21716 | R27: 23738 | S27: 25022 | T27: 26687
F28: v magisterských studijních programech | J28: 3948 | K28: 3842 | L28: 3515 | M28: 3439 | N28: 3376 | O28: 3145 | P28: 3041 | Q28: 3109 | R28: 3263 | S28: 3454 | T28: 3459
F29: v navazujících magisterských studijních programech | J29: 20064 | K29: 19240 | L29: 18131 | M29: 17190 | N29: 15413 | O29: 14323 | P29: 13144 | Q29: 13178 | R29: 13702 | S29: 13933 | T29: 14894
F30: v doktorských studijních programech | J30: 464 | K30: 464 | L30: 470 | M30: 537 | N30: 583 | O30: 557 | P30: 669 | Q30: 738 | R30: 924 | S30: 1205 | T30: 939
E31: Distanční a kombinované studium celkem | J31: 20105 | K31: 17627 | L31: 16431 | M31: 15500 | N31: 14366 | O31: 14024 | P31: 12749 | Q31: 11355 | R31: 12202 | S31: 12820 | T31: 12029
F32: v bakalářských studijních programech | J32: 10172 | K32: 8902 | L32: 7904 | M32: 7299 | N32: 6738 | O32: 6661 | P32: 5995 | Q32: 5467 | R32: 5760 | S32: 6215 | T32: 5864
F33: v magisterských studijních programech | J33: 239 | K33: 216 | L33: 223 | M33: 204 | N33: 227 | O33: 223 | P33: 174 | Q33: 190 | R33: 191 | S33: 339 | T33: 229
F34: v navazujících magisterských studijních programech | J34: 8092 | K34: 6992 | L34: 6784 | M34: 6568 | N34: 6082 | O34: 6218 | P34: 5623 | Q34: 4861 | R34: 5472 | S34: 5144 | T34: 5400
F35: v doktorských studijních programech | J35: 1610 | K35: 1522 | L35: 1522 | M35: 1433 | N35: 1323 | O35: 925 | P35: 961 | Q35: 837 | R35: 784 | S35: 1124 | T35: 540
D36: VŠ veřejné a soukromé – cizinci celkem
E37: Celkem | J37: 7918 | K37: 8089 | L37: 8282 | M37: 8581 | N37: 8846 | O37: 8915 | P37: 8927 | Q37: 8676 | R37: 9469 | S37: 10040 | T37: 11147
E38: Prezenční studium celkem | J38: 6591 | K38: 7060 | L38: 7324 | M38: 7703 | N38: 7945 | O38: 8064 | P38: 8027 | Q38: 7994 | R38: 8687 | S38: 9125 | T38: 10276
F39: v bakalářských studijních programech | J39: 3240 | K39: 3544 | L39: 3536 | M39: 3821 | N39: 3751 | O39: 3544 | P39: 3500 | Q39: 3626 | R39: 3972 | S39: 4155 | T39: 5099
F40: v magisterských studijních programech | J40: 812 | K40: 839 | L40: 1004 | M40: 895 | N40: 966 | O40: 1035 | P40: 1037 | Q40: 1056 | R40: 1013 | S40: 961 | T40: 1054
F41: v navazujících magisterských studijních programech | J41: 2453 | K41: 2577 | L41: 2647 | M41: 2842 | N41: 3050 | O41: 3308 | P41: 3250 | Q41: 3006 | R41: 3307 | S41: 3463 | T41: 3572
F42: v doktorských studijních programech | J42: 90 | K42: 104 | L42: 142 | M42: 147 | N42: 179 | O42: 180 | P42: 245 | Q42: 307 | R42: 396 | S42: 547 | T42: 551
E43: Distanční a kombinované studium celkem | J43: 1332 | K43: 1036 | L43: 961 | M43: 886 | N43: 905 | O43: 855 | P43: 902 | Q43: 687 | R43: 783 | S43: 917 | T43: 873
F44: v bakalářských studijních programech | J44: 508 | K44: 411 | L44: 350 | M44: 279 | N44: 308 | O44: 281 | P44: 285 | Q44: 231 | R44: 299 | S44: 300 | T44: 328
F45: v magisterských studijních programech | J45: 2 | K45: 2 | L45: 1 | M45: 1 | N45: 1 | O45: 1 | P45: 1 | Q45: 3 | R45: 1 | S45: 0 | T45: 0
F46: v navazujících magisterských studijních programech | J46: 576 | K46: 370 | L46: 356 | M46: 351 | N46: 372 | O46: 389 | P46: 407 | Q46: 292 | R46: 307 | S46: 347 | T46: 361
F47: v doktorských studijních programech | J47: 246 | K47: 253 | L47: 254 | M47: 255 | N47: 224 | O47: 184 | P47: 209 | Q47: 162 | R47: 176 | S47: 270 | T47: 184
D48: Komentáře: | T48: Zdroj: databáze MŠMT
E49: Data bez škol jiných resortů.
E50: Údaje ve fyzických osobách k 31. 12. daného roku, podle stavu SIMS k 20. 1. 2026.

Sheet B7.3.5
D4: Tab. B7.3.5: | H4: Veřejné a soukromé VŠ – počty studentů podle formy studia a typu studijního programu
D5: v letech 2015 až 2025 – podle státního občanství
D7: Státní občanství | J7: Prezenční studium v programu studia | O7: Distanční a kombinované studium v programu studia | T7: Celkem v programu studia
J9: celkem | K9: bakalář-ském | L9: magis-terském | M9: mag. navazu-jícím | N9: doktor-ském | O9: celkem | P9: bakalář-ském | Q9: magis-terském | R9: mag. navazu-jícím | S9: doktor-ském | T9: celkem | U9: bakalář-ském | V9: magis-terském | W9: mag. navazu-jícím | X9: doktor-ském
D12: 2015
E13: Se státním občanstvím ČR | J13: 211879 | K13: 127925 | L13: 22868 | M13: 52170 | N13: 10362 | O13: 75049 | P13: 43259 | Q13: 1723 | R13: 20527 | S13: 9727 | T13: 284434 | U13: 170219 | V13: 24581 | W13: 72190 | X13: 20058
E14: S cizím státním občanstvím | J14: 37401 | K14: 20004 | L14: 7178 | M14: 8069 | N14: 2303 | O14: 4754 | P14: 2122 | Q14: 11 | R14: 1117 | S14: 1510 | T14: 42007 | U14: 22062 | V14: 7189 | W14: 9160 | X14: 3803
E15: Celkem | J15: 249267 | K15: 147923 | L15: 30046 | M15: 60238 | N15: 12665 | O15: 79803 | P15: 45381 | Q15: 1734 | R15: 21644 | S15: 11237 | T15: 326423 | U15: 192271 | V15: 31770 | W15: 81349 | X15: 23861
D16: 2016
E17: Se státním občanstvím ČR | J17: 197889 | K17: 118039 | L17: 21947 | M17: 49361 | N17: 9895 | O17: 72049 | P17: 40292 | Q17: 1691 | R17: 20880 | S17: 9357 | T17: 267630 | U17: 157451 | V17: 23631 | W17: 69771 | X17: 19219
E18: S cizím státním občanstvím | J18: 38806 | K18: 20333 | L18: 7570 | M18: 8640 | N18: 2411 | O18: 4789 | P18: 2036 | Q18: 10 | R18: 1191 | S18: 1556 | T18: 43429 | U18: 22304 | V18: 7580 | W18: 9797 | X18: 3960
E19: Celkem | J19: 236688 | K19: 138368 | L19: 29517 | M19: 58001 | N19: 12306 | O19: 76834 | P19: 42327 | Q19: 1701 | R19: 22070 | S19: 10913 | T19: 311045 | U19: 179748 | V19: 31211 | W19: 79567 | X19: 23179
D20: 2017
E21: Se státním občanstvím ČR | J21: 188350 | K21: 112772 | L21: 21736 | M21: 45357 | N21: 9664 | O21: 68755 | P21: 38268 | Q21: 1665 | R21: 20570 | S21: 8398 | T21: 255039 | U21: 150246 | V21: 23397 | W21: 65492 | X21: 18030
E22: S cizím státním občanstvím | J22: 39049 | K22: 19984 | L22: 7401 | M22: 9192 | N22: 2603 | O22: 4735 | P22: 1939 | Q22: 9 | R22: 1289 | S22: 1504 | T22: 43643 | U22: 21877 | V22: 7410 | W22: 10437 | X22: 4102
E23: Celkem | J23: 227393 | K23: 132752 | L23: 29137 | M23: 54549 | N23: 12267 | O23: 73487 | P23: 40204 | Q23: 1674 | R23: 21859 | S23: 9902 | T23: 298665 | U23: 172112 | V23: 30807 | W23: 75926 | X23: 22132
D24: 2018
E25: Se státním občanstvím ČR | J25: 182200 | K25: 110575 | L25: 21607 | M25: 41418 | N25: 9688 | O25: 64656 | P25: 36109 | Q25: 1721 | R25: 19635 | S25: 7352 | T25: 245034 | U25: 145990 | V25: 23323 | W25: 60684 | X25: 17006
E26: S cizím státním občanstvím | J26: 40097 | K26: 20094 | L26: 7402 | M26: 9822 | N26: 2879 | O26: 4651 | P26: 1870 | Q26: 6 | R26: 1311 | S26: 1465 | T26: 44640 | U26: 21929 | V26: 7408 | W26: 11107 | X26: 4336
E27: Celkem | J27: 222291 | K27: 130665 | L27: 29009 | M27: 51240 | N27: 12566 | O27: 69305 | P27: 37978 | Q27: 1727 | R27: 20946 | S27: 8817 | T27: 289659 | U27: 167910 | V27: 30731 | W27: 71791 | X27: 21341
D28: 2019
E29: Se státním občanstvím ČR | J29: 182769 | K29: 113314 | L29: 21793 | M29: 38841 | N29: 9880 | O29: 61409 | P29: 34613 | Q29: 1658 | R29: 18913 | S29: 6353 | T29: 242313 | U29: 147265 | V29: 23447 | W29: 57337 | X29: 16205
E30: S cizím státním občanstvím | J30: 41918 | K30: 21035 | L30: 7408 | M30: 10256 | N30: 3321 | O30: 4487 | P30: 1778 | Q30: 8 | R30: 1350 | S30: 1356 | T30: 46282 | U30: 22777 | V30: 7416 | W30: 11572 | X30: 4672
E31: Celkem | J31: 224684 | K31: 134348 | L31: 29201 | M31: 49097 | N31: 13201 | O31: 65894 | P31: 36390 | Q31: 1666 | R31: 20263 | S31: 7709 | T31: 288587 | U31: 170039 | V31: 30863 | W31: 68909 | X31: 20876
D32: 2020
E33: Se státním občanstvím ČR | J33: 190134 | K33: 119099 | L33: 22364 | M33: 39183 | N33: 10661 | O33: 61119 | P33: 35088 | Q33: 1698 | R33: 18813 | S33: 5686 | T33: 249162 | U33: 153413 | V33: 24057 | W33: 57527 | X33: 16309
E34: S cizím státním občanstvím | J34: 45403 | K34: 23248 | L34: 7752 | M34: 10544 | N34: 3979 | O34: 4562 | P34: 1875 | Q34: 7 | R34: 1373 | S34: 1322 | T34: 49838 | U34: 25089 | V34: 7759 | W34: 11887 | X34: 5293
E35: Celkem | J35: 235527 | K35: 142341 | L35: 30116 | M35: 49727 | N35: 14639 | O35: 65681 | P35: 36963 | Q35: 1705 | R35: 20186 | S35: 7008 | T35: 298986 | U35: 178495 | V35: 31816 | W35: 69413 | X35: 21600
D36: 2021
E37: Se státním občanstvím ČR | J37: 194136 | K37: 121859 | L37: 23080 | M37: 39761 | N37: 10637 | O37: 59876 | P37: 34627 | Q37: 1726 | R37: 18528 | S37: 5163 | T37: 251921 | U37: 155676 | V37: 24802 | W37: 57820 | X37: 15766
E38: S cizím státním občanstvím | J38: 47414 | K38: 24549 | L38: 7709 | M38: 10923 | N38: 4341 | O38: 4408 | P38: 1932 | Q38: 8 | R38: 1244 | S38: 1235 | T38: 51718 | U38: 26455 | V38: 7717 | W38: 12141 | X38: 5573
E39: Celkem | J39: 241546 | K39: 146404 | L39: 30789 | M39: 50684 | N39: 14978 | O39: 64282 | P39: 36557 | Q39: 1734 | R39: 19772 | S39: 6398 | T39: 303625 | U39: 182124 | V39: 32519 | W39: 69955 | X39: 21338
D40: 2022
E41: Se státním občanstvím ČR | J41: 195697 | K41: 123574 | L41: 23518 | M41: 39483 | N41: 10300 | O41: 55998 | P41: 32319 | Q41: 1812 | R41: 17415 | S41: 4586 | T41: 249716 | U41: 155133 | V41: 25328 | W41: 56493 | X41: 14854
E42: S cizím státním občanstvím | J42: 50481 | K42: 26856 | L42: 7893 | M42: 11385 | N42: 4476 | O42: 4227 | P42: 1877 | Q42: 4 | R42: 1198 | S42: 1157 | T42: 54603 | U42: 28699 | V42: 7897 | W42: 12556 | X42: 5628
E43: Celkem | J43: 246168 | K43: 150423 | L43: 31411 | M43: 50866 | N43: 14776 | O43: 60224 | P43: 34196 | Q43: 1816 | R43: 18613 | S43: 5742 | T43: 304303 | U43: 183825 | V43: 33225 | W43: 69046 | X43: 20479
D44: 2023
E45: Se státním občanstvím ČR | J45: 200774 | K45: 127503 | L45: 24155 | M45: 40380 | N45: 9929 | O45: 54537 | P45: 31887 | Q45: 1922 | R45: 16597 | S45: 4290 | T45: 253180 | U45: 158560 | V45: 26073 | W45: 56558 | X45: 14192
E46: S cizím státním občanstvím | J46: 51199 | K46: 27707 | L46: 7902 | M46: 11263 | N46: 4426 | O46: 4248 | P46: 1953 | Q46: 2 | R46: 1159 | S46: 1142 | T46: 55358 | U46: 29627 | V46: 7904 | W46: 12394 | X46: 5563
E47: Celkem | J47: 251960 | K47: 155199 | L47: 32057 | M47: 51642 | N47: 14355 | O47: 58784 | P47: 33839 | Q47: 1924 | R47: 17756 | S47: 5432 | T47: 308518 | U47: 188172 | V47: 33977 | W47: 68950 | X47: 19754
D48: 2024
E49: Se státním občanstvím ČR | J49: 208076 | K49: 133252 | L49: 24808 | M49: 42180 | N49: 9083 | O49: 52867 | P49: 30507 | Q49: 1835 | R49: 16800 | S49: 3868 | T49: 258822 | U49: 162965 | V49: 26638 | W49: 58525 | X49: 12937
E50: S cizím státním občanstvím | J50: 51711 | K50: 28451 | L50: 8064 | M50: 11110 | N50: 4190 | O50: 4290 | P50: 1981 | Q50: 5 | R50: 1170 | S50: 1144 | T50: 55903 | U50: 30396 | V50: 8069 | W50: 12257 | X50: 5330
E51: Celkem | J51: 259782 | K51: 161698 | L51: 32872 | M51: 53290 | N51: 13273 | O51: 57156 | P51: 32488 | Q51: 1840 | R51: 17970 | S51: 5012 | T51: 314715 | U51: 193355 | V51: 34707 | W51: 70782 | X51: 18267
D52: 2025
E53: Se státním občanstvím ČR | J53: 219627 | K53: 142320 | L53: 25523 | M53: 44911 | N53: 8204 | O53: 54262 | P53: 30978 | Q53: 2013 | R53: 17302 | S53: 4143 | T53: 271597 | U53: 172430 | V53: 27534 | W53: 61679 | X53: 12333
E54: S cizím státním občanstvím | J54: 54293 | K54: 30776 | L54: 8211 | M54: 11608 | N54: 3800 | O54: 4788 | P54: 2140 | Q54: 11 | R54: 1335 | S54: 1310 | T54: 58962 | U54: 32881 | V54: 8222 | W54: 12909 | X54: 5107
E55: Celkem | J55: 273915 | K55: 173094 | L55: 33734 | M55: 56519 | N55: 12004 | O55: 59048 | P55: 33118 | Q55: 2024 | R55: 18636 | S55: 5453 | T55: 330547 | U55: 205307 | V55: 35756 | W55: 74586 | X55: 17440
D56: Komentáře: | X56: Zdroj: databáze MŠMT
E57: Data bez škol jiných resortů.
E58: Údaje ve fyzických osobách k 31. 12. daného roku, podle stavu SIMS k 20. 1. 2026.

Sheet B7.3.5.1
D4: Tab. B7.3.5.1: | H4: Veřejné VŠ – počty studentů podle formy studia a typu studijního programu
D5: v letech 2015 až 2025 – podle státního občanství
D7: Státní občanství | J7: Prezenční studium v programu studia | O7: Distanční a kombinované studium v programu studia | T7: Celkem v programu studia
J9: celkem | K9: bakalář-ském | L9: magis-terském | M9: mag. navazu-jícím | N9: doktor-ském | O9: celkem | P9: bakalář-ském | Q9: magis-terském | R9: mag. navazu-jícím | S9: doktor-ském | T9: celkem | U9: bakalář-ském | V9: magis-terském | W9: mag. navazu-jícím | X9: doktor-ském
D12: 2015
E13: Se státním občanstvím ČR | J13: 199626 | K13: 118235 | L13: 22868 | M13: 49604 | N13: 10333 | O13: 59328 | P13: 32622 | Q13: 1723 | R13: 15478 | S13: 9675 | T13: 256681 | U13: 149999 | V13: 24581 | W13: 64641 | X13: 19978
E14: S cizím státním občanstvím | J14: 32641 | K14: 16138 | L14: 7178 | M14: 7170 | N14: 2299 | O14: 3238 | P14: 1145 | Q14: 11 | R14: 580 | S14: 1508 | T14: 35763 | U14: 17242 | V14: 7189 | W14: 7730 | X14: 3797
E15: Celkem | J15: 232259 | K15: 134370 | L15: 30046 | M15: 56773 | N15: 12632 | O15: 62566 | P15: 33767 | Q15: 1734 | R15: 16058 | S15: 11183 | T15: 292432 | U15: 167235 | V15: 31770 | W15: 72370 | X15: 23775
D16: 2016
E17: Se státním občanstvím ČR | J17: 187085 | K17: 109472 | L17: 21947 | M17: 47129 | N17: 9864 | O17: 57544 | P17: 30466 | Q17: 1691 | R17: 16222 | S17: 9312 | T17: 242536 | U17: 139180 | V17: 23631 | W17: 62933 | X17: 19144
E18: S cizím státním občanstvím | J18: 34378 | K18: 16784 | L18: 7570 | M18: 7757 | N18: 2406 | O18: 3390 | P18: 1145 | Q18: 10 | R18: 688 | S18: 1550 | T18: 37645 | U18: 17890 | V18: 7580 | W18: 8421 | X18: 3949
E19: Celkem | J19: 221458 | K19: 126254 | L19: 29517 | M19: 54886 | N19: 12270 | O19: 60931 | P19: 31611 | Q19: 1701 | R19: 16909 | S19: 10862 | T19: 280170 | U19: 157066 | V19: 31211 | W19: 71353 | X19: 23093
D20: 2017
E21: Se státním občanstvím ČR | J21: 178189 | K21: 104530 | L21: 21736 | M21: 43440 | N21: 9634 | O21: 55200 | P21: 29133 | Q21: 1665 | R21: 16172 | S21: 8356 | T21: 231482 | U21: 132947 | V21: 23397 | W21: 59208 | X21: 17958
E22: S cizím státním občanstvím | J22: 34662 | K22: 16502 | L22: 7401 | M22: 8284 | N22: 2598 | O22: 3430 | P22: 1108 | Q22: 9 | R22: 819 | S22: 1500 | T22: 37988 | U22: 17582 | V22: 7410 | W22: 9071 | X22: 4093
E23: Celkem | J23: 212846 | K23: 121029 | L23: 29137 | M23: 51724 | N23: 12232 | O23: 58629 | P23: 30240 | Q23: 1674 | R23: 16991 | S23: 9856 | T23: 269460 | U23: 150524 | V23: 30807 | W23: 68277 | X23: 22051
D24: 2018
E25: Se státním občanstvím ČR | J25: 172504 | K25: 102515 | L25: 21607 | M25: 39786 | N25: 9660 | O25: 51629 | P25: 27363 | Q25: 1721 | R25: 15362 | S25: 7318 | T25: 222471 | U25: 129275 | V25: 23323 | W25: 54805 | X25: 16944
E26: S cizím státním občanstvím | J26: 35818 | K26: 16659 | L26: 7402 | M26: 8977 | N26: 2874 | O26: 3378 | P26: 1033 | Q26: 6 | R26: 876 | S26: 1464 | T26: 39105 | U26: 17669 | V26: 7408 | W26: 9830 | X26: 4330
E27: Celkem | J27: 208318 | K27: 119172 | L27: 29009 | M27: 48763 | N27: 12533 | O27: 55006 | P27: 28396 | Q27: 1727 | R27: 16238 | S27: 8782 | T27: 261568 | U27: 146941 | V27: 30731 | W27: 64635 | X27: 21273
D28: 2019
E29: Se státním občanstvím ČR | J29: 173227 | K29: 105225 | L29: 21793 | M29: 37388 | N29: 9853 | O29: 48870 | P29: 26127 | Q29: 1658 | R29: 14872 | S29: 6322 | T29: 220411 | U29: 130790 | V29: 23447 | W29: 51881 | X29: 16147
E30: S cizím státním občanstvím | J30: 37538 | K30: 17447 | L30: 7408 | M30: 9461 | N30: 3318 | O30: 3274 | P30: 986 | Q30: 8 | R30: 933 | S30: 1351 | T30: 40715 | U30: 18411 | V30: 7416 | W30: 10367 | X30: 4664
E31: Celkem | J31: 210764 | K31: 122672 | L31: 29201 | M31: 46849 | N31: 13171 | O31: 52143 | P31: 27113 | Q31: 1666 | R31: 15805 | S31: 7673 | T31: 261122 | U31: 149200 | V31: 30863 | W31: 62248 | X31: 20810
D32: 2020
E33: Se státním občanstvím ČR | J33: 180008 | K33: 110467 | L33: 22364 | M33: 37685 | N33: 10638 | O33: 49359 | P33: 26974 | Q33: 1698 | R33: 15182 | S33: 5651 | T33: 227463 | U33: 136775 | V33: 24057 | W33: 52428 | X33: 16251
E34: S cizím státním občanstvím | J34: 41340 | K34: 19895 | L34: 7752 | M34: 9832 | N34: 3973 | O34: 3403 | P34: 1108 | Q34: 7 | R34: 994 | S34: 1306 | T34: 44638 | U34: 20981 | V34: 7759 | W34: 10803 | X34: 5271
E35: Celkem | J35: 221341 | K35: 130359 | L35: 30116 | M35: 47517 | N35: 14610 | O35: 52762 | P35: 28082 | Q35: 1705 | R35: 16176 | S35: 6957 | T35: 272092 | U35: 157753 | V35: 31816 | W35: 63231 | X35: 21520
D36: 2021
E37: Se státním občanstvím ČR | J37: 183347 | K37: 112638 | L37: 23080 | M37: 38184 | N37: 10616 | O37: 47900 | P37: 26095 | Q37: 1726 | R37: 15091 | S37: 5130 | T37: 229346 | U37: 138039 | V37: 24802 | W37: 52842 | X37: 15712
E38: S cizím státním občanstvím | J38: 43750 | K38: 21530 | L38: 7709 | M38: 10277 | N38: 4335 | O38: 3250 | P38: 1116 | Q38: 8 | R38: 925 | S38: 1210 | T38: 46912 | U38: 22629 | V38: 7717 | W38: 11179 | X38: 5543
E39: Celkem | J39: 227094 | K39: 134165 | L39: 30789 | M39: 48461 | N39: 14951 | O39: 51150 | P39: 27211 | Q39: 1734 | R39: 16016 | S39: 6340 | T39: 276249 | U39: 160665 | V39: 32519 | W39: 64016 | X39: 21254
D40: 2022
E41: Se státním občanstvím ČR | J41: 184217 | K41: 113616 | L41: 23518 | M41: 37955 | N41: 10285 | O41: 44504 | P41: 24160 | Q41: 1812 | R41: 14108 | S41: 4542 | T41: 226937 | U41: 137121 | V41: 25328 | W41: 51692 | X41: 14795
E42: S cizím státním občanstvím | J42: 46532 | K42: 23494 | L42: 7893 | M42: 10792 | N42: 4470 | O42: 3068 | P42: 1052 | Q42: 4 | R42: 895 | S42: 1125 | T42: 49517 | U42: 24527 | V42: 7897 | W42: 11663 | X42: 5591
E43: Celkem | J43: 230741 | K43: 137104 | L43: 31411 | M43: 48746 | N43: 14755 | O43: 47571 | P43: 25212 | Q43: 1816 | R43: 15003 | S43: 5666 | T43: 276441 | U43: 161642 | V43: 33225 | W43: 63353 | X43: 20383
D44: 2023
E45: Se státním občanstvím ČR | J45: 188627 | K45: 116922 | L45: 24155 | M45: 38799 | N45: 9919 | O45: 43526 | P45: 23996 | Q45: 1922 | R45: 13511 | S45: 4243 | T45: 230256 | U45: 140231 | V45: 26073 | W45: 51919 | X45: 14135
E46: S cizím státním občanstvím | J46: 46878 | K46: 23958 | L46: 7902 | M46: 10690 | N46: 4419 | O46: 3039 | P46: 1097 | Q46: 2 | R46: 834 | S46: 1114 | T46: 49841 | U46: 25030 | V46: 7904 | W46: 11499 | X46: 5529
E47: Celkem | J47: 235497 | K47: 140874 | L47: 32057 | M47: 49488 | N47: 14338 | O47: 46565 | P47: 25093 | Q47: 1924 | R47: 14345 | S47: 5357 | T47: 280084 | U47: 165253 | V47: 33977 | W47: 63416 | X47: 19663
D48: 2024
E49: Se státním občanstvím ČR | J49: 194869 | K49: 121884 | L49: 24808 | M49: 40323 | N49: 9071 | O49: 42013 | P49: 22834 | Q49: 1835 | R49: 13655 | S49: 3819 | T49: 234971 | U49: 144041 | V49: 26638 | W49: 53556 | X49: 12876
E50: S cizím státním občanstvím | J50: 46760 | K50: 24131 | L50: 8064 | M50: 10487 | N50: 4177 | O50: 3063 | P50: 1124 | Q50: 5 | R50: 818 | S50: 1126 | T50: 49734 | U50: 25226 | V50: 8069 | W50: 11283 | X50: 5299
E51: Celkem | J51: 241627 | K51: 146013 | L51: 32872 | M51: 50810 | N51: 13248 | O51: 45075 | P51: 23958 | Q51: 1840 | R51: 14473 | S51: 4945 | T51: 284699 | U51: 169265 | V51: 34707 | W51: 64839 | X51: 18175
D52: 2025
E53: Se státním občanstvím ČR | J53: 205428 | K53: 130241 | L53: 25523 | M53: 42786 | N53: 8186 | O53: 43354 | P53: 23266 | Q53: 2013 | R53: 14136 | S53: 4097 | T53: 246679 | U53: 152741 | V53: 27534 | W53: 56424 | X53: 12269
E54: S cizím státním občanstvím | J54: 47716 | K54: 24988 | L54: 8211 | M54: 10829 | N54: 3786 | O54: 3481 | P54: 1210 | Q54: 11 | R54: 973 | S54: 1294 | T54: 51093 | U54: 26171 | V54: 8222 | W54: 11771 | X54: 5077
E55: Celkem | J55: 253141 | K55: 155227 | L55: 33734 | M55: 53615 | N55: 11972 | O55: 46834 | P55: 24476 | Q55: 2024 | R55: 15109 | S55: 5391 | T55: 297766 | U55: 178910 | V55: 35756 | W55: 68194 | X55: 17346
D56: Komentáře: | X56: Zdroj: databáze MŠMT
E57: Data bez škol jiných resortů.
E58: Údaje ve fyzických osobách k 31. 12. daného roku, podle stavu SIMS k 20. 1. 2026.

Sheet B7.3.5.2
D4: Tab. B7.3.5.2: | H4: Soukromé VŠ – počty studentů podle formy studia a typu studijního programu
D5: v letech 2015 až 2025 – podle státního občanství
D7: Státní občanství | J7: Prezenční studium v programu studia | O7: Distanční a kombinované studium v programu studia | T7: Celkem v programu studia
J9: celkem | K9: bakalář-ském | L9: magis-terském | M9: mag. navazu-jícím | N9: doktor-ském | O9: celkem | P9: bakalář-ském | Q9: magis-terském | R9: mag. navazu-jícím | S9: doktor-ském | T9: celkem | U9: bakalář-ském | V9: magis-terském | W9: mag. navazu-jícím | X9: doktor-ském
D12: 2015
E13: Se státním občanstvím ČR | J13: 12416 | K13: 9804 | L13: 0 | M13: 2589 | N13: 29 | O13: 15767 | P13: 10663 | Q13: 0 | R13: 5055 | S13: 52 | T13: 28140 | U13: 20454 | V13: 0 | W13: 7620 | X13: 81
E14: S cizím státním občanstvím | J14: 4807 | K14: 3902 | L14: 0 | M14: 904 | N14: 4 | O14: 1516 | P14: 977 | Q14: 0 | R14: 537 | S14: 2 | T14: 6314 | U14: 4874 | V14: 0 | W14: 1438 | X14: 6
E15: Celkem | J15: 17221 | K15: 13705 | L15: 0 | M15: 3493 | N15: 33 | O15: 17283 | P15: 11640 | Q15: 0 | R15: 5592 | S15: 54 | T15: 34452 | U15: 25327 | V15: 0 | W15: 9058 | X15: 87
D16: 2016
E17: Se státním občanstvím ČR | J17: 10929 | K17: 8653 | L17: 0 | M17: 2247 | N17: 31 | O17: 14570 | P17: 9859 | Q17: 0 | R17: 4675 | S17: 45 | T17: 25458 | U17: 18497 | V17: 0 | W17: 6899 | X17: 76
E18: S cizím státním občanstvím | J18: 4492 | K18: 3602 | L18: 0 | M18: 890 | N18: 5 | O18: 1402 | P18: 893 | Q18: 0 | R18: 504 | S18: 6 | T18: 5881 | U18: 4490 | V18: 0 | W18: 1388 | X18: 11
E19: Celkem | J19: 15421 | K19: 12255 | L19: 0 | M19: 3137 | N19: 36 | O19: 15971 | P19: 10751 | Q19: 0 | R19: 5179 | S19: 51 | T19: 31338 | U19: 22986 | V19: 0 | W19: 8287 | X19: 87
D20: 2017
E21: Se státním občanstvím ČR | J21: 10310 | K21: 8347 | L21: 0 | M21: 1937 | N21: 30 | O21: 13629 | P21: 9169 | Q21: 0 | R21: 4422 | S21: 42 | T21: 23916 | U21: 17510 | V21: 0 | W21: 6347 | X21: 72
E22: S cizím státním občanstvím | J22: 4456 | K22: 3541 | L22: 0 | M22: 912 | N22: 5 | O22: 1306 | P22: 831 | Q22: 0 | R22: 471 | S22: 4 | T22: 5750 | U22: 4369 | V22: 0 | W22: 1375 | X22: 9
E23: Celkem | J23: 14766 | K23: 11888 | L23: 0 | M23: 2849 | N23: 35 | O23: 14933 | P23: 9998 | Q23: 0 | R23: 4893 | S23: 46 | T23: 29664 | U23: 21877 | V23: 0 | W23: 7722 | X23: 81
D24: 2018
E25: Se státním občanstvím ČR | J25: 9821 | K25: 8153 | L25: 0 | M25: 1641 | N25: 29 | O25: 13099 | P25: 8779 | Q25: 0 | R25: 4292 | S25: 34 | T25: 22899 | U25: 16923 | V25: 0 | W25: 5926 | X25: 63
E26: S cizím státním občanstvím | J26: 4329 | K26: 3475 | L26: 0 | M26: 851 | N26: 5 | O26: 1275 | P26: 839 | Q26: 0 | R26: 435 | S26: 1 | T26: 5602 | U26: 4313 | V26: 0 | W26: 1285 | X26: 6
E27: Celkem | J27: 14150 | K27: 11628 | L27: 0 | M27: 2492 | N27: 34 | O27: 14373 | P27: 9617 | Q27: 0 | R27: 4727 | S27: 35 | T27: 28500 | U27: 21235 | V27: 0 | W27: 7211 | X27: 69
D28: 2019
E29: Se státním občanstvím ČR | J29: 9685 | K29: 8193 | L29: 0 | M29: 1468 | N29: 28 | O29: 12606 | P29: 8520 | Q29: 0 | R29: 4059 | S29: 32 | T29: 22275 | U29: 16706 | V29: 0 | W29: 5519 | X29: 60
E30: S cizím státním občanstvím | J30: 4444 | K30: 3643 | L30: 0 | M30: 799 | N30: 3 | O30: 1215 | P30: 793 | Q30: 0 | R30: 417 | S30: 5 | T30: 5657 | U30: 4436 | V30: 0 | W30: 1215 | X30: 8
E31: Celkem | J31: 14129 | K31: 11836 | L31: 0 | M31: 2267 | N31: 31 | O31: 13821 | P31: 9313 | Q31: 0 | R31: 4476 | S31: 37 | T31: 27932 | U31: 21142 | V31: 0 | W31: 6734 | X31: 68
D32: 2020
E33: Se státním občanstvím ČR | J33: 10294 | K33: 8763 | L33: 0 | M33: 1510 | N33: 24 | O33: 11826 | P33: 8149 | Q33: 0 | R33: 3647 | S33: 36 | T33: 22106 | U33: 16907 | V33: 0 | W33: 5154 | X33: 60
E34: S cizím státním občanstvím | J34: 4131 | K34: 3408 | L34: 0 | M34: 717 | N34: 6 | O34: 1162 | P34: 767 | Q34: 0 | R34: 380 | S34: 16 | T34: 5291 | U34: 4174 | V34: 0 | W34: 1096 | X34: 22
E35: Celkem | J35: 14425 | K35: 12171 | L35: 0 | M35: 2227 | N35: 30 | O35: 12988 | P35: 8916 | Q35: 0 | R35: 4027 | S35: 52 | T35: 27397 | U35: 21081 | V35: 0 | W35: 6250 | X35: 82
D36: 2021
E37: Se státním občanstvím ČR | J37: 10966 | K37: 9350 | L37: 0 | M37: 1600 | N37: 23 | O37: 12043 | P37: 8562 | Q37: 0 | R37: 3454 | S37: 33 | T37: 22997 | U37: 17906 | V37: 0 | W37: 5051 | X37: 56
E38: S cizím státním občanstvím | J38: 3734 | K38: 3074 | L38: 0 | M38: 654 | N38: 6 | O38: 1162 | P38: 817 | Q38: 0 | R38: 321 | S38: 25 | T38: 4894 | U38: 3889 | V38: 0 | W38: 975 | X38: 31
E39: Celkem | J39: 14700 | K39: 12424 | L39: 0 | M39: 2254 | N39: 29 | O39: 13205 | P39: 9379 | Q39: 0 | R39: 3775 | S39: 58 | T39: 27891 | U39: 21795 | V39: 0 | W39: 6026 | X39: 87
D40: 2022
E41: Se státním občanstvím ČR | J41: 11633 | K41: 10077 | L41: 0 | M41: 1541 | N41: 17 | O41: 11546 | P41: 8185 | Q41: 0 | R41: 3319 | S41: 44 | T41: 23163 | U41: 18254 | V41: 0 | W41: 4858 | X41: 61
E42: S cizím státním občanstvím | J42: 4027 | K42: 3423 | L42: 0 | M42: 598 | N42: 6 | O42: 1160 | P42: 825 | Q42: 0 | R42: 304 | S42: 32 | T42: 5182 | U42: 4244 | V42: 0 | W42: 901 | X42: 38
E43: Celkem | J43: 15660 | K43: 13500 | L43: 0 | M43: 2139 | N43: 23 | O43: 12706 | P43: 9010 | Q43: 0 | R43: 3623 | S43: 76 | T43: 28345 | U43: 22498 | V43: 0 | W43: 5759 | X43: 99
D44: 2023
E45: Se státním občanstvím ČR | J45: 12350 | K45: 10741 | L45: 0 | M45: 1599 | N45: 12 | O45: 11087 | P45: 7932 | Q45: 0 | R45: 3110 | S45: 47 | T45: 23397 | U45: 18641 | V45: 0 | W45: 4704 | X45: 59
E46: S cizím státním občanstvím | J46: 4445 | K46: 3852 | L46: 0 | M46: 586 | N46: 7 | O46: 1209 | P46: 856 | Q46: 0 | R46: 325 | S46: 28 | T46: 5652 | U46: 4706 | V46: 0 | W46: 911 | X46: 35
E47: Celkem | J47: 16795 | K47: 14593 | L47: 0 | M47: 2185 | N47: 19 | O47: 12295 | P47: 8787 | Q47: 0 | R47: 3435 | S47: 75 | T47: 29048 | U47: 23346 | V47: 0 | W47: 5615 | X47: 94
D48: 2024
E49: Se státním občanstvím ČR | J49: 13389 | K49: 11499 | L49: 0 | M49: 1878 | N49: 13 | O49: 10909 | P49: 7693 | Q49: 0 | R49: 3170 | S49: 49 | T49: 24268 | U49: 19171 | V49: 0 | W49: 5041 | X49: 62
E50: S cizím státním občanstvím | J50: 5030 | K50: 4384 | L50: 0 | M50: 635 | N50: 13 | O50: 1227 | P50: 857 | Q50: 0 | R50: 352 | S50: 18 | T50: 6256 | U50: 5240 | V50: 0 | W50: 987 | X50: 31
E51: Celkem | J51: 18419 | K51: 15883 | L51: 0 | M51: 2513 | N51: 26 | O51: 12136 | P51: 8550 | Q51: 0 | R51: 3522 | S51: 67 | T51: 30524 | U51: 24411 | V51: 0 | W51: 6028 | X51: 93
D52: 2025
E53: Se státním občanstvím ČR | J53: 14385 | K53: 12231 | L53: 0 | M53: 2140 | N53: 18 | O53: 10966 | P53: 7741 | Q53: 0 | R53: 3183 | S53: 47 | T53: 25333 | U53: 19959 | V53: 0 | W53: 5322 | X53: 65
E54: S cizím státním občanstvím | J54: 6603 | K54: 5807 | L54: 0 | M54: 783 | N54: 14 | O54: 1310 | P54: 932 | Q54: 0 | R54: 362 | S54: 16 | T54: 7912 | U54: 6738 | V54: 0 | W54: 1145 | X54: 30
E55: Celkem | J55: 20988 | K55: 18038 | L55: 0 | M55: 2923 | N55: 32 | O55: 12275 | P55: 8673 | Q55: 0 | R55: 3544 | S55: 63 | T55: 33243 | U55: 26696 | V55: 0 | W55: 6466 | X55: 95
D56: Komentáře: | X56: Zdroj: databáze MŠMT
E57: Data bez škol jiných resortů.
E58: Údaje ve fyzických osobách k 31. 12. daného roku, podle stavu SIMS k 20. 1. 2026.

Sheet B7.3.6
D4: Tab. B7.3.6: | H4: Veřejné a soukromé VŠ – počty poprvé zapsaných studentů podle formy studia a typu studijního programu
D5: v letech 2015 až 2025 – podle státního občanství
D7: Státní občanství | J7: Prezenční studium v programu studia | O7: Distanční a kombinované studium v programu studia | T7: Celkem v programu studia
J9: celkem | K9: bakalář-ském | L9: magis-terském | M9: mag. navazu-jícím | N9: doktor-ském | O9: celkem | P9: bakalář-ském | Q9: magis-terském | R9: mag. navazu-jícím | S9: doktor-ském | T9: celkem | U9: bakalář-ském | V9: magis-terském | W9: mag. navazu-jícím | X9: doktor-ském
D12: 2015
E13: Se státním občanstvím ČR | J13: 38234 | K13: 35810 | L13: 4089 | M13: 20789 | N13: 2713 | O13: 8732 | P13: 9309 | Q13: 266 | R13: 8039 | S13: 958 | T13: 46957 | U13: 45110 | V13: 4355 | W13: 28805 | X13: 3671
E14: S cizím státním občanstvím | J14: 8100 | K14: 6607 | L14: 1660 | M14: 3668 | N14: 731 | O14: 543 | P14: 566 | Q14: 0 | R14: 418 | S14: 237 | T14: 8643 | U14: 7173 | V14: 1660 | W14: 4085 | X14: 968
E15: Celkem | J15: 46334 | K15: 42417 | L15: 5749 | M15: 24457 | N15: 3444 | O15: 9275 | P15: 9875 | Q15: 266 | R15: 8457 | S15: 1195 | T15: 55600 | U15: 52283 | V15: 6015 | W15: 32890 | X15: 4639
D16: 2016
E17: Se státním občanstvím ČR | J17: 36955 | K17: 34468 | L17: 4018 | M17: 19819 | N17: 2634 | O17: 8132 | P17: 8578 | Q17: 287 | R17: 8064 | S17: 826 | T17: 45073 | U17: 43033 | V17: 4305 | W17: 27852 | X17: 3459
E18: S cizím státním občanstvím | J18: 7990 | K18: 6419 | L18: 1729 | M18: 3948 | N18: 734 | O18: 501 | P18: 524 | Q18: 1 | R18: 505 | S18: 212 | T18: 8490 | U18: 6942 | V18: 1730 | W18: 4447 | X18: 945
E19: Celkem | J19: 44945 | K19: 40887 | L19: 5747 | M19: 23767 | N19: 3368 | O19: 8633 | P19: 9102 | Q19: 288 | R19: 8569 | S19: 1038 | T19: 53563 | U19: 49975 | V19: 6035 | W19: 32299 | X19: 4404
D20: 2017
E21: Se státním občanstvím ČR | J21: 37792 | K21: 35060 | L21: 4285 | M21: 17490 | N21: 2412 | O21: 8097 | P21: 8451 | Q21: 343 | R21: 7556 | S21: 723 | T21: 45873 | U21: 43497 | V21: 4628 | W21: 25026 | X21: 3135
E22: S cizím státním občanstvím | J22: 6986 | K22: 5677 | L22: 1455 | M22: 4081 | N22: 761 | O22: 477 | P22: 508 | Q22: 1 | R22: 539 | S22: 210 | T22: 7462 | U22: 6184 | V22: 1456 | W22: 4618 | X22: 971
E23: Celkem | J23: 44778 | K23: 40737 | L23: 5740 | M23: 21571 | N23: 3173 | O23: 8574 | P23: 8959 | Q23: 344 | R23: 8095 | S23: 933 | T23: 53335 | U23: 49681 | V23: 6084 | W23: 29644 | X23: 4106
D24: 2018
E25: Se státním občanstvím ČR | J25: 38135 | K25: 35422 | L25: 4329 | M25: 16122 | N25: 2402 | O25: 7304 | P25: 7618 | Q25: 396 | R25: 7035 | S25: 614 | T25: 45431 | U25: 43031 | V25: 4725 | W25: 23133 | X25: 3016
E26: S cizím státním občanstvím | J26: 7933 | K26: 6539 | L26: 1538 | M26: 4302 | N26: 863 | O26: 473 | P26: 482 | Q26: 0 | R26: 487 | S26: 247 | T26: 8406 | U26: 7021 | V26: 1538 | W26: 4787 | X26: 1110
E27: Celkem | J27: 46068 | K27: 41961 | L27: 5867 | M27: 20424 | N27: 3265 | O27: 7777 | P27: 8100 | Q27: 396 | R27: 7522 | S27: 861 | T27: 53837 | U27: 50052 | V27: 6263 | W27: 27920 | X27: 4126
D28: 2019
E29: Se státním občanstvím ČR | J29: 40466 | K29: 37468 | L29: 4643 | M29: 15562 | N29: 2352 | O29: 7330 | P29: 7665 | Q29: 362 | R29: 6788 | S29: 560 | T29: 47784 | U29: 45119 | V29: 5005 | W29: 22320 | X29: 2912
E30: S cizím státním občanstvím | J30: 8643 | K30: 7269 | L30: 1540 | M30: 4364 | N30: 1056 | O30: 470 | P30: 481 | Q30: 1 | R30: 513 | S30: 192 | T30: 9113 | U30: 7750 | V30: 1541 | W30: 4877 | X30: 1248
E31: Celkem | J31: 49108 | K31: 44737 | L31: 6183 | M31: 19926 | N31: 3408 | O31: 7800 | P31: 8146 | Q31: 363 | R31: 7301 | S31: 752 | T31: 56896 | U31: 52869 | V31: 6546 | W31: 27197 | X31: 4160
D32: 2020
E33: Se státním občanstvím ČR | J33: 43030 | K33: 40144 | L33: 4653 | M33: 16624 | N33: 2375 | O33: 7626 | P33: 8015 | Q33: 327 | R33: 6819 | S33: 567 | T33: 50645 | U33: 48146 | V33: 4980 | W33: 23392 | X33: 2942
E34: S cizím státním občanstvím | J34: 9972 | K34: 8373 | L34: 1773 | M34: 4416 | N34: 1109 | O34: 517 | P34: 531 | Q34: 2 | R34: 538 | S34: 268 | T34: 10488 | U34: 8904 | V34: 1775 | W34: 4952 | X34: 1375
E35: Celkem | J35: 53001 | K35: 48516 | L35: 6426 | M35: 21040 | N35: 3484 | O35: 8143 | P35: 8546 | Q35: 329 | R35: 7357 | S35: 835 | T35: 61132 | U35: 57049 | V35: 6755 | W35: 28344 | X35: 4317
D36: 2021
E37: Se státním občanstvím ČR | J37: 43373 | K37: 40168 | L37: 4912 | M37: 16380 | N37: 2126 | O37: 7717 | P37: 8087 | Q37: 336 | R37: 6680 | S37: 544 | T37: 51073 | U37: 48238 | V37: 5248 | W37: 23011 | X37: 2670
E38: S cizím státním občanstvím | J38: 10016 | K38: 8554 | L38: 1638 | M38: 4846 | N38: 1055 | O38: 581 | P38: 601 | Q38: 4 | R38: 433 | S38: 241 | T38: 10597 | U38: 9155 | V38: 1642 | W38: 5275 | X38: 1296
E39: Celkem | J39: 53389 | K39: 48722 | L39: 6550 | M39: 21226 | N39: 3181 | O39: 8298 | P39: 8688 | Q39: 340 | R39: 7113 | S39: 785 | T39: 61670 | U39: 57393 | V39: 6890 | W39: 28286 | X39: 3966
D40: 2022
E41: Se státním občanstvím ČR | J41: 41982 | K41: 38876 | L41: 4871 | M41: 15754 | N41: 1931 | O41: 6280 | P41: 6525 | Q41: 387 | R41: 5664 | S41: 450 | T41: 48239 | U41: 45379 | V41: 5258 | W41: 21384 | X41: 2381
E42: S cizím státním občanstvím | J42: 11865 | K42: 10156 | L42: 1871 | M42: 4918 | N42: 933 | O42: 538 | P42: 549 | Q42: 2 | R42: 410 | S42: 188 | T42: 12403 | U42: 10705 | V42: 1873 | W42: 5322 | X42: 1121
E43: Celkem | J43: 53846 | K43: 49031 | L43: 6742 | M43: 20672 | N43: 2864 | O43: 6818 | P43: 7074 | Q43: 389 | R43: 6074 | S43: 638 | T43: 60641 | U43: 56083 | V43: 7131 | W43: 26706 | X43: 3502
D44: 2023
E45: Se státním občanstvím ČR | J45: 44863 | K45: 41539 | L45: 5084 | M45: 17112 | N45: 1943 | O45: 6486 | P45: 6753 | Q45: 373 | R45: 5844 | S45: 498 | T45: 51330 | U45: 48274 | V45: 5457 | W45: 22894 | X45: 2441
E46: S cizím státním občanstvím | J46: 10403 | K46: 8882 | L46: 1706 | M46: 4712 | N46: 802 | O46: 591 | P46: 612 | Q46: 0 | R46: 430 | S46: 172 | T46: 10993 | U46: 9493 | V46: 1706 | W46: 5140 | X46: 974
E47: Celkem | J47: 55266 | K47: 50421 | L47: 6790 | M47: 21824 | N47: 2745 | O47: 7077 | P47: 7365 | Q47: 373 | R47: 6274 | S47: 670 | T47: 62323 | U47: 57767 | V47: 7163 | W47: 28034 | X47: 3415
D48: 2024
E49: Se státním občanstvím ČR | J49: 47711 | K49: 44320 | L49: 5200 | M49: 18085 | N49: 1776 | O49: 6242 | P49: 6528 | Q49: 359 | R49: 6055 | S49: 459 | T49: 53921 | U49: 50820 | V49: 5559 | W49: 24094 | X49: 2235
E50: S cizím státním občanstvím | J50: 10361 | K50: 8795 | L50: 1729 | M50: 4580 | N50: 874 | O50: 553 | P50: 569 | Q50: 3 | R50: 510 | S50: 205 | T50: 10914 | U50: 9364 | V50: 1732 | W50: 5087 | X50: 1079
E51: Celkem | J51: 58072 | K51: 53115 | L51: 6929 | M51: 22665 | N51: 2650 | O51: 6795 | P51: 7097 | Q51: 362 | R51: 6565 | S51: 664 | T51: 64835 | U51: 60184 | V51: 7291 | W51: 29181 | X51: 3314
D52: 2025
E53: Se státním občanstvím ČR | J53: 51682 | K53: 48372 | L53: 5239 | M53: 19494 | N53: 1371 | O53: 6678 | P53: 6846 | Q53: 471 | R53: 6367 | S53: 681 | T53: 58315 | U53: 55181 | V53: 5710 | W53: 25781 | X53: 2052
E54: S cizím státním občanstvím | J54: 12323 | K54: 10706 | L54: 1780 | M54: 5130 | N54: 644 | O54: 669 | P54: 679 | Q54: 7 | R54: 609 | S54: 278 | T54: 12990 | U54: 11383 | V54: 1787 | W54: 5733 | X54: 922
E55: Celkem | J55: 64005 | K55: 59078 | L55: 7019 | M55: 24624 | N55: 2015 | O55: 7347 | P55: 7525 | Q55: 478 | R55: 6976 | S55: 959 | T55: 71305 | U55: 66564 | V55: 7497 | W55: 31514 | X55: 2974
D56: Komentáře: | X56: Zdroj: databáze MŠMT
E57: Data bez škol jiných resortů.
E58: Do celkového počtu poprvé zapsaných nejsou započteni poprvé zapsaní do navazujících magisterských a doktorských studijních programů. Údaje za fyzické osoby za kalendářní rok (např. 2020/21 = kalendářní rok 2020).
E59: Údaje ve fyzických osobách k 31. 12. daného roku, podle stavu SIMS k 20. 1. 2026.

Sheet B7.3.6.1
D4: Tab. B7.3.6.1: | H4: Veřejné VŠ – počty poprvé zapsaných studentů podle formy studia a typu studijního programu
D5: v letech 2015 až 2025 – podle státního občanství
D7: Státní občanství | J7: Prezenční studium v programu studia | O7: Distanční a kombinované studium v programu studia | T7: Celkem v programu studia
J9: celkem | K9: bakalář-ském | L9: magis-terském | M9: mag. navazu-jícím | N9: doktor-ském | O9: celkem | P9: bakalář-ském | Q9: magis-terském | R9: mag. navazu-jícím | S9: doktor-ském | T9: celkem | U9: bakalář-ském | V9: magis-terském | W9: mag. navazu-jícím | X9: doktor-ském
D12: 2015
E13: Se státním občanstvím ČR | J13: 35793 | K13: 33329 | L13: 4089 | M13: 19675 | N13: 2707 | O13: 6733 | P13: 7223 | Q13: 266 | R13: 6330 | S13: 948 | T13: 42517 | U13: 40543 | V13: 4355 | W13: 25990 | X13: 3655
E14: S cizím státním občanstvím | J14: 7031 | K14: 5525 | L14: 1660 | M14: 3267 | N14: 731 | O14: 345 | P14: 362 | Q14: 0 | R14: 221 | S14: 237 | T14: 7376 | U14: 5887 | V14: 1660 | W14: 3487 | X14: 968
E15: Celkem | J15: 42824 | K15: 38854 | L15: 5749 | M15: 22942 | N15: 3438 | O15: 7078 | P15: 7585 | Q15: 266 | R15: 6551 | S15: 1185 | T15: 49893 | U15: 46430 | V15: 6015 | W15: 29477 | X15: 4623
D16: 2016
E17: Se státním občanstvím ČR | J17: 34782 | K17: 32272 | L17: 4018 | M17: 18803 | N17: 2625 | O17: 6237 | P17: 6590 | Q17: 287 | R17: 6443 | S17: 818 | T17: 41007 | U17: 38851 | V17: 4305 | W17: 25220 | X17: 3442
E18: S cizím státním občanstvím | J18: 7111 | K18: 5535 | L18: 1729 | M18: 3554 | N18: 732 | O18: 282 | P18: 300 | Q18: 1 | R18: 308 | S18: 208 | T18: 7393 | U18: 5835 | V18: 1730 | W18: 3858 | X18: 939
E19: Celkem | J19: 41893 | K19: 37807 | L19: 5747 | M19: 22357 | N19: 3357 | O19: 6519 | P19: 6890 | Q19: 288 | R19: 6751 | S19: 1026 | T19: 48400 | U19: 44686 | V19: 6035 | W19: 29078 | X19: 4381
D20: 2017
E21: Se státním občanstvím ČR | J21: 35560 | K21: 32802 | L21: 4285 | M21: 16752 | N21: 2407 | O21: 6327 | P21: 6604 | Q21: 343 | R21: 6043 | S21: 715 | T21: 41872 | U21: 39393 | V21: 4628 | W21: 22776 | X21: 3122
E22: S cizím státním občanstvím | J22: 6099 | K22: 4786 | L22: 1455 | M22: 3684 | N22: 760 | O22: 280 | P22: 304 | Q22: 1 | R22: 354 | S22: 210 | T22: 6378 | U22: 5089 | V22: 1456 | W22: 4036 | X22: 970
E23: Celkem | J23: 41659 | K23: 37588 | L23: 5740 | M23: 20436 | N23: 3167 | O23: 6607 | P23: 6908 | Q23: 344 | R23: 6397 | S23: 925 | T23: 48250 | U23: 44482 | V23: 6084 | W23: 26812 | X23: 4092
D24: 2018
E25: Se státním občanstvím ČR | J25: 35741 | K25: 32991 | L25: 4329 | M25: 15427 | N25: 2395 | O25: 5681 | P25: 5922 | Q25: 396 | R25: 5554 | S25: 601 | T25: 41415 | U25: 38905 | V25: 4725 | W25: 20959 | X25: 2996
E26: S cizím státním občanstvím | J26: 7041 | K26: 5633 | L26: 1538 | M26: 3964 | N26: 863 | O26: 281 | P26: 289 | Q26: 0 | R26: 346 | S26: 247 | T26: 7322 | U26: 5922 | V26: 1538 | W26: 4308 | X26: 1110
E27: Celkem | J27: 42782 | K27: 38624 | L27: 5867 | M27: 19391 | N27: 3258 | O27: 5962 | P27: 6211 | Q27: 396 | R27: 5900 | S27: 848 | T27: 48737 | U27: 44827 | V27: 6263 | W27: 25267 | X27: 4106
D28: 2019
E29: Se státním občanstvím ČR | J29: 38137 | K29: 35108 | L29: 4643 | M29: 14958 | N29: 2346 | O29: 5617 | P29: 5876 | Q29: 362 | R29: 5462 | S29: 551 | T29: 43744 | U29: 40972 | V29: 5005 | W29: 20391 | X29: 2897
E30: S cizím státním občanstvím | J30: 7635 | K30: 6249 | L30: 1540 | M30: 4062 | N30: 1056 | O30: 266 | P30: 272 | Q30: 1 | R30: 357 | S30: 189 | T30: 7901 | U30: 6521 | V30: 1541 | W30: 4419 | X30: 1245
E31: Celkem | J31: 45771 | K31: 41357 | L31: 6183 | M31: 19020 | N31: 3402 | O31: 5883 | P31: 6148 | Q31: 363 | R31: 5819 | S31: 740 | T31: 51644 | U31: 47493 | V31: 6546 | W31: 24810 | X31: 4142
D32: 2020
E33: Se státním občanstvím ČR | J33: 40527 | K33: 37620 | L33: 4653 | M33: 15905 | N33: 2374 | O33: 6197 | P33: 6529 | Q33: 327 | R33: 5704 | S33: 559 | T33: 46713 | U33: 44137 | V33: 4980 | W33: 21558 | X33: 2933
E34: S cizím státním občanstvím | J34: 9185 | K34: 7582 | L34: 1773 | M34: 4163 | N34: 1106 | O34: 344 | P34: 355 | Q34: 2 | R34: 395 | S34: 257 | T34: 9528 | U34: 7937 | V34: 1775 | W34: 4556 | X34: 1361
E35: Celkem | J35: 49711 | K35: 45201 | L35: 6426 | M35: 20068 | N35: 3480 | O35: 6541 | P35: 6884 | Q35: 329 | R35: 6099 | S35: 816 | T35: 56240 | U35: 52073 | V35: 6755 | W35: 26114 | X35: 4294
D36: 2021
E37: Se státním občanstvím ČR | J37: 40551 | K37: 37301 | L37: 4912 | M37: 15675 | N37: 2125 | O37: 5989 | P37: 6271 | Q37: 336 | R37: 5458 | S37: 536 | T37: 46524 | U37: 43556 | V37: 5248 | W37: 21086 | X37: 2661
E38: S cizím státním občanstvím | J38: 9203 | K38: 7732 | L38: 1638 | M38: 4615 | N38: 1054 | O38: 307 | P38: 325 | Q38: 4 | R38: 322 | S38: 229 | T38: 9510 | U38: 8057 | V38: 1642 | W38: 4933 | X38: 1283
E39: Celkem | J39: 49754 | K39: 45033 | L39: 6550 | M39: 20290 | N39: 3179 | O39: 6296 | P39: 6596 | Q39: 340 | R39: 5780 | S39: 765 | T39: 56034 | U39: 51613 | V39: 6890 | W39: 26019 | X39: 3944
D40: 2022
E41: Se státním občanstvím ČR | J41: 39211 | K41: 36055 | L41: 4871 | M41: 15138 | N41: 1929 | O41: 4815 | P41: 5000 | Q41: 387 | R41: 4604 | S41: 428 | T41: 44003 | U41: 41033 | V41: 5258 | W41: 19710 | X41: 2357
E42: S cizím státním občanstvím | J42: 10803 | K42: 9090 | L42: 1871 | M42: 4692 | N42: 933 | O42: 295 | P42: 306 | Q42: 2 | R42: 293 | S42: 178 | T42: 11098 | U42: 9396 | V42: 1873 | W42: 4979 | X42: 1111
E43: Celkem | J43: 50013 | K43: 45144 | L43: 6742 | M43: 19830 | N43: 2862 | O43: 5110 | P43: 5306 | Q43: 389 | R43: 4897 | S43: 606 | T43: 55100 | U43: 50428 | V43: 7131 | W43: 24689 | X43: 3468
D44: 2023
E45: Se státním občanstvím ČR | J45: 41907 | K45: 38555 | L45: 5084 | M45: 16326 | N45: 1942 | O45: 5025 | P45: 5244 | Q45: 373 | R45: 4810 | S45: 485 | T45: 46916 | U45: 43784 | V45: 5457 | W45: 21078 | X45: 2427
E46: S cizím státním občanstvím | J46: 9246 | K46: 7722 | L46: 1706 | M46: 4479 | N46: 801 | O46: 339 | P46: 353 | Q46: 0 | R46: 297 | S46: 166 | T46: 9585 | U46: 8075 | V46: 1706 | W46: 4774 | X46: 967
E47: Celkem | J47: 51153 | K47: 46277 | L47: 6790 | M47: 20805 | N47: 2743 | O47: 5364 | P47: 5597 | Q47: 373 | R47: 5107 | S47: 651 | T47: 56501 | U47: 51859 | V47: 7163 | W47: 25852 | X47: 3394
D48: 2024
E49: Se státním občanstvím ČR | J49: 44439 | K49: 40989 | L49: 5200 | M49: 17126 | N49: 1772 | O49: 4737 | P49: 4948 | Q49: 359 | R49: 4899 | S49: 453 | T49: 49145 | U49: 45910 | V49: 5559 | W49: 21981 | X49: 2225
E50: S cizím státním občanstvím | J50: 9095 | K50: 7519 | L50: 1729 | M50: 4299 | N50: 867 | O50: 298 | P50: 310 | Q50: 3 | R50: 353 | S50: 203 | T50: 9393 | U50: 7829 | V50: 1732 | W50: 4649 | X50: 1070
E51: Celkem | J51: 53534 | K51: 48508 | L51: 6929 | M51: 21425 | N51: 2639 | O51: 5035 | P51: 5258 | Q51: 362 | R51: 5252 | S51: 656 | T51: 58538 | U51: 53739 | V51: 7291 | W51: 26630 | X51: 3295
D52: 2025
E53: Se státním občanstvím ČR | J53: 48105 | K53: 44759 | L53: 5239 | M53: 18427 | N53: 1363 | O53: 5151 | P53: 5247 | Q53: 471 | R53: 5201 | S53: 670 | T53: 53211 | U53: 49969 | V53: 5710 | W53: 23549 | X53: 2033
E54: S cizím státním občanstvím | J54: 9967 | K54: 8342 | L54: 1780 | M54: 4766 | N54: 642 | O54: 348 | P54: 357 | Q54: 7 | R54: 442 | S54: 276 | T54: 10313 | U54: 8697 | V54: 1787 | W54: 5202 | X54: 918
E55: Celkem | J55: 58072 | K55: 53101 | L55: 7019 | M55: 23193 | N55: 2005 | O55: 5499 | P55: 5604 | Q55: 478 | R55: 5643 | S55: 946 | T55: 63524 | U55: 58666 | V55: 7497 | W55: 28751 | X55: 2951
D56: Komentáře: | X56: Zdroj: databáze MŠMT
E57: Data bez škol jiných resortů.
E58: Do celkového počtu poprvé zapsaných nejsou započteni poprvé zapsaní do navazujících magisterských a doktorských studijních programů. Údaje za fyzické osoby za kalendářní rok (např. 2020/21 = kalendářní rok 2020).
E59: Údaje ve fyzických osobách k 31. 12. daného roku, podle stavu SIMS k 20. 1. 2026.

Sheet B7.3.6.2
D4: Tab. B7.3.6.2: | H4: Soukromé VŠ – počty poprvé zapsaných studentů podle formy studia a typu studijního programu
D5: v letech 2015 až 2025 – podle státního občanství
D7: Státní občanství | J7: Prezenční studium v programu studia | O7: Distanční a kombinované studium v programu studia | T7: Celkem v programu studia
J9: celkem | K9: bakalář-ském | L9: magis-terském | M9: mag. navazu-jícím | N9: doktor-ském | O9: celkem | P9: bakalář-ském | Q9: magis-terském | R9: mag. navazu-jícím | S9: doktor-ském | T9: celkem | U9: bakalář-ském | V9: magis-terském | W9: mag. navazu-jícím | X9: doktor-ském
D12: 2015
E13: Se státním občanstvím ČR | J13: 2443 | K13: 2482 | L13: 0 | M13: 1114 | N13: 6 | O13: 1999 | P13: 2086 | Q13: 0 | R13: 1709 | S13: 10 | T13: 4442 | U13: 4568 | V13: 0 | W13: 2815 | X13: 16
E14: S cizím státním občanstvím | J14: 1069 | K14: 1082 | L14: 0 | M14: 401 | N14: 0 | O14: 198 | P14: 204 | Q14: 0 | R14: 197 | S14: 0 | T14: 1267 | U14: 1286 | V14: 0 | W14: 598 | X14: 0
E15: Celkem | J15: 3512 | K15: 3564 | L15: 0 | M15: 1515 | N15: 6 | O15: 2197 | P15: 2290 | Q15: 0 | R15: 1906 | S15: 10 | T15: 5709 | U15: 5854 | V15: 0 | W15: 3413 | X15: 16
D16: 2016
E17: Se státním občanstvím ČR | J17: 2174 | K17: 2197 | L17: 0 | M17: 1016 | N17: 9 | O17: 1895 | P17: 1989 | Q17: 0 | R17: 1621 | S17: 8 | T17: 4068 | U17: 4185 | V17: 0 | W17: 2632 | X17: 17
E18: S cizím státním občanstvím | J18: 879 | K18: 884 | L18: 0 | M18: 394 | N18: 2 | O18: 219 | P18: 224 | Q18: 0 | R18: 197 | S18: 4 | T18: 1097 | U18: 1107 | V18: 0 | W18: 589 | X18: 6
E19: Celkem | J19: 3053 | K19: 3081 | L19: 0 | M19: 1410 | N19: 11 | O19: 2114 | P19: 2213 | Q19: 0 | R19: 1818 | S19: 12 | T19: 5165 | U19: 5292 | V19: 0 | W19: 3221 | X19: 23
D20: 2017
E21: Se státním občanstvím ČR | J21: 2235 | K21: 2261 | L21: 0 | M21: 738 | N21: 5 | O21: 1770 | P21: 1847 | Q21: 0 | R21: 1513 | S21: 8 | T21: 4005 | U21: 4108 | V21: 0 | W21: 2250 | X21: 13
E22: S cizím státním občanstvím | J22: 887 | K22: 891 | L22: 0 | M22: 397 | N22: 1 | O22: 197 | P22: 204 | Q22: 0 | R22: 185 | S22: 0 | T22: 1084 | U22: 1095 | V22: 0 | W22: 582 | X22: 1
E23: Celkem | J23: 3122 | K23: 3152 | L23: 0 | M23: 1135 | N23: 6 | O23: 1967 | P23: 2051 | Q23: 0 | R23: 1698 | S23: 8 | T23: 5089 | U23: 5203 | V23: 0 | W23: 2832 | X23: 14
D24: 2018
E25: Se státním občanstvím ČR | J25: 2396 | K25: 2433 | L25: 0 | M25: 695 | N25: 7 | O25: 1623 | P25: 1696 | Q25: 0 | R25: 1481 | S25: 13 | T25: 4018 | U25: 4128 | V25: 0 | W25: 2175 | X25: 20
E26: S cizím státním občanstvím | J26: 892 | K26: 906 | L26: 0 | M26: 338 | N26: 0 | O26: 192 | P26: 193 | Q26: 0 | R26: 141 | S26: 0 | T26: 1084 | U26: 1099 | V26: 0 | W26: 479 | X26: 0
E27: Celkem | J27: 3288 | K27: 3339 | L27: 0 | M27: 1033 | N27: 7 | O27: 1815 | P27: 1889 | Q27: 0 | R27: 1622 | S27: 13 | T27: 5102 | U27: 5227 | V27: 0 | W27: 2654 | X27: 20
D28: 2019
E29: Se státním občanstvím ČR | J29: 2329 | K29: 2360 | L29: 0 | M29: 604 | N29: 6 | O29: 1713 | P29: 1789 | Q29: 0 | R29: 1326 | S29: 9 | T29: 4042 | U29: 4149 | V29: 0 | W29: 1929 | X29: 15
E30: S cizím státním občanstvím | J30: 1008 | K30: 1020 | L30: 0 | M30: 302 | N30: 0 | O30: 204 | P30: 209 | Q30: 0 | R30: 156 | S30: 3 | T30: 1212 | U30: 1229 | V30: 0 | W30: 458 | X30: 3
E31: Celkem | J31: 3337 | K31: 3380 | L31: 0 | M31: 906 | N31: 6 | O31: 1917 | P31: 1998 | Q31: 0 | R31: 1482 | S31: 12 | T31: 5254 | U31: 5378 | V31: 0 | W31: 2387 | X31: 18
D32: 2020
E33: Se státním občanstvím ČR | J33: 2506 | K33: 2527 | L33: 0 | M33: 719 | N33: 1 | O33: 1429 | P33: 1486 | Q33: 0 | R33: 1115 | S33: 8 | T33: 3935 | U33: 4013 | V33: 0 | W33: 1834 | X33: 9
E34: S cizím státním občanstvím | J34: 787 | K34: 791 | L34: 0 | M34: 253 | N34: 3 | O34: 173 | P34: 176 | Q34: 0 | R34: 143 | S34: 11 | T34: 960 | U34: 967 | V34: 0 | W34: 396 | X34: 14
E35: Celkem | J35: 3293 | K35: 3318 | L35: 0 | M35: 972 | N35: 4 | O35: 1602 | P35: 1662 | Q35: 0 | R35: 1258 | S35: 19 | T35: 4895 | U35: 4980 | V35: 0 | W35: 2230 | X35: 23
D36: 2021
E37: Se státním občanstvím ČR | J37: 2825 | K37: 2870 | L37: 0 | M37: 705 | N37: 1 | O37: 1728 | P37: 1816 | Q37: 0 | R37: 1222 | S37: 8 | T37: 4553 | U37: 4686 | V37: 0 | W37: 1926 | X37: 9
E38: S cizím státním občanstvím | J38: 813 | K38: 822 | L38: 0 | M38: 231 | N38: 1 | O38: 274 | P38: 276 | Q38: 0 | R38: 111 | S38: 12 | T38: 1087 | U38: 1098 | V38: 0 | W38: 342 | X38: 13
E39: Celkem | J39: 3638 | K39: 3692 | L39: 0 | M39: 936 | N39: 2 | O39: 2002 | P39: 2092 | Q39: 0 | R39: 1333 | S39: 20 | T39: 5640 | U39: 5784 | V39: 0 | W39: 2268 | X39: 22
D40: 2022
E41: Se státním občanstvím ČR | J41: 2775 | K41: 2825 | L41: 0 | M41: 616 | N41: 2 | O41: 1465 | P41: 1525 | Q41: 0 | R41: 1060 | S41: 22 | T41: 4240 | U41: 4350 | V41: 0 | W41: 1675 | X41: 24
E42: S cizím státním občanstvím | J42: 1062 | K42: 1066 | L42: 0 | M42: 226 | N42: 0 | O42: 243 | P42: 243 | Q42: 0 | R42: 117 | S42: 10 | T42: 1305 | U42: 1309 | V42: 0 | W42: 343 | X42: 10
E43: Celkem | J43: 3837 | K43: 3891 | L43: 0 | M43: 842 | N43: 2 | O43: 1708 | P43: 1768 | Q43: 0 | R43: 1177 | S43: 32 | T43: 5545 | U43: 5659 | V43: 0 | W43: 2018 | X43: 34
D44: 2023
E45: Se státním občanstvím ČR | J45: 2959 | K45: 2987 | L45: 0 | M45: 786 | N45: 1 | O45: 1461 | P45: 1509 | Q45: 0 | R45: 1035 | S45: 13 | T45: 4417 | U45: 4493 | V45: 0 | W45: 1820 | X45: 14
E46: S cizím státním občanstvím | J46: 1158 | K46: 1161 | L46: 0 | M46: 233 | N46: 1 | O46: 252 | P46: 259 | Q46: 0 | R46: 133 | S46: 6 | T46: 1410 | U46: 1420 | V46: 0 | W46: 366 | X46: 7
E47: Celkem | J47: 4117 | K47: 4148 | L47: 0 | M47: 1019 | N47: 2 | O47: 1713 | P47: 1768 | Q47: 0 | R47: 1168 | S47: 19 | T47: 5827 | U47: 5913 | V47: 0 | W47: 2186 | X47: 21
D48: 2024
E49: Se státním občanstvím ČR | J49: 3275 | K49: 3334 | L49: 0 | M49: 959 | N49: 4 | O49: 1505 | P49: 1580 | Q49: 0 | R49: 1156 | S49: 6 | T49: 4779 | U49: 4913 | V49: 0 | W49: 2114 | X49: 10
E50: S cizím státním občanstvím | J50: 1266 | K50: 1276 | L50: 0 | M50: 281 | N50: 7 | O50: 255 | P50: 259 | Q50: 0 | R50: 157 | S50: 2 | T50: 1521 | U50: 1535 | V50: 0 | W50: 438 | X50: 9
E51: Celkem | J51: 4541 | K51: 4610 | L51: 0 | M51: 1240 | N51: 11 | O51: 1760 | P51: 1839 | Q51: 0 | R51: 1313 | S51: 8 | T51: 6300 | U51: 6448 | V51: 0 | W51: 2552 | X51: 19
D52: 2025
E53: Se státním občanstvím ČR | J53: 3582 | K53: 3617 | L53: 0 | M53: 1067 | N53: 8 | O53: 1527 | P53: 1599 | Q53: 0 | R53: 1167 | S53: 11 | T53: 5109 | U53: 5216 | V53: 0 | W53: 2233 | X53: 19
E54: S cizím státním občanstvím | J54: 2356 | K54: 2364 | L54: 0 | M54: 364 | N54: 2 | O54: 321 | P54: 322 | Q54: 0 | R54: 167 | S54: 2 | T54: 2677 | U54: 2686 | V54: 0 | W54: 531 | X54: 4
E55: Celkem | J55: 5938 | K55: 5981 | L55: 0 | M55: 1431 | N55: 10 | O55: 1848 | P55: 1921 | Q55: 0 | R55: 1334 | S55: 13 | T55: 7786 | U55: 7902 | V55: 0 | W55: 2764 | X55: 23
D56: Komentáře: | X56: Zdroj: databáze MŠMT
E57: Data bez škol jiných resortů.
E58: Do celkového počtu poprvé zapsaných nejsou započteni poprvé zapsaní do navazujících magisterských a doktorských studijních programů. Údaje za fyzické osoby za kalendářní rok (např. 2020/21 = kalendářní rok 2020).
E59: Údaje ve fyzických osobách k 31. 12. daného roku, podle stavu SIMS k 20. 1. 2026.

Sheet B7.3.7
D4: Tab. B7.3.7: | H4: Veřejné a soukromé VŠ – počty absolventů podle formy studia a typu studijního programu
D5: v letech 2015 až 2025 – podle státního občanství
D7: Státní občanství | J7: Prezenční studium v programu studia | O7: Distanční a kombinované studium v programu studia | T7: Celkem v programu studia
J9: celkem | K9: bakalář-ském | L9: magis-terském | M9: mag. navazu-jícím | N9: doktor-ském | O9: celkem | P9: bakalář-ském | Q9: magis-terském | R9: mag. navazu-jícím | S9: doktor-ském | T9: celkem | U9: bakalář-ském | V9: magis-terském | W9: mag. navazu-jícím | X9: doktor-ském
D12: 2015
E13: Se státním občanstvím ČR | J13: 54091 | K13: 29665 | L13: 3948 | M13: 20064 | N13: 464 | O13: 20105 | P13: 10172 | Q13: 239 | R13: 8092 | S13: 1610 | T13: 74121 | U13: 39817 | V13: 4187 | W13: 28129 | X13: 2074
E14: S cizím státním občanstvím | J14: 6591 | K14: 3240 | L14: 812 | M14: 2453 | N14: 90 | O14: 1332 | P14: 508 | Q14: 2 | R14: 576 | S14: 246 | T14: 7918 | U14: 3747 | V14: 814 | W14: 3026 | X14: 336
E15: Celkem | J15: 60682 | K15: 32905 | L15: 4760 | M15: 22517 | N15: 554 | O15: 21437 | P15: 10680 | Q15: 241 | R15: 8668 | S15: 1856 | T15: 82039 | U15: 43564 | V15: 5001 | W15: 31155 | X15: 2410
D16: 2016
E17: Se státním občanstvím ČR | J17: 51736 | K17: 28236 | L17: 3842 | M17: 19240 | N17: 464 | O17: 17627 | P17: 8902 | Q17: 216 | R17: 6992 | S17: 1522 | T17: 69293 | U17: 37122 | V17: 4058 | W17: 26210 | X17: 1986
E18: S cizím státním občanstvím | J18: 7060 | K18: 3544 | L18: 839 | M18: 2577 | N18: 104 | O18: 1036 | P18: 411 | Q18: 2 | R18: 370 | S18: 253 | T18: 8089 | U18: 3954 | V18: 841 | W18: 2945 | X18: 357
E19: Celkem | J19: 58796 | K19: 31780 | L19: 4681 | M19: 21817 | N19: 568 | O19: 18663 | P19: 9313 | Q19: 218 | R19: 7362 | S19: 1775 | T19: 77382 | U19: 41076 | V19: 4899 | W19: 29155 | X19: 2343
D20: 2017
E21: Se státním občanstvím ČR | J21: 47451 | K21: 25365 | L21: 3515 | M21: 18131 | N21: 470 | O21: 16431 | P21: 7904 | Q21: 223 | R21: 6784 | S21: 1522 | T21: 63803 | U21: 33248 | V21: 3738 | W21: 24889 | X21: 1991
E22: S cizím státním občanstvím | J22: 7324 | K22: 3536 | L22: 1004 | M22: 2647 | N22: 142 | O22: 961 | P22: 350 | Q22: 1 | R22: 356 | S22: 254 | T22: 8282 | U22: 3885 | V22: 1005 | W22: 3001 | X22: 396
E23: Celkem | J23: 54775 | K23: 28901 | L23: 4519 | M23: 20778 | N23: 612 | O23: 17392 | P23: 8254 | Q23: 224 | R23: 7140 | S23: 1776 | T23: 72084 | U23: 37132 | V23: 4743 | W23: 27890 | X23: 2387
D24: 2018
E25: Se státním občanstvím ČR | J25: 44550 | K25: 23413 | L25: 3439 | M25: 17190 | N25: 537 | O25: 15500 | P25: 7299 | Q25: 204 | R25: 6568 | S25: 1433 | T25: 59993 | U25: 30695 | V25: 3643 | W25: 23738 | X25: 1970
E26: S cizím státním občanstvím | J26: 7703 | K26: 3821 | L26: 895 | M26: 2842 | N26: 147 | O26: 886 | P26: 279 | Q26: 1 | R26: 351 | S26: 255 | T26: 8581 | U26: 4097 | V26: 896 | W26: 3189 | X26: 402
E27: Celkem | J27: 52253 | K27: 27234 | L27: 4334 | M27: 20032 | N27: 684 | O27: 16386 | P27: 7578 | Q27: 205 | R27: 6919 | S27: 1688 | T27: 68574 | U27: 34792 | V27: 4539 | W27: 26927 | X27: 2372
D28: 2019
E29: Se státním občanstvím ČR | J29: 41102 | K29: 21760 | L29: 3376 | M29: 15413 | N29: 583 | O29: 14366 | P29: 6738 | Q29: 227 | R29: 6082 | S29: 1323 | T29: 55412 | U29: 28485 | V29: 3603 | W29: 21475 | X29: 1906
E30: S cizím státním občanstvím | J30: 7945 | K30: 3751 | L30: 966 | M30: 3050 | N30: 179 | O30: 905 | P30: 308 | Q30: 1 | R30: 372 | S30: 224 | T30: 8846 | U30: 4057 | V30: 967 | W30: 3420 | X30: 403
E31: Celkem | J31: 49046 | K31: 25511 | L31: 4342 | M31: 18463 | N31: 762 | O31: 15271 | P31: 7046 | Q31: 228 | R31: 6454 | S31: 1547 | T31: 64257 | U31: 32542 | V31: 4570 | W31: 24895 | X31: 2309
D32: 2020
E33: Se státním občanstvím ČR | J33: 40067 | K33: 22064 | L33: 3145 | M33: 14323 | N33: 557 | O33: 14024 | P33: 6661 | Q33: 223 | R33: 6218 | S33: 925 | T33: 54046 | U33: 28713 | V33: 3368 | W33: 20529 | X33: 1482
E34: S cizím státním občanstvím | J34: 8064 | K34: 3544 | L34: 1035 | M34: 3308 | N34: 180 | O34: 855 | P34: 281 | Q34: 1 | R34: 389 | S34: 184 | T34: 8915 | U34: 3825 | V34: 1036 | W34: 3694 | X34: 364
E35: Celkem | J35: 48131 | K35: 25608 | L35: 4180 | M35: 17631 | N35: 737 | O35: 14879 | P35: 6942 | Q35: 224 | R35: 6607 | S35: 1109 | T35: 62961 | U35: 32538 | V35: 4404 | W35: 24223 | X35: 1846
D36: 2021
E37: Se státním občanstvím ČR | J37: 38961 | K37: 22120 | L37: 3041 | M37: 13144 | N37: 669 | O37: 12749 | P37: 5995 | Q37: 174 | R37: 5623 | S37: 961 | T37: 51671 | U37: 28105 | V37: 3215 | W37: 18757 | X37: 1630
E38: S cizím státním občanstvím | J38: 8027 | K38: 3500 | L38: 1037 | M38: 3250 | N38: 245 | O38: 902 | P38: 285 | Q38: 1 | R38: 407 | S38: 209 | T38: 8927 | U38: 3785 | V38: 1038 | W38: 3657 | X38: 454
E39: Celkem | J39: 46988 | K39: 25620 | L39: 4078 | M39: 16394 | N39: 914 | O39: 13651 | P39: 6280 | Q39: 175 | R39: 6030 | S39: 1170 | T39: 60598 | U39: 31890 | V39: 4253 | W39: 22414 | X39: 2084
D40: 2022
E41: Se státním občanstvím ČR | J41: 38726 | K41: 21716 | L41: 3109 | M41: 13178 | N41: 738 | O41: 11355 | P41: 5467 | Q41: 190 | R41: 4861 | S41: 837 | T41: 50046 | U41: 27177 | V41: 3299 | W41: 18027 | X41: 1575
E42: S cizím státním občanstvím | J42: 7994 | K42: 3626 | L42: 1056 | M42: 3006 | N42: 307 | O42: 687 | P42: 231 | Q42: 3 | R42: 292 | S42: 162 | T42: 8676 | U42: 3857 | V42: 1059 | W42: 3295 | X42: 469
E43: Celkem | J43: 46720 | K43: 25342 | L43: 4165 | M43: 16184 | N43: 1045 | O43: 12042 | P43: 5698 | Q43: 193 | R43: 5153 | S43: 999 | T43: 58722 | U43: 31034 | V43: 4358 | W43: 21322 | X43: 2044
D44: 2023
E45: Se státním občanstvím ČR | J45: 41608 | K45: 23738 | L45: 3263 | M45: 13702 | N45: 924 | O45: 12202 | P45: 5760 | Q45: 191 | R45: 5472 | S45: 784 | T45: 53762 | U45: 29481 | V45: 3454 | W45: 19158 | X45: 1708
E46: S cizím státním občanstvím | J46: 8687 | K46: 3972 | L46: 1013 | M46: 3307 | N46: 396 | O46: 783 | P46: 299 | Q46: 1 | R46: 307 | S46: 176 | T46: 9469 | U46: 4271 | V46: 1014 | W46: 3613 | X46: 572
E47: Celkem | J47: 50295 | K47: 27710 | L47: 4276 | M47: 17009 | N47: 1320 | O47: 12985 | P47: 6059 | Q47: 192 | R47: 5779 | S47: 960 | T47: 63231 | U47: 33752 | V47: 4468 | W47: 22771 | X47: 2280
D48: 2024
E49: Se státním občanstvím ČR | J49: 43597 | K49: 25022 | L49: 3454 | M49: 13933 | N49: 1205 | O49: 12820 | P49: 6215 | Q49: 339 | R49: 5144 | S49: 1124 | T49: 56357 | U49: 31219 | V49: 3793 | W49: 19061 | X49: 2328
E50: S cizím státním občanstvím | J50: 9125 | K50: 4155 | L50: 961 | M50: 3463 | N50: 547 | O50: 917 | P50: 300 | Q50: 0 | R50: 347 | S50: 270 | T50: 10040 | U50: 4455 | V50: 961 | W50: 3810 | X50: 817
E51: Celkem | J51: 52722 | K51: 29177 | L51: 4415 | M51: 17396 | N51: 1752 | O51: 13737 | P51: 6515 | Q51: 339 | R51: 5491 | S51: 1394 | T51: 66396 | U51: 35674 | V51: 4754 | W51: 22870 | X51: 3145
D52: 2025
E53: Se státním občanstvím ČR | J53: 45961 | K53: 26687 | L53: 3459 | M53: 14894 | N53: 939 | O53: 12029 | P53: 5864 | Q53: 229 | R53: 5400 | S53: 540 | T53: 57929 | U53: 32532 | V53: 3688 | W53: 20271 | X53: 1479
E54: S cizím státním občanstvím | J54: 10276 | K54: 5099 | L54: 1054 | M54: 3572 | N54: 551 | O54: 873 | P54: 328 | Q54: 0 | R54: 361 | S54: 184 | T54: 11147 | U54: 5427 | V54: 1054 | W54: 3931 | X54: 735
E55: Celkem | J55: 56237 | K55: 31786 | L55: 4513 | M55: 18466 | N55: 1490 | O55: 12902 | P55: 6192 | Q55: 229 | R55: 5761 | S55: 724 | T55: 69076 | U55: 37959 | V55: 4742 | W55: 24202 | X55: 2214
D56: Komentáře: | X56: Zdroj: databáze MŠMT
E57: Data bez škol jiných resortů.
E58: Údaje za fyzické osoby za kalendářní rok (např. 2020/21 = kalendářní rok 2020).
E59: Údaje ve fyzických osobách k 31. 12. daného roku, podle stavu SIMS k 20. 1. 2026.

Sheet B7.3.7.1
D4: Tab. B7.3.7.1: | H4: Veřejné VŠ – počty absolventů podle formy studia a typu studijního programu
D5: v letech 2015 až 2025 – podle státního občanství
D7: Státní občanství | J7: Prezenční studium v programu studia | O7: Distanční a kombinované studium v programu studia | T7: Celkem v programu studia
J9: celkem | K9: bakalář-ském | L9: magis-terském | M9: mag. navazu-jícím | N9: doktor-ském | O9: celkem | P9: bakalář-ském | Q9: magis-terském | R9: mag. navazu-jícím | S9: doktor-ském | T9: celkem | U9: bakalář-ském | V9: magis-terském | W9: mag. navazu-jícím | X9: doktor-ském
D12: 2015
E13: Se státním občanstvím ČR | J13: 49972 | K13: 26712 | L13: 3948 | M13: 18902 | N13: 460 | O13: 14565 | P13: 7035 | Q13: 239 | R13: 5696 | S13: 1603 | T13: 64471 | U13: 33730 | V13: 4187 | W13: 24575 | X13: 2063
E14: S cizím státním občanstvím | J14: 5614 | K14: 2545 | L14: 812 | M14: 2173 | N14: 88 | O14: 522 | P14: 131 | Q14: 2 | R14: 144 | S14: 245 | T14: 6131 | U14: 2675 | V14: 814 | W14: 2314 | X14: 333
E15: Celkem | J15: 55586 | K15: 29257 | L15: 4760 | M15: 21075 | N15: 548 | O15: 15087 | P15: 7166 | Q15: 241 | R15: 5840 | S15: 1848 | T15: 70602 | U15: 36405 | V15: 5001 | W15: 26889 | X15: 2396
D16: 2016
E17: Se státním občanstvím ČR | J17: 47929 | K17: 25454 | L17: 3842 | M17: 18217 | N17: 462 | O17: 12910 | P17: 6099 | Q17: 216 | R17: 5087 | S17: 1513 | T17: 60773 | U17: 31539 | V17: 4058 | W17: 23282 | X17: 1975
E18: S cizím státním občanstvím | J18: 6076 | K18: 2839 | L18: 839 | M18: 2298 | N18: 104 | O18: 574 | P18: 155 | Q18: 2 | R18: 164 | S18: 253 | T18: 6644 | U18: 2994 | V18: 841 | W18: 2460 | X18: 357
E19: Celkem | J19: 54005 | K19: 28293 | L19: 4681 | M19: 20515 | N19: 566 | O19: 13484 | P19: 6254 | Q19: 218 | R19: 5251 | S19: 1766 | T19: 67417 | U19: 34533 | V19: 4899 | W19: 25742 | X19: 2332
D20: 2017
E21: Se státním občanstvím ČR | J21: 44177 | K21: 22955 | L21: 3515 | M21: 17270 | N21: 466 | O21: 12122 | P21: 5288 | Q21: 223 | R21: 5097 | S21: 1516 | T21: 56233 | U21: 28224 | V21: 3738 | W21: 22349 | X21: 1981
E22: S cizím státním občanstvím | J22: 6312 | K22: 2820 | L22: 1004 | M22: 2351 | N22: 142 | O22: 553 | P22: 127 | Q22: 1 | R22: 172 | S22: 253 | T22: 6862 | U22: 2946 | V22: 1005 | W22: 2521 | X22: 395
E23: Celkem | J23: 50489 | K23: 25775 | L23: 4519 | M23: 19621 | N23: 608 | O23: 12675 | P23: 5415 | Q23: 224 | R23: 5269 | S23: 1769 | T23: 63094 | U23: 31169 | V23: 4743 | W23: 24870 | X23: 2376
D24: 2018
E25: Se státním občanstvím ČR | J25: 41424 | K25: 21170 | L25: 3439 | M25: 16314 | N25: 530 | O25: 11523 | P25: 4954 | Q25: 204 | R25: 4946 | S25: 1421 | T25: 52895 | U25: 26107 | V25: 3643 | W25: 21244 | X25: 1951
E26: S cizím státním občanstvím | J26: 6760 | K26: 3154 | L26: 895 | M26: 2566 | N26: 147 | O26: 568 | P26: 137 | Q26: 1 | R26: 175 | S26: 255 | T26: 7325 | U26: 3290 | V26: 896 | W26: 2740 | X26: 402
E27: Celkem | J27: 48184 | K27: 24324 | L27: 4334 | M27: 18880 | N27: 677 | O27: 12091 | P27: 5091 | Q27: 205 | R27: 5121 | S27: 1676 | T27: 60220 | U27: 29397 | V27: 4539 | W27: 23984 | X27: 2353
D28: 2019
E29: Se státním občanstvím ČR | J29: 38559 | K29: 19900 | L29: 3376 | M29: 14733 | N29: 579 | O29: 10777 | P29: 4657 | Q29: 227 | R29: 4579 | S29: 1318 | T29: 49283 | U29: 24546 | V29: 3603 | W29: 19293 | X29: 1897
E30: S cizím státním občanstvím | J30: 7034 | K30: 3120 | L30: 966 | M30: 2771 | N30: 178 | O30: 568 | P30: 136 | Q30: 1 | R30: 207 | S30: 224 | T30: 7599 | U30: 3255 | V30: 967 | W30: 2976 | X30: 402
E31: Celkem | J31: 45592 | K31: 23020 | L31: 4342 | M31: 17504 | N31: 757 | O31: 11345 | P31: 4793 | Q31: 228 | R31: 4786 | S31: 1542 | T31: 56881 | U31: 27801 | V31: 4570 | W31: 22269 | X31: 2299
D32: 2020
E33: Se státním občanstvím ČR | J33: 37649 | K33: 20236 | L33: 3145 | M33: 13732 | N33: 555 | O33: 10312 | P33: 4513 | Q33: 223 | R33: 4659 | S33: 920 | T33: 47920 | U33: 24738 | V33: 3368 | W33: 18381 | X33: 1475
E34: S cizím státním občanstvím | J34: 8064 | K34: 3544 | L34: 1035 | M34: 3308 | N34: 180 | O34: 855 | P34: 281 | Q34: 1 | R34: 389 | S34: 184 | T34: 7791 | U34: 3110 | V34: 1036 | W34: 3283 | X34: 364
E35: Celkem | J35: 44888 | K35: 23206 | L35: 4180 | M35: 16787 | N35: 735 | O35: 10868 | P35: 4653 | Q35: 224 | R35: 4890 | S35: 1104 | T35: 55711 | U35: 27848 | V35: 4404 | W35: 21664 | X35: 1839
D36: 2021
E37: Se státním občanstvím ČR | J37: 36561 | K37: 20236 | L37: 3041 | M37: 12628 | N37: 668 | O37: 9593 | P37: 4221 | Q37: 174 | R37: 4246 | S37: 956 | T37: 46117 | U37: 24447 | V37: 3215 | W37: 16864 | X37: 1624
E38: S cizím státním občanstvím | J38: 7279 | K38: 2954 | L38: 1037 | M38: 3049 | N38: 244 | O38: 599 | P38: 135 | Q38: 1 | R38: 255 | S38: 208 | T38: 7876 | U38: 3089 | V38: 1038 | W38: 3304 | X38: 452
E39: Celkem | J39: 43840 | K39: 23190 | L39: 4078 | M39: 15677 | N39: 912 | O39: 10192 | P39: 4356 | Q39: 175 | R39: 4501 | S39: 1164 | T39: 53993 | U39: 27536 | V39: 4253 | W39: 20168 | X39: 2076
D40: 2022
E41: Se státním občanstvím ČR | J41: 36326 | K41: 19880 | L41: 3109 | M41: 12617 | N41: 735 | O41: 8512 | P41: 3663 | Q41: 190 | R41: 3826 | S41: 833 | T41: 44805 | U41: 23537 | V41: 3299 | W41: 16432 | X41: 1568
E42: S cizím státním občanstvím | J42: 7289 | K42: 3097 | L42: 1056 | M42: 2830 | N42: 307 | O42: 457 | P42: 104 | Q42: 3 | R42: 190 | S42: 161 | T42: 7742 | U42: 3201 | V42: 1059 | W42: 3018 | X42: 468
E43: Celkem | J43: 43615 | K43: 22977 | L43: 4165 | M43: 15447 | N43: 1042 | O43: 8969 | P43: 3767 | Q43: 193 | R43: 4016 | S43: 994 | T43: 52547 | U43: 26738 | V43: 4358 | W43: 19450 | X43: 2036
D44: 2023
E45: Se státním občanstvím ČR | J45: 38991 | K45: 21739 | L45: 3263 | M45: 13085 | N45: 921 | O45: 9339 | P45: 4054 | Q45: 191 | R45: 4314 | S45: 783 | T45: 48286 | U45: 25778 | V45: 3454 | W45: 17384 | X45: 1704
E46: S cizím státním občanstvím | J46: 7986 | K46: 3436 | L46: 1013 | M46: 3142 | N46: 396 | O46: 545 | P46: 160 | Q46: 1 | R46: 213 | S46: 171 | T46: 8530 | U46: 3596 | V46: 1014 | W46: 3354 | X46: 567
E47: Celkem | J47: 46977 | K47: 25175 | L47: 4276 | M47: 16227 | N47: 1317 | O47: 9884 | P47: 4214 | Q47: 192 | R47: 4527 | S47: 954 | T47: 56816 | U47: 29374 | V47: 4468 | W47: 20738 | X47: 2271
D48: 2024
E49: Se státním občanstvím ČR | J49: 40723 | K49: 22741 | L49: 3454 | M49: 13343 | N49: 1202 | O49: 10025 | P49: 4486 | Q49: 339 | R49: 4080 | S49: 1122 | T49: 50695 | U49: 27211 | V49: 3793 | W49: 17410 | X49: 2323
E50: S cizím státním občanstvím | J50: 8451 | K50: 3662 | L50: 961 | M50: 3283 | N50: 546 | O50: 682 | P50: 162 | Q50: 0 | R50: 254 | S50: 266 | T50: 9131 | U50: 3824 | V50: 961 | W50: 3537 | X50: 812
E51: Celkem | J51: 49174 | K51: 26403 | L51: 4415 | M51: 16626 | N51: 1748 | O51: 10707 | P51: 4648 | Q51: 339 | R51: 4334 | S51: 1388 | T51: 59825 | U51: 31035 | V51: 4754 | W51: 20946 | X51: 3135
D52: 2025
E53: Se státním občanstvím ČR | J53: 42491 | K53: 23983 | L53: 3459 | M53: 14131 | N53: 936 | O53: 8979 | P53: 3997 | Q53: 229 | R53: 4218 | S53: 538 | T53: 51415 | U53: 27961 | V53: 3688 | W53: 18330 | X53: 1474
E54: S cizím státním občanstvím | J54: 9254 | K54: 4253 | L54: 1054 | M54: 3396 | N54: 551 | O54: 567 | P54: 159 | Q54: 0 | R54: 228 | S54: 180 | T54: 9819 | U54: 4412 | V54: 1054 | W54: 3622 | X54: 731
E55: Celkem | J55: 51745 | K55: 28236 | L55: 4513 | M55: 17527 | N55: 1487 | O55: 9546 | P55: 4156 | Q55: 229 | R55: 4446 | S55: 718 | T55: 61234 | U55: 32373 | V55: 4742 | W55: 21952 | X55: 2205
D56: Komentáře: | X56: Zdroj: databáze MŠMT
E57: Data bez škol jiných resortů.
E58: Údaje za fyzické osoby za kalendářní rok (např. 2020/21 = kalendářní rok 2020).
E59: Údaje ve fyzických osobách k 31. 12. daného roku, podle stavu SIMS k 22. 1. 2025.

Sheet B7.3.7.2
D4: Tab. B7.3.7.2: | H4: Soukromé VŠ – počty absolventů podle formy studia a typu studijního programu
D5: v letech 2015 až 2025 – podle státního občanství
D7: Státní občanství | J7: Prezenční studium v programu studia | O7: Distanční a kombinované studium v programu studia | T7: Celkem v programu studia
J9: celkem | K9: bakalář-ském | L9: magis-terském | M9: mag. navazu-jícím | N9: doktor-ském | O9: celkem | P9: bakalář-ském | Q9: magis-terském | R9: mag. navazu-jícím | S9: doktor-ském | T9: celkem | U9: bakalář-ském | V9: magis-terském | W9: mag. navazu-jícím | X9: doktor-ském
D12: 2015
E13: Se státním občanstvím ČR | J13: 4120 | K13: 2954 | L13: 0 | M13: 1162 | N13: 4 | O13: 5540 | P13: 3137 | Q13: 0 | R13: 2396 | S13: 7 | T13: 9659 | U13: 6090 | V13: 0 | W13: 3558 | X13: 11
E14: S cizím státním občanstvím | J14: 978 | K14: 695 | L14: 0 | M14: 281 | N14: 2 | O14: 810 | P14: 377 | Q14: 0 | R14: 432 | S14: 1 | T14: 1788 | U14: 1072 | V14: 0 | W14: 713 | X14: 3
E15: Celkem | J15: 5098 | K15: 3649 | L15: 0 | M15: 1443 | N15: 6 | O15: 6350 | P15: 3514 | Q15: 0 | R15: 2828 | S15: 8 | T15: 11447 | U15: 7162 | V15: 0 | W15: 4271 | X15: 14
D16: 2016
E17: Se státním občanstvím ČR | J17: 3807 | K17: 2782 | L17: 0 | M17: 1023 | N17: 2 | O17: 4717 | P17: 2803 | Q17: 0 | R17: 1905 | S17: 9 | T17: 8523 | U17: 5585 | V17: 0 | W17: 2928 | X17: 11
E18: S cizím státním občanstvím | J18: 984 | K18: 705 | L18: 0 | M18: 279 | N18: 0 | O18: 462 | P18: 256 | Q18: 0 | R18: 206 | S18: 0 | T18: 1445 | U18: 960 | V18: 0 | W18: 485 | X18: 0
E19: Celkem | J19: 4791 | K19: 3487 | L19: 0 | M19: 1302 | N19: 2 | O19: 5179 | P19: 3059 | Q19: 0 | R19: 2111 | S19: 9 | T19: 9968 | U19: 6545 | V19: 0 | W19: 3413 | X19: 11
D20: 2017
E21: Se státním občanstvím ČR | J21: 3275 | K21: 2410 | L21: 0 | M21: 861 | N21: 4 | O21: 4311 | P21: 2617 | Q21: 0 | R21: 1688 | S21: 6 | T21: 7580 | U21: 5026 | V21: 0 | W21: 2545 | X21: 10
E22: S cizím státním občanstvím | J22: 1012 | K22: 716 | L22: 0 | M22: 296 | N22: 0 | O22: 408 | P22: 223 | Q22: 0 | R22: 184 | S22: 1 | T22: 1420 | U22: 939 | V22: 0 | W22: 480 | X22: 1
E23: Celkem | J23: 4287 | K23: 3126 | L23: 0 | M23: 1157 | N23: 4 | O23: 4719 | P23: 2840 | Q23: 0 | R23: 1872 | S23: 7 | T23: 9000 | U23: 5965 | V23: 0 | W23: 3025 | X23: 11
D24: 2018
E25: Se státním občanstvím ČR | J25: 3127 | K25: 2243 | L25: 0 | M25: 877 | N25: 7 | O25: 3978 | P25: 2345 | Q25: 0 | R25: 1622 | S25: 12 | T25: 7102 | U25: 4588 | V25: 0 | W25: 2496 | X25: 19
E26: S cizím státním občanstvím | J26: 943 | K26: 667 | L26: 0 | M26: 276 | N26: 0 | O26: 318 | P26: 142 | Q26: 0 | R26: 176 | S26: 0 | T26: 1257 | U26: 808 | V26: 0 | W26: 449 | X26: 0
E27: Celkem | J27: 4070 | K27: 2910 | L27: 0 | M27: 1153 | N27: 7 | O27: 4296 | P27: 2487 | Q27: 0 | R27: 1798 | S27: 12 | T27: 8359 | U27: 5396 | V27: 0 | W27: 2945 | X27: 19
D28: 2019
E29: Se státním občanstvím ČR | J29: 2546 | K29: 1862 | L29: 0 | M29: 680 | N29: 4 | O29: 3589 | P29: 2081 | Q29: 0 | R29: 1503 | S29: 5 | T29: 6135 | U29: 3943 | V29: 0 | W29: 2183 | X29: 9
E30: S cizím státním občanstvím | J30: 911 | K30: 631 | L30: 0 | M30: 279 | N30: 1 | O30: 337 | P30: 172 | Q30: 0 | R30: 165 | S30: 0 | T30: 1247 | U30: 802 | V30: 0 | W30: 444 | X30: 1
E31: Celkem | J31: 3457 | K31: 2493 | L31: 0 | M31: 959 | N31: 5 | O31: 3926 | P31: 2253 | Q31: 0 | R31: 1668 | S31: 5 | T31: 7382 | U31: 4745 | V31: 0 | W31: 2627 | X31: 10
D32: 2020
E33: Se státním občanstvím ČR | J33: 2422 | K33: 1829 | L33: 0 | M33: 591 | N33: 2 | O33: 3712 | P33: 2148 | Q33: 0 | R33: 1559 | S33: 5 | T33: 6133 | U33: 3977 | V33: 0 | W33: 2149 | X33: 7
E34: S cizím státním občanstvím | J34: 826 | K34: 574 | L34: 0 | M34: 253 | N34: 0 | O34: 299 | P34: 141 | Q34: 0 | R34: 158 | S34: 0 | T34: 1125 | U34: 715 | V34: 0 | W34: 411 | X34: 0
E35: Celkem | J35: 3248 | K35: 2403 | L35: 0 | M35: 844 | N35: 2 | O35: 4011 | P35: 2289 | Q35: 0 | R35: 1717 | S35: 5 | T35: 7258 | U35: 4692 | V35: 0 | W35: 2560 | X35: 7
D36: 2021
E37: Se státním občanstvím ČR | J37: 2401 | K37: 1885 | L37: 0 | M37: 516 | N37: 1 | O37: 3156 | P37: 1774 | Q37: 0 | R37: 1377 | S37: 5 | T37: 5557 | U37: 3659 | V37: 0 | W37: 1893 | X37: 6
E38: S cizím státním občanstvím | J38: 748 | K38: 546 | L38: 0 | M38: 201 | N38: 1 | O38: 303 | P38: 150 | Q38: 0 | R38: 152 | S38: 1 | T38: 1051 | U38: 696 | V38: 0 | W38: 353 | X38: 2
E39: Celkem | J39: 3149 | K39: 2431 | L39: 0 | M39: 717 | N39: 2 | O39: 3459 | P39: 1924 | Q39: 0 | R39: 1529 | S39: 6 | T39: 6608 | U39: 4355 | V39: 0 | W39: 2246 | X39: 8
D40: 2022
E41: Se státním občanstvím ČR | J41: 2401 | K41: 1837 | L41: 0 | M41: 561 | N41: 3 | O41: 2844 | P41: 1804 | Q41: 0 | R41: 1036 | S41: 4 | T41: 5245 | U41: 3641 | V41: 0 | W41: 1597 | X41: 7
E42: S cizím státním občanstvím | J42: 705 | K42: 529 | L42: 0 | M42: 176 | N42: 0 | O42: 230 | P42: 127 | Q42: 0 | R42: 102 | S42: 1 | T42: 935 | U42: 656 | V42: 0 | W42: 278 | X42: 1
E43: Celkem | J43: 3106 | K43: 2366 | L43: 0 | M43: 737 | N43: 3 | O43: 3074 | P43: 1931 | Q43: 0 | R43: 1138 | S43: 5 | T43: 6180 | U43: 4297 | V43: 0 | W43: 1875 | X43: 8
D44: 2023
E45: Se státním občanstvím ČR | J45: 2619 | K45: 1999 | L45: 0 | M45: 617 | N45: 3 | O45: 2865 | P45: 1706 | Q45: 0 | R45: 1158 | S45: 1 | T45: 5483 | U45: 3705 | V45: 0 | W45: 1774 | X45: 4
E46: S cizím státním občanstvím | J46: 701 | K46: 536 | L46: 0 | M46: 165 | N46: 0 | O46: 238 | P46: 139 | Q46: 0 | R46: 94 | S46: 5 | T46: 939 | U46: 675 | V46: 0 | W46: 259 | X46: 5
E47: Celkem | J47: 3320 | K47: 2535 | L47: 0 | M47: 782 | N47: 3 | O47: 3103 | P47: 1845 | Q47: 0 | R47: 1252 | S47: 6 | T47: 6422 | U47: 4380 | V47: 0 | W47: 2033 | X47: 9
D48: 2024
E49: Se státním občanstvím ČR | J49: 2875 | K49: 2282 | L49: 0 | M49: 590 | N49: 3 | O49: 2796 | P49: 1729 | Q49: 0 | R49: 1065 | S49: 2 | T49: 5669 | U49: 4011 | V49: 0 | W49: 1654 | X49: 5
E50: S cizím státním občanstvím | J50: 674 | K50: 493 | L50: 0 | M50: 180 | N50: 1 | O50: 235 | P50: 138 | Q50: 0 | R50: 93 | S50: 4 | T50: 909 | U50: 631 | V50: 0 | W50: 273 | X50: 5
E51: Celkem | J51: 3549 | K51: 2775 | L51: 0 | M51: 770 | N51: 4 | O51: 3031 | P51: 1867 | Q51: 0 | R51: 1158 | S51: 6 | T51: 6578 | U51: 4642 | V51: 0 | W51: 1927 | X51: 10
D52: 2025
E53: Se státním občanstvím ČR | J53: 3472 | K53: 2705 | L53: 0 | M53: 764 | N53: 3 | O53: 3053 | P53: 1867 | Q53: 0 | R53: 1185 | S53: 2 | T53: 6524 | U53: 4572 | V53: 0 | W53: 1948 | X53: 5
E54: S cizím státním občanstvím | J54: 1023 | K54: 847 | L54: 0 | M54: 176 | N54: 0 | O54: 306 | P54: 169 | Q54: 0 | R54: 133 | S54: 4 | T54: 1329 | U54: 1016 | V54: 0 | W54: 309 | X54: 4
E55: Celkem | J55: 4495 | K55: 3552 | L55: 0 | M55: 940 | N55: 3 | O55: 3359 | P55: 2036 | Q55: 0 | R55: 1318 | S55: 6 | T55: 7853 | U55: 5588 | V55: 0 | W55: 2257 | X55: 9
D56: Komentáře: | X56: Zdroj: databáze MŠMT
E57: Data bez škol jiných resortů.
E58: Údaje za fyzické osoby za kalendářní rok (např. 2020/21 = kalendářní rok 2020).
E59: Údaje ve fyzických osobách k 31. 12. daného roku, podle stavu SIMS k 20. 1. 2026.

Sheet B7.3.8
D4: Tab. B7.3.8: | H4: VŠ – přehled o přijímacím řízení
D5: v letech 2015 až 2025 – podle formy studia a typu studijního programu
D7: Forma studia Druh studia | J7: Počet podaných přihlášek | K7: Počet přihlášených 1) | L7: Počet přihlášených, kteří se dostavili k přijímacímu řízení | M7: Index přihlášek | N7: Počet přijatých 2) | O7: Počet zapsaných 3) | P7: Počet přijatých z přihlášených v % | Q7: Úspěšnost uchazečů v % 4)
D12: 2015
E13: Celkem | J13: 243718 | K13: 113093 | L13: 103442 | M13: 2.1550229 | N13: 80302 | O13: 74833 | P13: 0.71005279 | Q13: 0.77629976
E14: Prezenční studium | J14: 197353 | K14: 81826 | L14: 76019 | M14: 2.4118618 | N14: 59402 | O14: 55299 | P14: 0.72595508 | Q14: 0.78140991
E15: v tom | F15: bakalářský studijní program | J15: 167100 | K15: 77049 | L15: 71501 | M15: 2.1687498 | N15: 56533 | O15: 51032 | P15: 0.73372789 | Q15: 0.79066027
F16: magisterský studijní program | J16: 30253 | K16: 14805 | L16: 13395 | M16: 2.0434313 | N16: 5159 | O16: 4606 | P16: 0.34846336 | Q16: 0.38514371
E17: Distanční a kombinované studium | J17: 46365 | K17: 36844 | L17: 31626 | M17: 1.2584139 | N17: 22411 | O17: 20003 | P17: 0.60826729 | Q17: 0.70862581
E18: v tom | F18: bakalářský studijní program | J18: 45072 | K18: 36176 | L18: 31051 | M18: 1.2459089 | N18: 22031 | O18: 19646 | P18: 0.60899491 | Q18: 0.70951016
F19: magisterský studijní program | J19: 1293 | K19: 1037 | L19: 896 | M19: 1.246866 | N19: 455 | O19: 378 | P19: 0.43876567 | Q19: 0.5078125
D20: 2016
E21: Celkem | J21: 224151 | K21: 102791 | L21: 94068 | M21: 2.1806481 | N21: 74767 | O21: 69839 | P21: 0.72736913 | Q21: 0.79481864
E22: Prezenční studium | J22: 184010 | K22: 75528 | L22: 70245 | M22: 2.436315 | N22: 55769 | O22: 51929 | P22: 0.73838841 | Q22: 0.79392128
E23: v tom | F23: bakalářský studijní program | J23: 154760 | K23: 71028 | L23: 66005 | M23: 2.178859 | N23: 52913 | O23: 47748 | P23: 0.74495973 | Q23: 0.80165139
F24: magisterský studijní program | J24: 29250 | K24: 14060 | L24: 12639 | M24: 2.0803698 | N24: 5044 | O24: 4474 | P24: 0.35874822 | Q24: 0.39908221
E25: Distanční a kombinované studium | J25: 40141 | K25: 32234 | L25: 27655 | M25: 1.2453 | N25: 20484 | O25: 18352 | P25: 0.63547807 | Q25: 0.74069788
E26: v tom | F26: bakalářský studijní program | J26: 39054 | K26: 31617 | L26: 27109 | M26: 1.2352216 | N26: 20081 | O26: 17967 | P26: 0.635133 | Q26: 0.7407503
F27: magisterský studijní program | J27: 1087 | K27: 884 | L27: 761 | M27: 1.229638 | N27: 448 | O27: 398 | P27: 0.50678733 | Q27: 0.58869908
D28: 2017
E29: Celkem | J29: 213317 | K29: 97998 | L29: 90528 | M29: 2.1767485 | N29: 74623 | O29: 69911 | P29: 0.76147472 | Q29: 0.8243085
E30: Prezenční studium | J30: 176316 | K30: 72525 | L30: 67944 | M30: 2.4311065 | N30: 55868 | O30: 52223 | P30: 0.77032747 | Q30: 0.8222654
E31: v tom | F31: bakalářský studijní program | J31: 147525 | K31: 68397 | L31: 64113 | M31: 2.1568928 | N31: 52990 | O31: 47876 | P31: 0.77474158 | Q31: 0.82650944
F32: magisterský studijní program | J32: 28791 | K32: 13357 | L32: 11853 | M32: 2.155499 | N32: 5257 | O32: 4670 | P32: 0.3935764 | Q32: 0.44351641
E33: Distanční a kombinované studium | J33: 37001 | K33: 29852 | L33: 25967 | M33: 1.2394814 | N33: 20208 | O33: 18095 | P33: 0.67693957 | Q33: 0.77821851
E34: v tom | F34: bakalářský studijní program | J34: 35935 | K34: 29234 | L34: 25410 | M34: 1.2292194 | N34: 19765 | O34: 17664 | P34: 0.67609633 | Q34: 0.77784337
F35: magisterský studijní program | J35: 1066 | K35: 852 | L35: 734 | M35: 1.2511737 | N35: 493 | O35: 440 | P35: 0.5786385 | Q35: 0.67166213
D36: 2018
E37: Celkem | J37: 204053 | K37: 95137 | L37: 88116 | M37: 2.1448332 | N37: 73350 | O37: 68753 | P37: 0.77099341 | Q37: 0.83242544
E38: Prezenční studium | J38: 170345 | K38: 71584 | L38: 67232 | M38: 2.3796519 | N38: 55845 | O38: 52278 | P38: 0.78013243 | Q38: 0.83063125
E39: v tom | F39: bakalářský studijní program | J39: 143096 | K39: 67609 | L39: 63523 | M39: 2.1165229 | N39: 52756 | O39: 47871 | P39: 0.78031031 | Q39: 0.83050234
F40: magisterský studijní program | J40: 27249 | K40: 12846 | L40: 11466 | M40: 2.121205 | N40: 5405 | O40: 4758 | P40: 0.42075354 | Q40: 0.47139369
E41: Distanční a kombinované studium | J41: 33708 | K41: 27407 | L41: 23851 | M41: 1.2299048 | N41: 18752 | O41: 16849 | P41: 0.68420477 | Q41: 0.78621441
E42: v tom | F42: bakalářský studijní program | J42: 32504 | K42: 26722 | L42: 23240 | M42: 1.216376 | N42: 18238 | O42: 16355 | P42: 0.68250879 | Q42: 0.78476764
F43: magisterský studijní program | J43: 1204 | K43: 937 | L43: 802 | M43: 1.284952 | N43: 566 | O43: 509 | P43: 0.6040555 | Q43: 0.70573566
D44: 2019
E45: Celkem | J45: 211447 | K45: 98127 | L45: 91750 | M45: 2.15483 | N45: 77485 | O45: 72730 | P45: 0.78963996 | Q45: 0.84452316
E46: Prezenční studium | J46: 178803 | K46: 75210 | L46: 71076 | M46: 2.3773833 | N46: 60000 | O46: 56504 | P46: 0.79776625 | Q46: 0.84416681
E47: v tom | F47: bakalářský studijní program | J47: 150663 | K47: 71323 | L47: 67384 | M47: 2.1124041 | N47: 56935 | O47: 51818 | P47: 0.79826984 | Q47: 0.84493352
F48: magisterský studijní program | J48: 28140 | K48: 13049 | L48: 11725 | M48: 2.1564871 | N48: 5699 | O48: 5081 | P48: 0.43673845 | Q48: 0.48605544
E49: Distanční a kombinované studium | J49: 32644 | K49: 26516 | L49: 23277 | M49: 1.2311057 | N49: 18686 | O49: 16593 | P49: 0.70470659 | Q49: 0.80276668
E50: v tom | F50: bakalářský studijní program | J50: 31347 | K50: 25792 | L50: 22632 | M50: 1.2153769 | N50: 18228 | O50: 16140 | P50: 0.70673077 | Q50: 0.80540827
F51: magisterský studijní program | J51: 1297 | K51: 988 | L51: 837 | M51: 1.312753 | N51: 507 | O51: 459 | P51: 0.51315789 | Q51: 0.60573477
D52: 2020
E53: Celkem | J53: 211447 | K53: 98868 | L53: 94769 | M53: 2.1386799 | N53: 79800 | O53: 75605 | P53: 0.80713679 | Q53: 0.8420475
E54: Prezenční studium | J54: 178906 | K54: 75820 | L54: 73020 | M54: 2.3596149 | N54: 61660 | O54: 58513 | P54: 0.81324189 | Q54: 0.84442618
E55: v tom | F55: bakalářský studijní program | J55: 151937 | K55: 72137 | L55: 69415 | M55: 2.1062284 | N55: 58321 | O55: 53893 | P55: 0.80847554 | Q55: 0.84017864
F56: magisterský studijní program | J56: 26969 | K56: 12472 | L56: 11523 | M56: 2.1623637 | N56: 5605 | O56: 5037 | P56: 0.44940667 | Q56: 0.48641847
E57: Distanční a kombinované studium | J57: 32541 | K57: 26748 | L57: 24908 | M57: 1.2165769 | N57: 19523 | O57: 17521 | P57: 0.72988635 | Q57: 0.7838044
E58: v tom | F58: bakalářský studijní program | J58: 31396 | K58: 26104 | L58: 24308 | M58: 1.2027276 | N58: 19114 | O58: 17095 | P58: 0.73222495 | Q58: 0.78632549
F59: magisterský studijní program | J59: 1145 | K59: 919 | L59: 825 | M59: 1.2459195 | N59: 472 | O59: 432 | P59: 0.51360174 | Q59: 0.57212121
D60: 2021
E61: Celkem | J61: 228483 | K61: 102355 | L61: 97078 | M61: 2.2322603 | N61: 79621 | O61: 75265 | P61: 0.77789067 | Q61: 0.82017553
E62: Prezenční studium | J62: 190376 | K62: 76893 | L62: 73635 | M62: 2.4758561 | N62: 61019 | O62: 58123 | P62: 0.79355728 | Q62: 0.82866843
E63: v tom | F63: bakalářský studijní program | J63: 161621 | K63: 72971 | L63: 69819 | M63: 2.2148662 | N63: 57376 | O63: 53310 | P63: 0.78628496 | Q63: 0.82178204
F64: magisterský studijní program | J64: 28755 | K64: 13123 | L64: 11865 | M64: 2.191191 | N64: 5698 | O64: 5201 | P64: 0.4341995 | Q64: 0.48023599
E65: Distanční a kombinované studium | J65: 38107 | K65: 29941 | L65: 27132 | M65: 1.2727364 | N65: 20146 | O65: 17530 | P65: 0.67285662 | Q65: 0.74251806
E66: v tom | F66: bakalářský studijní program | J66: 36381 | K66: 29033 | L66: 26334 | M66: 1.2530913 | N66: 19750 | O66: 17119 | P66: 0.68026039 | Q66: 0.74998101
F67: magisterský studijní program | J67: 1726 | K67: 1340 | L67: 1154 | M67: 1.2880597 | N67: 475 | O67: 423 | P67: 0.35447761 | Q67: 0.41161179
D68: 2022
E69: Celkem | J69: 229775 | K69: 100748 | L69: 93791 | M69: 2.2806904 | N69: 76138 | O69: 72713 | P69: 0.75572716 | Q69: 0.81178365
E70: Prezenční studium | J70: 198143 | K70: 78965 | L70: 69404 | M70: 2.5092509 | N70: 60400 | O70: 57824 | P70: 0.76489584 | Q70: 0.87026684
E71: v tom | F71: bakalářský studijní program | J71: 169322 | K71: 75271 | L71: 66560 | M71: 2.2494985 | N71: 56673 | O71: 53007 | P71: 0.75291945 | Q71: 0.85145733
F72: magisterský studijní program | J72: 28821 | K72: 12973 | L72: 10802 | M72: 2.2216141 | N72: 5725 | O72: 5242 | P72: 0.44130116 | Q72: 0.52999445
E73: Distanční a kombinované studium | J73: 33662 | K73: 26595 | L73: 22362 | M73: 1.2657266 | N73: 17141 | O73: 15277 | P73: 0.64451965 | Q73: 0.76652357
E74: v tom | F74: bakalářský studijní program | J74: 31828 | K74: 25634 | L74: 21595 | M74: 1.2416322 | N74: 16671 | O74: 14802 | P74: 0.6503472 | Q74: 0.77198426
F75: magisterský studijní program | J75: 1804 | K75: 1370 | L75: 1078 | M75: 1.3167883 | N75: 526 | O75: 485 | P75: 0.38394161 | Q75: 0.48794063
D76: 2023
E77: Celkem | J77: 246787 | K77: 104596 | L77: 97645 | M77: 2.3594306 | N77: 78750 | O77: 75215 | P77: 0.75289686 | Q77: 0.80649291
E78: Prezenční studium | J78: 212158 | K78: 82304 | L78: 77836 | M78: 2.5777362 | N78: 62957 | O78: 60355 | P78: 0.76493245 | Q78: 0.80884167
E79: v tom | F79: bakalářský studijní program | J79: 181277 | K79: 78226 | L79: 73801 | M79: 2.3173497 | N79: 59056 | O79: 55051 | P79: 0.75494081 | Q79: 0.80020596
F80: magisterský studijní program | J80: 30881 | K80: 13973 | L80: 12691 | M80: 2.2100479 | N80: 5884 | O80: 5304 | P80: 0.42109783 | Q80: 0.46363565
E81: Distanční a kombinované studium | J81: 35091 | K81: 27401 | L81: 23777 | M81: 1.2806467 | N81: 17262 | O81: 15293 | P81: 0.62997701 | Q81: 0.72599571
E82: v tom | F82: bakalářský studijní program | J82: 33114 | K82: 26349 | L82: 22871 | M82: 1.256746 | N82: 16787 | O82: 14810 | P82: 0.63710198 | Q82: 0.73398627
F83: magisterský studijní program | J83: 1977 | K83: 1505 | L83: 1240 | M83: 1.3136213 | N83: 546 | O83: 483 | P83: 0.3627907 | Q83: 0.44032258
D84: 2024
E85: Celkem | J85: 256025 | K85: 107140 | L85: 100192 | M85: 2.3896304 | N85: 81428 | O85: 77671 | P85: 0.76001493 | Q85: 0.81271958
E86: Prezenční studium | J86: 221602 | K86: 85716 | L86: 74854 | M86: 2.585305 | N86: 65966 | O86: 63139 | P86: 0.76958794 | Q86: 0.88126219
E87: v tom | F87: bakalářský studijní program | J87: 188607 | K87: 81332 | L87: 71014 | M87: 2.3189765 | N87: 62084 | O87: 58015 | P87: 0.76334038 | Q87: 0.87425015
F88: magisterský studijní program | J88: 33535 | K88: 14802 | L88: 12877 | M88: 2.2655722 | N88: 5989 | O88: 5579 | P88: 0.40460749 | Q88: 0.4650928
E89: Distanční a kombinované studium | J89: 34423 | K89: 26935 | L89: 22834 | M89: 1.2780026 | N89: 17173 | O89: 14961 | P89: 0.63757193 | Q89: 0.75208023
E90: v tom | F90: bakalářský studijní program | J90: 32697 | K90: 26058 | L90: 22118 | M90: 1.2547778 | N90: 16722 | O90: 14522 | P90: 0.64172231 | Q90: 0.75603581
F91: magisterský studijní program | J91: 1726 | K91: 1282 | L91: 1046 | M91: 1.3463339 | N91: 506 | O91: 448 | P91: 0.39469579 | Q91: 0.48374761
D92: 2025
E93: Celkem | J93: 271183 | K93: 111357 | L93: 104652 | M93: 2.4352578 | N93: 86281 | O93: 82323 | P93: 0.77481434 | Q93: 0.82445629
E94: Prezenční studium | J94: 236772 | K94: 90335 | L94: 85731 | M94: 2.6210439 | N94: 70595 | O94: 67548 | P94: 0.78148005 | Q94: 0.82344776
E95: v tom | F95: bakalářský studijní program | J95: 201310 | K95: 85847 | L95: 81223 | M95: 2.3449858 | N95: 66736 | O95: 62380 | P95: 0.77738302 | Q95: 0.82163919
F96: magisterský studijní program | J96: 35462 | K96: 15347 | L96: 13999 | M96: 2.3106796 | N96: 6090 | O96: 5624 | P96: 0.39682023 | Q96: 0.43503107
E97: Distanční a kombinované studium | J97: 34601 | K97: 27261 | L97: 23663 | M97: 1.2692491 | N97: 17627 | O97: 15302 | P97: 0.64660137 | Q97: 0.74491823
E98: v tom | F98: bakalářský studijní program | J98: 32876 | K98: 26319 | L98: 22846 | M98: 1.2491356 | N98: 17065 | O98: 14752 | P98: 0.6483909 | Q98: 0.74695789
F99: magisterský studijní program | J99: 1725 | K99: 1306 | L99: 1111 | M99: 1.320827 | N99: 648 | O99: 568 | P99: 0.49617152 | Q99: 0.58325833
D100: Komentáře: | Q100: Zdroj: databáze MŠMT
E101: Data bez škol jiných resortů.
E102: Podle stavu stavu k 31. 10. daného roku.
E103: U VŠ programů se jedná pouze o přihlášené s českým státním občanstvím do bakalářských a magisterských studijních programů.
D104: 1) | E104: Každý uchazeč je započten pouze jednou bez ohledu na to, kolik přihlášek ke studiu podal.
D105: 2) | E105: Každý přijatý je započten pouze jednou bez ohledu na to, na kolik škol byl přijat.
D106: 3) | E106: Každý zapsaný je započten pouze jednou bez ohledu na to, na kolik škol se zapsal.
D107: 4) | E107: Úspěšnost = % přijatých z těch přihlášených, kteří se dostavili k přijímacímu řízení.

Sheet B7.3.8.1
D4: Tab. B7.3.8.1: | H4: Veřejné VŠ – přehled o přijímacím řízení
D5: v letech 2015 až 2025 – podle formy studia a typu studijního programu
D7: Forma studia Druh studia | J7: Počet podaných přihlášek | K7: Počet přihlášených 1) | L7: Počet přihlášených, kteří se dostavili k přijímacímu řízení | M7: Index přihlášek | N7: Počet přijatých 2) | O7: Počet zapsaných 3) | P7: Počet přijatých z přihlášených v % | Q7: Úspěšnost uchazečů v % 4)
D12: 2015
